BEGIN:VCALENDAR
VERSION:2.0
PRODID:-//UM//UM*Events//EN
CALSCALE:GREGORIAN
BEGIN:VTIMEZONE
TZID:America/Detroit
TZURL:http://tzurl.org/zoneinfo/America/Detroit
X-LIC-LOCATION:America/Detroit
BEGIN:DAYLIGHT
TZOFFSETFROM:-0500
TZOFFSETTO:-0400
TZNAME:EDT
DTSTART:20070311T020000
RRULE:FREQ=YEARLY;BYMONTH=3;BYDAY=2SU
END:DAYLIGHT
BEGIN:STANDARD
TZOFFSETFROM:-0400
TZOFFSETTO:-0500
TZNAME:EST
DTSTART:20071104T020000
RRULE:FREQ=YEARLY;BYMONTH=11;BYDAY=1SU
END:STANDARD
END:VTIMEZONE
BEGIN:VEVENT
DTSTAMP:20240812T102513
DTSTART;TZID=America/Detroit:20241114T120000
DTEND;TZID=America/Detroit:20241114T150000
SUMMARY:Other:The Farm Stand
DESCRIPTION:The Farm Stand is a weekly pop-up market and education project that sells produce grown by students for students. It is held on Thursdays from 12pm-3pm from August 22 through mid-November on South Ingalls Mall. Powered by the U-M Sustainable Food Program (UMSFP) and the Campus Farm at Matthaei Botanical Gardens (CF)\, this project seeks to increase access to local food for students and engage the wider U-M community in food systems learning and engagement opportunities. Students receive a 30% discount and the proceeds from the Farm Stand go towards funding student-led sustainable food initiatives here at the U-M through UMSFP’s mini-grants for food justice program.
UID:111676-21852513@events.umich.edu
URL:https://events.umich.edu/event/111676
CLASS:PUBLIC
STATUS:CONFIRMED
CATEGORIES:Food Justice,campus farm,community gathering,cultivating community,education,environmental justice,food,food and the environment,food sustainability,Food System,Health & Wellness,healthy eating,local food,Sustainability,vegetables
LOCATION:
CONTACT:
END:VEVENT
BEGIN:VEVENT
DTSTAMP:20240912T181737
DTSTART;TZID=America/Detroit:20241114T120000
DTEND;TZID=America/Detroit:20241114T123000
SUMMARY:Performance:Tiffany Ng & Eric Whitmer\, carillon
DESCRIPTION:University Carillonist Tiffany Ng & Musicology PhD student Eric Whitmer perform on the Charles Baird Carillon\, an instrument of 53 bronze bells located inside the Burton Memorial Tower. The largest bell\, which strikes the hour\, weighs 12 tons\, while the smallest bell\, 4½ octaves above\, weighs just 15 pounds.\n\nThirty-minute recitals are performed on the Charles Baird Carillon at noon every weekday that classes are in session\, followed by visitor Q&A with the carillonist. The bell chamber may be accessed via a combination of elevator and stairs. Take the elevator to the highest floor possible (floor 8)\, and then climb two flights of stairs (39 steps) to the bell chamber (floor 10). Earplugs are available from the carillonist upon request. Be prepared to walk on ice and snow in the bell chamber during winter. Built in 1936\, the Charles Baird Carillon is not ADA accessible. Visitors with mobility concerns are invited to visit the Lurie Carillon: https://smtd.umich.edu/facilities/ann-and-robert-h-lurie-carillon/
UID:126340-21856909@events.umich.edu
URL:https://events.umich.edu/event/126340
CLASS:PUBLIC
STATUS:CONFIRMED
CATEGORIES:Free,Talk,Music,Faculty
LOCATION:Burton Memorial Tower
CONTACT:
END:VEVENT
BEGIN:VEVENT
DTSTAMP:20241104T145904
DTSTART;TZID=America/Detroit:20241114T120000
DTEND;TZID=America/Detroit:20241114T140000
SUMMARY:Workshop / Seminar:Ukrainian Motanka Doll Making
DESCRIPTION:Motanka-making is an ancient practice. Motanka knotted dolls are thought to carry the power of ancestors as guardians. They protect your home\, and support health\, well-being\, harmony\, success and happiness.\n\nThey first appeared about 5000 years ago and represented the unity of the family and the deep connection between multiple generations. Today\, Motanka make eco-friendly cultural gifts for a housewarming\, holiday\, or other celebration!\n\nAll materials are included with the workshop. However\, you’re welcome to bring your own supplies to make your Motanka more personal\, including fabric\, embroidery thread\, ribbons\, and other decorations. \n\nAt the end of the 2-hour workshop\, you will go home with one 9-inch Motanka doll and instructions to make future dolls.\n\nParticipation for this special event is limited to 20. Please RSVP.
UID:128691-21861499@events.umich.edu
URL:https://events.umich.edu/event/128691
CLASS:PUBLIC
STATUS:CONFIRMED
CATEGORIES:Art,Take Care,Visual Arts
LOCATION:Duderstadt Center - Gallery 1019
CONTACT:
END:VEVENT
END:VCALENDAR