BEGIN:VCALENDAR
VERSION:2.0
PRODID:-//UM//UM*Events//EN
CALSCALE:GREGORIAN
BEGIN:VTIMEZONE
TZID:America/Detroit
TZURL:http://tzurl.org/zoneinfo/America/Detroit
X-LIC-LOCATION:America/Detroit
BEGIN:DAYLIGHT
TZOFFSETFROM:-0500
TZOFFSETTO:-0400
TZNAME:EDT
DTSTART:20070311T020000
RRULE:FREQ=YEARLY;BYMONTH=3;BYDAY=2SU
END:DAYLIGHT
BEGIN:STANDARD
TZOFFSETFROM:-0400
TZOFFSETTO:-0500
TZNAME:EST
DTSTART:20071104T020000
RRULE:FREQ=YEARLY;BYMONTH=11;BYDAY=1SU
END:STANDARD
END:VTIMEZONE
BEGIN:VEVENT
DTSTAMP:20240206T181719
DTSTART;TZID=America/Detroit:20240416T120000
DTEND;TZID=America/Detroit:20240416T123000
SUMMARY:Performance:Tiffany Ng\, carillon
DESCRIPTION:University Carillonist Tiffany Ng performs on the Charles Baird Carillon\, an instrument of 53 bronze bells located inside the Burton Memorial Tower. The largest bell\, which strikes the hour\, weighs 12 tons\, while the smallest bell\, 4½ octaves above\, weighs just 15 pounds.\n\nThirty-minute recitals are performed on the Charles Baird Carillon at noon every weekday that classes are in session\, followed by visitor Q&A with the carillonist. The bell chamber may be accessed via a combination of elevator and stairs. Take the elevator to the highest floor possible (floor 8)\, and then climb two flights of stairs (39 steps) to the bell chamber (floor 10). Earplugs are available from the carillonist upon request. Be prepared to walk on ice and snow in the bell chamber during winter. Built in 1936\, the Charles Baird Carillon is not ADA accessible. Visitors with mobility concerns are invited to visit the Lurie Carillon: https://smtd.umich.edu/facilities/ann-and-robert-h-lurie-carillon/
UID:118521-21841173@events.umich.edu
URL:https://events.umich.edu/event/118521
CLASS:PUBLIC
STATUS:CONFIRMED
CATEGORIES:Faculty,Free,In Person,Music,Talk
LOCATION:Burton Memorial Tower
CONTACT:
END:VEVENT
BEGIN:VEVENT
DTSTAMP:20240117T143229
DTSTART;TZID=America/Detroit:20240416T123000
DTEND;TZID=America/Detroit:20240416T140000
SUMMARY:Workshop / Seminar:Inequality and Social Demography (ISD) Workshop
DESCRIPTION:Join us for this ISD workshop with Kelsi Caywood.
UID:117296-21839130@events.umich.edu
URL:https://events.umich.edu/event/117296
CLASS:PUBLIC
STATUS:CONFIRMED
CATEGORIES:Graduate Students
LOCATION:LSA Building - 4154
CONTACT:
END:VEVENT
BEGIN:VEVENT
DTSTAMP:20240409T120038
DTSTART;TZID=America/Detroit:20240416T123000
DTEND;TZID=America/Detroit:20240416T140000
SUMMARY:Workshop / Seminar:Undoing Racism Workgroup
DESCRIPTION:The Undoing Racism Workgroup invites you to open dialogue and exploration of moving towards an anti-racist way of being on Tuesday\, April 16\, 2024\, from 12:30-2:00 PM over Zoom.
UID:121272-21846108@events.umich.edu
URL:https://events.umich.edu/event/121272
CLASS:PUBLIC
STATUS:CONFIRMED
CATEGORIES:Diversity Equity and Inclusion
LOCATION:Off Campus Location
CONTACT:
END:VEVENT
END:VCALENDAR