BEGIN:VCALENDAR
VERSION:2.0
PRODID:-//UM//UM*Events//EN
CALSCALE:GREGORIAN
BEGIN:VTIMEZONE
TZID:America/Detroit
TZURL:http://tzurl.org/zoneinfo/America/Detroit
X-LIC-LOCATION:America/Detroit
BEGIN:DAYLIGHT
TZOFFSETFROM:-0500
TZOFFSETTO:-0400
TZNAME:EDT
DTSTART:20070311T020000
RRULE:FREQ=YEARLY;BYMONTH=3;BYDAY=2SU
END:DAYLIGHT
BEGIN:STANDARD
TZOFFSETFROM:-0400
TZOFFSETTO:-0500
TZNAME:EST
DTSTART:20071104T020000
RRULE:FREQ=YEARLY;BYMONTH=11;BYDAY=1SU
END:STANDARD
END:VTIMEZONE
BEGIN:VEVENT
DTSTAMP:20240912T085645
DTSTART;TZID=America/Detroit:20241023T140000
DTEND;TZID=America/Detroit:20241023T150000
SUMMARY:Presentation:Empowering Blue: Improving How We Meet
DESCRIPTION:Do you ever walk away from a meeting unsure why it happened or what the result was? We'll share tips on building effective agendas\, cutting down meeting time\, and ensuring the work you need to happen gets done. Meetings don't have to be painful\; we'll give you tools and ideas you can use immediately.
UID:126257-21856806@events.umich.edu
URL:https://events.umich.edu/event/126257
CLASS:PUBLIC
STATUS:CONFIRMED
CATEGORIES:Discussion,Faculty,Professional Development,Staff,Virtual
LOCATION:Off Campus Location
CONTACT:
END:VEVENT
BEGIN:VEVENT
DTSTAMP:20241107T123207
DTSTART;TZID=America/Detroit:20241023T140000
DTEND;TZID=America/Detroit:20241023T144500
SUMMARY:Careers / Jobs:From First Impressions to Final Follow-Ups: Mastering the Interview
DESCRIPTION:This session will cover key tips to help you feel confidentfor your next interview\, whether it’s virtual or in-person. Chelsea Ewing\, University Relations Program Manager for Precision Castparts Corp.\,draws from her experience conducting hundreds of student interviews to share what you need to know about professional attire\, interview prep\, andthe importance of follow-up emails and thank you notes. This quick session will help you avoid common mistakes and ensure you're prepared to make agreat impression from start to finish!
UID:127795-21859697@events.umich.edu
URL:https://events.umich.edu/event/127795
CLASS:PUBLIC
STATUS:CONFIRMED
CATEGORIES:
LOCATION:
CONTACT:
END:VEVENT
BEGIN:VEVENT
DTSTAMP:20240919T084016
DTSTART;TZID=America/Detroit:20241023T140000
DTEND;TZID=America/Detroit:20241023T150000
SUMMARY:Other:Grant Office Hours for Student Sustainability Coalition: Planet Blue Student Innovation Fund & Social and Environmental Grants
DESCRIPTION:The Student Sustainability Coalition manages $200\,000 worth of grant money that we allocate to student groups who are working on projects related to environmental and social sustainability on Campus! Our grant programs include the Planet Blue Student Innovation Fund and the Social and Environmental Sustainability Grant. \n\nJoin us in these information sessions to learn more about which grant program is right for your project and get the support you and your team needs through the application process!\n\nInfo sessions take place virtually every Tuesday from 10-11a and every Wednesday from 2-3p. Come chat with us!
UID:113301-21857521@events.umich.edu
URL:https://events.umich.edu/event/113301
CLASS:PUBLIC
STATUS:CONFIRMED
CATEGORIES:Activism,Anthropology,Architecture,Art,Arts of Islam,ArtsEngine,Astronomy,Basic Science,Biointerfaces,Biology,Biomedical Engineering,Biosciences,Business,Chemistry,Civil and Environmental Engineering,Climate and Space Sciences and Engineering,Community Service,Dance,Disability,Discussion,Diversity,Diversity Equity and Inclusion,Diversity Strategic Plan,Diversity Summit,Ecology,Economics,Education,Electrical Engineering and Computer Science,Energy,Engineering,Engineering Academic Calendar,Entrepreneurship,Environment,Exhibition,Film,Food,Graduate,Graduate and Professional Students,Graduate School,Graduate Students,Humanities,Immigration,Inclusion,Industrial and Operations Engineering,Information and Technology,Integrative Systems,Interdisciplinary,International,Leadership,Learning Center,LGBT,LGBTQ Graduate Student,Library,Life Science,Lifelong Learning,Literature,Materials Science,Mathematics,Mechanical Engineering,Media,Medicine,MESA,Michigan Engineering,Michigan Robotics,Mindfulness,Multicultural,Multidisciplinary Design,Museum,Music,Native American,Natural Sciences,Nature,Naval Architecture and Marine Engineering,Nuclear Engineering and Radiological Sciences,Outdoors,Philosophy,Physics,planet blue,Poetry,Politics,Postdoctoral Research Fellows,Pre Med,Pre-Health,Pre-Law,Prospective Graduate Students,Prospective Undergraduate Students,Psychology,Public Health,Public Policy,Rackham,Robotics,Science,Social,Social Impact,Social Justice,Social Sciences,Sociology,Southeast Asia,Spanish Studies,Staff,Storytelling,Structural Biology,Sustainability,Talk,Theater,UMMA,UMS,Undergraduate,Undergraduate Students,Virtual,Visual Arts,Welcome to Michigan,Well-being,Women's Studies,Workshop,Writing
LOCATION:Off Campus Location
CONTACT:
END:VEVENT
END:VCALENDAR