BEGIN:VCALENDAR
VERSION:2.0
PRODID:-//UM//UM*Events//EN
CALSCALE:GREGORIAN
BEGIN:VTIMEZONE
TZID:America/Detroit
TZURL:http://tzurl.org/zoneinfo/America/Detroit
X-LIC-LOCATION:America/Detroit
BEGIN:DAYLIGHT
TZOFFSETFROM:-0500
TZOFFSETTO:-0400
TZNAME:EDT
DTSTART:20070311T020000
RRULE:FREQ=YEARLY;BYMONTH=3;BYDAY=2SU
END:DAYLIGHT
BEGIN:STANDARD
TZOFFSETFROM:-0400
TZOFFSETTO:-0500
TZNAME:EST
DTSTART:20071104T020000
RRULE:FREQ=YEARLY;BYMONTH=11;BYDAY=1SU
END:STANDARD
END:VTIMEZONE
BEGIN:VEVENT
DTSTAMP:20241112T105544
DTSTART;TZID=America/Detroit:20241114T123000
DTEND;TZID=America/Detroit:20241114T140000
SUMMARY:Workshop / Seminar:Inequality and Social Demography (ISD) Workshop
DESCRIPTION:Fall 2024 Semester Line-Up: \n\n9/19: Lanora Johnson\, \"Car Accidents & Disability in Rural Kentucky\"\n\n10/3: Spencer Allen\, \"Disparities and Implications of Survey Measurement Error: NSF GRFP Proposal\"\n\n10/10: Jane Furey\, \"The Consequences of Racialized Education Careers\"\n\n10/31: Janet Wang\, \"Overqualification across the life course\"\n\n11/14: Davis Daumler\, \"Changing Marriage Patterns and the Shifting Foundation of Wealth\"\n\n11/21: Junchao Tang\, \"A Mirrored Equalizer? An Assessment of Boarding Institution and STS-based Achievement Gap\"
UID:126191-21856656@events.umich.edu
URL:https://events.umich.edu/event/126191
CLASS:PUBLIC
STATUS:CONFIRMED
CATEGORIES:Graduate Students
LOCATION:LSA Building - 4154
CONTACT:
END:VEVENT
BEGIN:VEVENT
DTSTAMP:20241129T123135
DTSTART;TZID=America/Detroit:20241114T130000
DTEND;TZID=America/Detroit:20241114T173000
SUMMARY:Careers / Jobs:2024 Beaufort County School District Fall Hiring Event
DESCRIPTION:FALL into a career that changes lives!  Mark your calendar for the upcoming Virtual Hiring Event\, become a teacher with Beaufort County School District\, and start in January 2025!🌟 Why Join Beaufort County School District? 🌟Looking for a place where you can live where you love and love where you work? 🌴 Beaufort County School District is calling your name! Here’s why you should consider becoming part of our amazing team:✨ Locality Supplement - We value our educators and reward them for choosing to work in our beautiful community. 👶 Affordable Afterschool Childcare - Peace of mind with affordable care for your little ones aged 5-12. 🤝 Two-Year Induction &amp\; Mentoring Program - We support our new teachers every step of the way. 🏝️ Prime Location - From the charm of Hilton Head Island to the vibrant communities of Bluffton and Beaufort\, you’ll be working in some of the most desirable areas in the Lowcountry. 🌆 Close to Charleston &amp\; Savannah - Enjoy the perks of living near these historic cities. 📈 Internal Career Mobility - Grow your career with us\, and explore endless opportunities within the district. 🎓 Professional Development - We’re committed to your growth with ample opportunities to enhance your skills.Join us and make a difference in a place you’ll be proud to call home! 🏡 #BeaufortCountySchools #TeachingInParadise #CareerInEducation #JoinOurTeam
UID:128207-21860435@events.umich.edu
URL:https://events.umich.edu/event/128207
CLASS:PUBLIC
STATUS:CONFIRMED
CATEGORIES:
LOCATION:
CONTACT:
END:VEVENT
BEGIN:VEVENT
DTSTAMP:20241129T123147
DTSTART;TZID=America/Detroit:20241114T130000
DTEND;TZID=America/Detroit:20241114T140000
SUMMARY:Careers / Jobs:Amazon Warehouse Virtual Information Session!
DESCRIPTION:Amazon Warehouse Virtual Information Session!Military vets\, active duty\, and spouses — get set for success on November 14th Get all your questions answered regarding the job\, pay\, student resources and schedules while learning how our warehouse roles are uniquely positioned to support you — no matter where you might be in your career or military transition.When: Thursday November 14th 2024Time: 1:00 PM ESTRSVP Here: https://zoom.us/webinar/register/1017280581322/WN_dOG-T4BAQd-ZpeY4Olw2UAWhen you start now\, you can take home something greater – competitive pay\, a range of real benefits\, and opportunities for career advancement – it’s the difference all those things make together. Attend our upcoming event to learn more about these exciting opportunities.Can'tmake it? Create your job profile today by visiting  amazon.com/info New shifts drop every Friday evening and throughout the weekSign up for our text alerts by texting \"JOBEVENT\" to 31432* By participating\, you agree to the terms and privacy policy at sms-terms.com/amazon for recurring autodialed marketing messages from Amazon\, to the phone number you provide. No consent required to buy. Message and data rates may apply. Text HELP for help or STOPto end.Need an accommodation?If you have a disability and need an accommodation during the application and hiring process\, please visit amazon.com/accommodations or contact us by phone at 888-435-9287\, Monday through Friday\, between 6 a.m. and 4 p.m.PT.If you receive and accept an offerYou will need to provide proof of your identity and employment eligibility as required by federal law by completing a Form I-9. Amazon is proud to be an equal opportunity employer.
UID:128478-21860961@events.umich.edu
URL:https://events.umich.edu/event/128478
CLASS:PUBLIC
STATUS:CONFIRMED
CATEGORIES:
LOCATION:
CONTACT:
END:VEVENT
END:VCALENDAR