BEGIN:VCALENDAR
VERSION:2.0
PRODID:-//UM//UM*Events//EN
CALSCALE:GREGORIAN
BEGIN:VTIMEZONE
TZID:America/Detroit
TZURL:http://tzurl.org/zoneinfo/America/Detroit
X-LIC-LOCATION:America/Detroit
BEGIN:DAYLIGHT
TZOFFSETFROM:-0500
TZOFFSETTO:-0400
TZNAME:EDT
DTSTART:20070311T020000
RRULE:FREQ=YEARLY;BYMONTH=3;BYDAY=2SU
END:DAYLIGHT
BEGIN:STANDARD
TZOFFSETFROM:-0400
TZOFFSETTO:-0500
TZNAME:EST
DTSTART:20071104T020000
RRULE:FREQ=YEARLY;BYMONTH=11;BYDAY=1SU
END:STANDARD
END:VTIMEZONE
BEGIN:VEVENT
DTSTAMP:20240501T123125
DTSTART;TZID=America/Detroit:20240416T130000
DTEND;TZID=America/Detroit:20240416T140000
SUMMARY:Careers / Jobs:Dive into Science with BOEM: Explore Marine & Environmental Careers (April 2024)
DESCRIPTION:Set sail on an exciting journey of discovery and inspiration🚀 at our \"Dive into Science with BOEM: Explore Marine &amp\; Environmental Careers\" virtual event\, specially designed for undergraduates 🎓\,whether you've charted your academic course or are still navigating through your options 🧭. \n\nThis is a rare chance to immerse yourself in thecaptivating world of marine 🌊 and environmental sciences alongside BOEM's experts\, who are eager to guide you through the vast ocean of possibilities that await 🌟. Engage with scientists 👩‍🔬👨‍🔬 who have turned their passion for the planet 🌍 into their life's work\, uncovering the mysteries of the deep and leading the charge in environmental protection 🛡️. Hear their stories of adventure\, research\, and resilience\, offering a glimpse into a career that's not just a job but a journey towards making a significant impact on our world 🌈. \n\nIf you're onthe fence about your major or already dreaming of a future where you contribute to the preservation of our planet 🌳\, join us for an event that promises to broaden your horizons and ignite your passion for science\, adventure\, and conservation 💥.
UID:120910-21845538@events.umich.edu
URL:https://events.umich.edu/event/120910
CLASS:PUBLIC
STATUS:CONFIRMED
CATEGORIES:
LOCATION:
CONTACT:
END:VEVENT
BEGIN:VEVENT
DTSTAMP:20240117T171158
DTSTART;TZID=America/Detroit:20240416T130000
DTEND;TZID=America/Detroit:20240416T140000
SUMMARY:Social / Informal Gathering:IOE Social Hour
DESCRIPTION:Get yourself a treat during the school day in the IOE Commons from 1-2pm while supplies last. All are welcome to stop by!\n\nSpecific food and/or drinks being served is TBD
UID:116395-21836718@events.umich.edu
URL:https://events.umich.edu/event/116395
CLASS:PUBLIC
STATUS:CONFIRMED
CATEGORIES:Food,Free,Industrial And Operations Engineering
LOCATION:Industrial and Operations Engineering Building - Commons
CONTACT:
END:VEVENT
BEGIN:VEVENT
DTSTAMP:20240501T123104
DTSTART;TZID=America/Detroit:20240416T130000
DTEND;TZID=America/Detroit:20240416T140000
SUMMARY:Careers / Jobs:Mayo Clinic Department of Laboratory Medicine Careers Webinar 4/16/2024
DESCRIPTION:We are thrilled to extend a warm invitation to you for our upcoming Mayo Clinic Laboratory Careers Webinar. Join us for an enlightening session where you will gain valuable insights into the dynamic and rewarding world of laboratory careers at Mayo Clinic. Discover exciting opportunities\, learn about cutting-edge technologies\, and hear firsthand from professionals who have made significant contributions to the field. Don't miss this chance to explore the diverse paths within the Mayo Clinic laboratories and chart your course towards a fulfilling career. Secure your spot now and embark on a journey of discovery with us!\n
UID:115301-21834404@events.umich.edu
URL:https://events.umich.edu/event/115301
CLASS:PUBLIC
STATUS:CONFIRMED
CATEGORIES:
LOCATION:
CONTACT:
END:VEVENT
END:VCALENDAR