BEGIN:VCALENDAR
VERSION:2.0
PRODID:-//UM//UM*Events//EN
CALSCALE:GREGORIAN
BEGIN:VTIMEZONE
TZID:America/Detroit
TZURL:http://tzurl.org/zoneinfo/America/Detroit
X-LIC-LOCATION:America/Detroit
BEGIN:DAYLIGHT
TZOFFSETFROM:-0500
TZOFFSETTO:-0400
TZNAME:EDT
DTSTART:20070311T020000
RRULE:FREQ=YEARLY;BYMONTH=3;BYDAY=2SU
END:DAYLIGHT
BEGIN:STANDARD
TZOFFSETFROM:-0400
TZOFFSETTO:-0500
TZNAME:EST
DTSTART:20071104T020000
RRULE:FREQ=YEARLY;BYMONTH=11;BYDAY=1SU
END:STANDARD
END:VTIMEZONE
BEGIN:VEVENT
DTSTAMP:20240819T181540
DTSTART;TZID=America/Detroit:20241023T140000
DTEND;TZID=America/Detroit:20241023T150000
SUMMARY:Livestream / Virtual:Rackham Consultation Services: Virtual Office Hours
DESCRIPTION:If you have a quick question or have a time sensitive matter\, attend the Rackham Consultation Services open office hours weekly on Monday and Wednesday from 2:00 to 3:00 p.m. via Zoom. In the interest of providing students as much privacy as possible\, you may spend a brief time in a waiting room if the resolution officer is engaged with another student. They will be with you as quickly as possible.\nJoin Zoom Meeting\nhttps://umich.zoom.us/j/99196090990\nMeeting ID: 991 9609 0990\nOne tap mobile\n+13092053325\,\,99196090990# US\n+13126266799\,\,99196090990# US (Chicago)\n—\nDial by your location\n\n+1 309 205 3325 US\n+1 312 626 6799 US (Chicago)\n+1 646 876 9923 US (New York)\n+1 646 931 3860 US\n+1 301 715 8592 US (Washington DC)\n+1 305 224 1968 US\n+1 386 347 5053 US\n+1 507 473 4847 US\n+1 564 217 2000 US\n+1 669 444 9171 US\n+1 669 900 6833 US (San Jose)\n+1 689 278 1000 US\n+1 719 359 4580 US\n+1 253 205 0468 US\n+1 253 215 8782 US (Tacoma)\n+1 346 248 7799 US (Houston)\n+1 360 209 5623 US\n+1 647 558 0588 Canada\n+1 778 907 2071 Canada\n+1 780 666 0144 Canada\n+1 204 272 7920 Canada\n+1 438 809 7799 Canada\n+1 587 328 1099 Canada\n+1 647 374 4685 Canada\n\nFind your local number: https://umich.zoom.us/u/aUy8Alk2\n—\nJoin by SIP\n\n99196090990@zoomcrc.com\n\nWe want to ensure full and equitable participation in our events. If an accommodation would promote your full participation in this event\, please follow the registration link to indicate your accommodation requirements. Please let us know as soon as possible in order to have adequate time\, preferably one week\, to arrange for your requested accommodations or an effective alternative.
UID:124565-21853206@events.umich.edu
URL:https://events.umich.edu/event/124565
CLASS:PUBLIC
STATUS:CONFIRMED
CATEGORIES:Graduate Students
LOCATION:Off Campus Location
CONTACT:
END:VEVENT
BEGIN:VEVENT
DTSTAMP:20241022T095950
DTSTART;TZID=America/Detroit:20241023T143000
DTEND;TZID=America/Detroit:20241023T155000
SUMMARY:Workshop / Seminar:Reveal or Conceal? Employer Learning in the Labor Market for Computer Scientists
DESCRIPTION:This paper tests for employer learning about worker ability and quantifies the impact of learning on job mobility and innovation output in the labor market for computer scientists. I match the job history of over 40\,000 Ph.D. computer scientists (CS) with publications and patent applications that signal their research ability. Workers who publish at CS conferences are 45% more likely to move into a top tech firm in the next year than similar coworkers without such a public signal. Higher-quality papers are often filed as patent applications\, but the fact of filing remains private information at the incumbent employer for 18 months. Authors of such papers experience a delayed increase in upward mobility. Without employer learning from the public research records\, innovation output by early career computer scientists would drop by 15% due to greater misallocation of talent. Reducing asymmetric information between employers can expedite positive assortative matching and increase innovation by 5%.
UID:125863-21856186@events.umich.edu
URL:https://events.umich.edu/event/125863
CLASS:PUBLIC
STATUS:CONFIRMED
CATEGORIES:Economics,Labor,seminar
LOCATION:Lorch Hall - 201
CONTACT:
END:VEVENT
BEGIN:VEVENT
DTSTAMP:20241107T123158
DTSTART;TZID=America/Detroit:20241023T150000
DTEND;TZID=America/Detroit:20241023T160000
SUMMARY:Careers / Jobs: Exploring McKenney's Inc.: Unlocking Doors to Exciting Opportunities
DESCRIPTION:Embark on a journey to unravel the essence of McKenney's inour exclusive event\, \"Exploring McKenney's Inc: Unlocking Doors to Exciting Opportunities.\" Join us for an immersive experience where we delve into the heart of our company\, sharing insights into our values\, culture\, and the dynamic opportunities that await you.This event is your passport to getting acquainted with the McKenney's family\, understanding ourcommitment to excellence\, and discovering the diverse avenues for growthwithin our organization. Engage in meaningful conversations\, connect with our team\, and gain a deeper understanding of how you can be a part of the exciting journey that lies ahead.Don't miss this unique opportunity to go beyond the surface and explore the vibrant world of McKenney's. Your next big opportunity could be just around the corner—come and uncover it with us!
UID:127598-21859382@events.umich.edu
URL:https://events.umich.edu/event/127598
CLASS:PUBLIC
STATUS:CONFIRMED
CATEGORIES:
LOCATION:
CONTACT:
END:VEVENT
END:VCALENDAR