BEGIN:VCALENDAR
VERSION:2.0
PRODID:-//UM//UM*Events//EN
CALSCALE:GREGORIAN
BEGIN:VTIMEZONE
TZID:America/Detroit
TZURL:http://tzurl.org/zoneinfo/America/Detroit
X-LIC-LOCATION:America/Detroit
BEGIN:DAYLIGHT
TZOFFSETFROM:-0500
TZOFFSETTO:-0400
TZNAME:EDT
DTSTART:20070311T020000
RRULE:FREQ=YEARLY;BYMONTH=3;BYDAY=2SU
END:DAYLIGHT
BEGIN:STANDARD
TZOFFSETFROM:-0400
TZOFFSETTO:-0500
TZNAME:EST
DTSTART:20071104T020000
RRULE:FREQ=YEARLY;BYMONTH=11;BYDAY=1SU
END:STANDARD
END:VTIMEZONE
BEGIN:VEVENT
DTSTAMP:20241129T123151
DTSTART;TZID=America/Detroit:20241114T130000
DTEND;TZID=America/Detroit:20241114T170000
SUMMARY:Careers / Jobs:Department of Energy Summer Internship Fair
DESCRIPTION:Are you an undergraduate student or recent graduate interested in a summer internship experience at a U.S. Department of Energy (DOE)national laboratory?Join us virtually on Nov. 14\, 1–5 p.m. ET\, to learn about DOE's Summer 2025 Science Undergraduate Laboratory Internships (SULI) and Community College Internships (CCI) programs! These stipend-based 10-week programs provide technical training and research opportunities at DOE national laboratories and other facilities. SULI and CCI are sponsored and managed by the DOE Office of Science’s Office of Workforce Development for Teachers and Scientists (WDTS).During the event\, representatives from DOE national laboratories will be on hand to connect with attendees in 1-on-1 chats. Plus\, we'll have a live informational session on the CCI and SULI programs.REGISTER TODAYIf you have any questions\, contact us at ORISEVirtualEvents@orau.org.
UID:128637-21861396@events.umich.edu
URL:https://events.umich.edu/event/128637
CLASS:PUBLIC
STATUS:CONFIRMED
CATEGORIES:
LOCATION:
CONTACT:
END:VEVENT
BEGIN:VEVENT
DTSTAMP:20241129T123115
DTSTART;TZID=America/Detroit:20241114T130000
DTEND;TZID=America/Detroit:20241114T170000
SUMMARY:Careers / Jobs:Fall Into a BCSD Classroom: Beaufort County School District Fall Virtual Hiring Event
DESCRIPTION:Fall Into A Classroom by Joining Beaufort County School District's Fall Virtual Hiring Event!&nbsp\;The Recruiting Team for Beaufort County School District (BCSD) in South Carolina is seeking the best and brightest teachersfor a January 2024 start! Located south ofCharleston and north of Savannah\, the Beaufort County School District isa diverse community encompassing Bluffton\, Beaufort\, and Hilton Head. If you like plentiful sunshine\, intercoastal waterways and hundreds of miles of beaches\, it might be just the place for you!&nbsp\;We are hosting a hiring event for upcoming December graduates interested in a certified teaching position in January! We pride ourselves on creating an amazing environment&nbsp\;for new college graduates to thrive from around the country! We are excited to announce that we offer the following life-changing perks!&nbsp\;$51\,816&nbsp\;First Year Tacher Salary | One of the Top Paying Districts in South CarolinaLocality Supplement of $1\,500 each year (Only $750 for January – May)Comprehensive Induction and Mentoring Program of Support for Career GrowthCompetitive Benefits and Retirement PackageNo Cost &amp\; Anonymous Virtual Mental Health CounselingEducational Support for TeachersPrime Opportunities for Internal Career MobilityAn Abundance of Professional Development OpportunitiesBeautiful Location\, Weather and LifestyleClose to Charleston (SC)\, Savannah (GA) and Jacksonville (FL)&nbsp\;We would love to invite you to register to our virtual hiring event which we will hold on November 14th\, from 1pm-5pm. To get started\, complete an application via Frontline. Once you have completed your online application\, you will be ableto select an interview time that works best for you via&nbsp\;Calendly.&nbsp\;If you are ready to learn more about our school district\, check out our Back to School Video\, highlighting some of our schools in the county.&nbsp\;&nbsp\;Are you wondering what makes Beaufort County School District so special? Our amazing teachers have the answers! 🎓✨ Check out these inspiring stories from our educators\, sharing why they chose to join BCSD and what makes our community the perfect place to grow\, learn\, and make a difference. ❤️📚 👇 Watch their stories here and discover the heart and passion that drive our schools! #WhyBCSD #LiveWhereYouLoveLoveWhereYouWork&nbsp\;We cannot wait to meet you!&nbsp\;The Recruiting TeamBeaufort County School District (SC)bcsdrecruiters@beaufort.k12.sc.usOffice Number: 843-379-6920
UID:125815-21856132@events.umich.edu
URL:https://events.umich.edu/event/125815
CLASS:PUBLIC
STATUS:CONFIRMED
CATEGORIES:
LOCATION:
CONTACT:
END:VEVENT
BEGIN:VEVENT
DTSTAMP:20241129T123211
DTSTART;TZID=America/Detroit:20241114T130000
DTEND;TZID=America/Detroit:20241114T141500
SUMMARY:Careers / Jobs:Johnson & Johnson WiSTEM2D Presents - Leadership Development Program Panel Discussion
DESCRIPTION:In 2015\, Johnson &amp\; Johnson launched WiSTEM2D – Women in Science\, Technology\, Engineering\, Math\, Manufacturing\, and Design (STEM2D) – initiative to promote learning and career opportunities in STEM2D disciplines. Led by a network of volunteers from across Johnson &amp\; Johnson and its local operating companies\, this ambitious initiative seeks to promote learning across Youth\, University and Professionals.  We are inviting university students to participate in a WiSTEM2D Virtual Event – Leadership Development Program Panel! Participants will hear fromfive female panelists working in a variety of pharmaceutical and medical technology roles at Johnson &amp\; Johnson\, on the topics noted above\, as well as an opportunity to submit questions.- Meredith DiBona\, Associate Director – Global Trial Associate Leadership Development ProgramLead- Erin McGrann\, Global Trial Associate (GTA) – Global TrialAssociate Leadership Development Program- Kaiya Mitchell\, Global Trial Associate (GTA) – Global Trial Associate Leadership Development Program- Nora Tovar\, Early In Career Programs Manager\, MedTech – R&amp\;D Leadership Development Program- Saila Incollingo\, IT Director\, MedTech – Technology Leadership Development Program
UID:129063-21862099@events.umich.edu
URL:https://events.umich.edu/event/129063
CLASS:PUBLIC
STATUS:CONFIRMED
CATEGORIES:
LOCATION:
CONTACT:
END:VEVENT
END:VCALENDAR