BEGIN:VCALENDAR
VERSION:2.0
PRODID:-//UM//UM*Events//EN
CALSCALE:GREGORIAN
BEGIN:VTIMEZONE
TZID:America/Detroit
TZURL:http://tzurl.org/zoneinfo/America/Detroit
X-LIC-LOCATION:America/Detroit
BEGIN:DAYLIGHT
TZOFFSETFROM:-0500
TZOFFSETTO:-0400
TZNAME:EDT
DTSTART:20070311T020000
RRULE:FREQ=YEARLY;BYMONTH=3;BYDAY=2SU
END:DAYLIGHT
BEGIN:STANDARD
TZOFFSETFROM:-0400
TZOFFSETTO:-0500
TZNAME:EST
DTSTART:20071104T020000
RRULE:FREQ=YEARLY;BYMONTH=11;BYDAY=1SU
END:STANDARD
END:VTIMEZONE
BEGIN:VEVENT
DTSTAMP:20251008T110106
DTSTART;TZID=America/Detroit:20240416T130000
DTEND;TZID=America/Detroit:20240416T150000
SUMMARY:Other:Pop Up Opportunity Hub Coaching
DESCRIPTION:Pop up coaching allows you to meet with an Opportunity Hub coach in a space that is convenient to you! This semester\, the Opportunity Hub and LSA Psychology are partnering to bring you pop up coaching in the East Hall Psychology Atrium. Pop up coaching is a great opportunity to make meaningful progress toward your professional goals within a shorter period of time\; especially if you are a little pressed for time and are looking for on-the-spot support. For example\, if you have a grad school\, internship\, or job application due in a week\, drop-in coaching may be ideal. Pop up coaching is also great for students who are looking to try coaching for the first time.\n\nThis event is open to ALL students!
UID:117244-21839445@events.umich.edu
URL:https://events.umich.edu/event/117244
CLASS:PUBLIC
STATUS:CONFIRMED
CATEGORIES:Biopsychology\, Cognition\, And Neuroscience (Bcn),Career,Graduate School,Psychology
LOCATION:East Hall - Psychology Atrium (North)
CONTACT:
END:VEVENT
BEGIN:VEVENT
DTSTAMP:20240416T122021
DTSTART;TZID=America/Detroit:20240416T130000
DTEND;TZID=America/Detroit:20240416T140000
SUMMARY:Workshop / Seminar:Semester Abroad as a Computer Science Engineer
DESCRIPTION:Learn about the best IPE programs for computer science majors
UID:120441-21844768@events.umich.edu
URL:https://events.umich.edu/event/120441
CLASS:PUBLIC
STATUS:CONFIRMED
CATEGORIES:Sessions
LOCATION:Virtual
CONTACT:
END:VEVENT
BEGIN:VEVENT
DTSTAMP:20240206T181719
DTSTART;TZID=America/Detroit:20240416T132000
DTEND;TZID=America/Detroit:20240416T135000
SUMMARY:Performance:Pamela Ruiter-Feenstra\, carillon
DESCRIPTION:Pamela Ruiter-Feenstra performs on the Ann & Robert H. Lurie Carillon\, an instrument of 60 bells with the lowest bell (bourdon) weighing 6 tons.\n\nThirty-minute recitals are performed on the Lurie Carillon every weekday that classes are in session. During these recitals\, visitors may take the elevator to level 2 to view the largest bells\, or to level 3 to see the carillonist performing. (Visitors subject to acrophobia are recommended to visit level 2 only.) An optional spiral stairway between levels 2 and 3 allows for up-close views of some of the largest bells.
UID:118522-21841174@events.umich.edu
URL:https://events.umich.edu/event/118522
CLASS:PUBLIC
STATUS:CONFIRMED
CATEGORIES:Alumni,Free,In Person,Music,North Campus,Talk
LOCATION:Lurie Ann & Robert H. Tower
CONTACT:
END:VEVENT
END:VCALENDAR