BEGIN:VCALENDAR
VERSION:2.0
PRODID:-//UM//UM*Events//EN
CALSCALE:GREGORIAN
BEGIN:VTIMEZONE
TZID:America/Detroit
TZURL:http://tzurl.org/zoneinfo/America/Detroit
X-LIC-LOCATION:America/Detroit
BEGIN:DAYLIGHT
TZOFFSETFROM:-0500
TZOFFSETTO:-0400
TZNAME:EDT
DTSTART:20070311T020000
RRULE:FREQ=YEARLY;BYMONTH=3;BYDAY=2SU
END:DAYLIGHT
BEGIN:STANDARD
TZOFFSETFROM:-0400
TZOFFSETTO:-0500
TZNAME:EST
DTSTART:20071104T020000
RRULE:FREQ=YEARLY;BYMONTH=11;BYDAY=1SU
END:STANDARD
END:VTIMEZONE
BEGIN:VEVENT
DTSTAMP:20240924T164242
DTSTART;TZID=America/Detroit:20241023T150000
DTEND;TZID=America/Detroit:20241023T160000
SUMMARY:Presentation:2024 Ta-You Wu Lecture in Physics | Constraints on Quantum Gravity
DESCRIPTION:Abstract: Superstring theory is currently the best candidate for the ultimate unification of general relativity and quantum mechanics. Although predictions of the theory are typically made at extremely high energies and beyond the reach of current experiments and observations\, several non-trivial constraints have recently been found on its low-energy effective theory. Because of the unusual ultraviolet behavior of gravitational theory\, the standard argument for the separation of scales does not work for gravity\, leading to robust low-energy predictions of consistency requirements at high energy. For gravitational theories in asymptotically anti-de Sitter spacetimes\, we can formulate such constraints and aim to prove or falsify them using the AdS/CFT correspondence. I will review recent progress in this approach and discuss examples of such constraints and their implications for low energy physics.\n\nPlease join us for the lecture at 3:00 pm and a reception before the lecture beginning at 2:30 pm. You may find more information on our webpage: https://myumi.ch/xmvm8.\n\nThis lecture will also be live-streamed via YouTube at this link: https://www.youtube.com/watch?v=-T-IYWIW-0E
UID:124530-21853149@events.umich.edu
URL:https://events.umich.edu/event/124530
CLASS:PUBLIC
STATUS:CONFIRMED
CATEGORIES:AEM Featured
LOCATION:Rackham Graduate School (Horace H.) - Amphitheatre
CONTACT:
END:VEVENT
BEGIN:VEVENT
DTSTAMP:20241015T095454
DTSTART;TZID=America/Detroit:20241023T150000
DTEND;TZID=America/Detroit:20241023T170000
SUMMARY:Social / Informal Gathering:EAS 568 Mends-day Wednesday
DESCRIPTION:Don’t toss it 🚮—mend it! 🪡 Join us for Mends-Day Wednesdays on October 9 & 23 and November 6 & 20 from 3-5 PM in Room 2520. Bring your clothes and items in need of a little TLC\, and get them repaired for free by skilled SEAS student menders. Whether you want to learn how to fix things yourself or simply need a quick mend\, this event is perfect for anyone looking to reduce waste and keep their favorite items going strong. And don’t worry if you miss it—Mends-Day will return every other Wednesday for more repair fun!\n\nThis event is organized by SEAS Students enrolled in the Reconnection and Revitalization Seminar (EAS568). Contact Bridget Damon (bdamon@umich.edu) with any questions!
UID:127301-21858831@events.umich.edu
URL:https://events.umich.edu/event/127301
CLASS:PUBLIC
STATUS:CONFIRMED
CATEGORIES:climate,Environment,Networking
LOCATION:Dana Building - 1315G
CONTACT:
END:VEVENT
BEGIN:VEVENT
DTSTAMP:20241023T142046
DTSTART;TZID=America/Detroit:20241023T150000
DTEND;TZID=America/Detroit:20241023T170000
SUMMARY:Workshop / Seminar:GSBES x SHPE-G Pumpkin Carving
DESCRIPTION:Join SHPE-G and GSBES for a spooky pumpkin carving event on the Wave Field in celebration of the Halloween season! Stop by at any time during the even to carve or paint your own pumpkin with materials provided. There will also be candy and apple cider for your enjoyment.
UID:127987-21860005@events.umich.edu
URL:https://events.umich.edu/event/127987
CLASS:PUBLIC
STATUS:CONFIRMED
CATEGORIES:Sessions
LOCATION:Wave Field
CONTACT:
END:VEVENT
END:VCALENDAR