BEGIN:VCALENDAR
VERSION:2.0
PRODID:-//UM//UM*Events//EN
CALSCALE:GREGORIAN
BEGIN:VTIMEZONE
TZID:America/Detroit
TZURL:http://tzurl.org/zoneinfo/America/Detroit
X-LIC-LOCATION:America/Detroit
BEGIN:DAYLIGHT
TZOFFSETFROM:-0500
TZOFFSETTO:-0400
TZNAME:EDT
DTSTART:20070311T020000
RRULE:FREQ=YEARLY;BYMONTH=3;BYDAY=2SU
END:DAYLIGHT
BEGIN:STANDARD
TZOFFSETFROM:-0400
TZOFFSETTO:-0500
TZNAME:EST
DTSTART:20071104T020000
RRULE:FREQ=YEARLY;BYMONTH=11;BYDAY=1SU
END:STANDARD
END:VTIMEZONE
BEGIN:VEVENT
DTSTAMP:20240822T123150
DTSTART;TZID=America/Detroit:20241114T130000
DTEND;TZID=America/Detroit:20241114T150000
SUMMARY:Careers / Jobs:KPMG Recruiter Chats for Accounting Majors
DESCRIPTION:Are you an accounting major looking to learn more about theopportunities at KPMG? Are you unsure where you fall in KPMG’s recruiting timeline? If so\, please join us for Accounting Chats with KPMG Recruiters!We at KPMG want to get to know you better and hear about your professional goals. During this virtual event\, you will have the opportunity to meet with members of the KPMG recruiting team. We can review the KPMG recruiting process\, discuss the various KPMG career paths for accounting students\, and of course\, answer any questions you might have.You are not required to attend the entire 2-hour event – stop by as your schedule allows!If you have any questions about the event\, please don't hesitate to reach out. We hope you can join us!
UID:123816-21851918@events.umich.edu
URL:https://events.umich.edu/event/123816
CLASS:PUBLIC
STATUS:CONFIRMED
CATEGORIES:
LOCATION:
CONTACT:
END:VEVENT
BEGIN:VEVENT
DTSTAMP:20241129T123111
DTSTART;TZID=America/Detroit:20241114T130000
DTEND;TZID=America/Detroit:20241114T140000
SUMMARY:Careers / Jobs:Learn About PMG's Graduate Leadership Program
DESCRIPTION:🌟Discover Your Career Path with PMG 🌟Are you ready to launch your career in digital marketing? Join us at PMG for a virtual information session tailored for college students interested in our award-winning company culture and the career opportunities within our Graduate Leadership Program (GLP). Here’s what we’ll cover:🏆Award-Winning Culture: Discover what makes PMGone of AdAge's Best Places to Work for nine consecutive years. Learn about our core values and the initiatives that shape our unique culture.🚀Graduate Leadership Program Overview: Explore our 8-week onboarding process\, designed across three dynamic tracks—Media Marketing\, Data Analytics\, and AI &amp\; Software Engineering. Understand how we equip new hires with the skills and support needed for a strong career start.🎯Inside the Hiring Process: Receive expert advice from our campus recruiting team on how to excel in our hiring process and stand out as a candidate.🎤Guest Speaker – Brent Aydon: Hear from Brent Aydon\, a Client Strategy Lead who started his career in our Graduate Leadership Program. Brent will share a glimpse into the projects he has worked on and discuss his career growth and experiences with PMG.📅Don’t miss out—RSVP today to secure your spot and move closer to making your professional aspirations a reality.
UID:123228-21850529@events.umich.edu
URL:https://events.umich.edu/event/123228
CLASS:PUBLIC
STATUS:CONFIRMED
CATEGORIES:
LOCATION:
CONTACT:
END:VEVENT
BEGIN:VEVENT
DTSTAMP:20241010T060035
DTSTART;TZID=America/Detroit:20241114T130000
DTEND;TZID=America/Detroit:20241114T150000
SUMMARY:Lecture / Discussion:Legacy Law Center: Estate Planning\, Elder Law\, Probate
DESCRIPTION:Terry Bertram is a U-M alum\, who has been providing estate and elder law planning services in the greater Washtenaw County area for over 30 years.  His talk will focus on the importance of keeping estate plans updated and the steps to assure solid planning for elder life\, as well as protecting one's legacy for family members and/or designated recipients
UID:127648-21859431@events.umich.edu
URL:https://events.umich.edu/event/127648
CLASS:PUBLIC
STATUS:CONFIRMED
CATEGORIES:annual meeting
LOCATION:Off Campus Location - Morris J. Lawrence Building
CONTACT:
END:VEVENT
END:VCALENDAR