BEGIN:VCALENDAR
VERSION:2.0
PRODID:-//UM//UM*Events//EN
CALSCALE:GREGORIAN
BEGIN:VTIMEZONE
TZID:America/Detroit
TZURL:http://tzurl.org/zoneinfo/America/Detroit
X-LIC-LOCATION:America/Detroit
BEGIN:DAYLIGHT
TZOFFSETFROM:-0500
TZOFFSETTO:-0400
TZNAME:EDT
DTSTART:20070311T020000
RRULE:FREQ=YEARLY;BYMONTH=3;BYDAY=2SU
END:DAYLIGHT
BEGIN:STANDARD
TZOFFSETFROM:-0400
TZOFFSETTO:-0500
TZNAME:EST
DTSTART:20071104T020000
RRULE:FREQ=YEARLY;BYMONTH=11;BYDAY=1SU
END:STANDARD
END:VTIMEZONE
BEGIN:VEVENT
DTSTAMP:20241022T092104
DTSTART;TZID=America/Detroit:20241023T150000
DTEND;TZID=America/Detroit:20241023T180000
SUMMARY:Film Screening:Halaloween: A Muslim Horror Film Festival — *Warda* (2014)
DESCRIPTION:Welcome to Halaloween: A Muslim Horror Film Festival 2024!\n   \n   What is Halaloween? Halaloween screens horror films from across the globe that were made by\, for\, or about Muslims\, to understand: “What scares Muslim audiences? Are horror movies halal?”\n   \nThis year’s 2024 film festival will be in-person and online\, screening one film a week for the first half of October and culminating in one in-person event with the Palestine Fiction Council on October 16 and two in-person screenings at the State Theatre on Thursday\, October 24 and 31 at 7:30 PM. \n\n   The festival is free in person and online–but make sure to reserve tickets! Some films may not be available in certain countries. Films will be unlocked online each week of October\, and viewers will have the week to watch each film.\n   \n   We are inclusive of everyone's film needs: from new horror fans who close their eyes through most scary movies to those who love the gore–we've got films for everyone! Check the Halaloween Horror Rating in the description of each film for its scariness rating.\n   \n   The 2024 Halaloween Lineup:\n   \nOctober 10: Short films | Palestine | Morocco | Jordan | Azerbaijan\nOctober 16: Special Event: Jinn & Legends: Stories from Palestine^\nOctober 17: Warda | 2014 | Egypt\nOctober 24: In Flames | 2023 | Pakistan***\nOctober 31: Three | 2024 | UAE***\n   \n^This will be an in-person event in Ann Arbor\n*** These screenings will be in person at the State Theatre\n   \n   Reserve your tickets/seats: https://watch.eventive.org/halaloween\n   \n   __________________\n   \n   THIS WEEK’S FEATURE: *Warda* (2014)\n   \n   From Oct 17th to the 24th\, stream the Egyptian horror film Warda (2014) on demand at http://watch.eventive.org/halaloween. Pre-order the film anytime\, and check out the rest of the month’s Halaloween Horror selection!\n   \n   *Warda* | 2014 | 73 min | Egypt\n   Directed by Hadi El Bagoury\n   \n   Description: Warda is an Egyptian found-footage horror movie about a video blogger who returns from the Netherlands to his village home\, where his family has been dealing with creepy and strange events after the death of their father. Much like the Paranormal Activity franchise\, Warda relies on slow\, eerie vibes and jump scares to deliver its horrific message.\n   \n   Halaloween Horror Rating: 2/5 | Rating Explanation: Somewhat scary. Includes familial murder\, jump scares\, a gun\, found footage (shaky hand-held camera)\, jinn\, possession\, and exorcism.\n   \n   Religious Content: Islamic religious exorcism involving recitations of Ayat al-Kursi and other Quranic verses\, jinn\, heikh consultations\, Islamic prayer\, and debates about rational/scientific versus religious explanations for paranormal phenomena.\n   __________________\n\n*Halaloween: A Muslim Horror Film Festival *is brought to you by the Global Islamic Studies Center at the University of Michigan and co-sponsored by the Middle East Studies Department\, the Center for Middle Eastern and North African Studies\, the African Studies Center\,  American Culture\, Arab and Muslim American Studies\, the Center for South Asian Studies\, the Digital Islamic Studies Center\, Center for Russian\, East European\, and Eurasian Studies\, the International Institute\, the Department of Afroamerican and African Studies\, the Department of Film\, Television\, and Media\, the Institute for Research on Women & Gender\, and the University of Michigan Library. This event is free and open to all.  To watch the remaining Halaloween films\, visit http://watch.eventive.org/halaloween.\n   \n   For more events from the Global Islamic Studies Center at the University of Michigan\, please visit ii.umich.edu/islamicstudies.\n   \n   Join our Email newsletter: https://myumi.ch/nbW83\n   Islamic Studies Minor: https://myumi.ch/R5YnQ\n   Email islamicstudies@umich.edu\n   Masters Program: https://myumi.ch/v2gVP\n   Email MIRS-info@umich.edu\n   \n   Stay updated on our upcoming events by following our socials here:\n   Facebook: UmichGISC – https://www.facebook.com/UmichGISC/\n   Twitter: @umichgisc – https://twitter.com/umichGISC\n   If you have any questions\, feel free to reach out to islamicstudies@umich.edu.\n  \nIf there is anything we can do to make this event accessible to you\, please contact islamicstudies@umich.edu. Please be aware that advance notice is necessary as some accommodations may require more time for the university to arrange.
UID:126669-21857507@events.umich.edu
URL:https://events.umich.edu/event/126669
CLASS:PUBLIC
STATUS:CONFIRMED
CATEGORIES:Halaloween,International,Film,Halloween
LOCATION:Off Campus Location
CONTACT:
END:VEVENT
BEGIN:VEVENT
DTSTAMP:20241023T142045
DTSTART;TZID=America/Detroit:20241023T150000
DTEND;TZID=America/Detroit:20241023T163000
SUMMARY:Workshop / Seminar:Inclusive Leadership: Creating Inclusive Environments
DESCRIPTION:Having diverse individuals on a team or in an organization does not automatically make that space inclusive. Inclusive leaders create environments where a diverse group of individuals can thrive. In this interactive workshop\, we will discuss traits and practices of inclusive leaders and why it matters to create an environment in which all employees/members have a seat at the table\, where everyone feels heard and included for their unique contributions.\nBy the end of this workshop participants will: \nDiscuss Deloitte’s 6 Signature Traits of Inclusive Leaders\nUnderstand how cognizance of bias is essential to becoming an inclusive leader\nGain resources that can be utilized to improve your traits as an inclusive leader\nThis workshop is designed for University of Michigan master's students\, doctoral students\, and postdoctoral fellows. For faculty and staff\, please contact rackhampdeworkshops@umich.edu to see if we can accommodate your attendance.
UID:127246-21858733@events.umich.edu
URL:https://events.umich.edu/event/127246
CLASS:PUBLIC
STATUS:CONFIRMED
CATEGORIES:Sessions
LOCATION:UofM Dearborn 1330 PEC
CONTACT:
END:VEVENT
BEGIN:VEVENT
DTSTAMP:20241001T181539
DTSTART;TZID=America/Detroit:20241023T150000
DTEND;TZID=America/Detroit:20241023T163000
SUMMARY:Workshop / Seminar:Inclusive Leadership: Creating Inclusive Environments
DESCRIPTION:Having diverse individuals on a team or in an organization does not automatically make that space inclusive. Inclusive leaders create environments where a diverse group of individuals can thrive. In this interactive workshop\, we will discuss traits and practices of inclusive leaders and why it matters to create an environment in which all employees/members have a seat at the table\, where everyone feels heard and included for their unique contributions.\nBy the end of this workshop participants will:\n\nDiscuss Deloitte’s 6 Signature Traits of Inclusive Leaders\nUnderstand how cognizance of bias is essential to becoming an inclusive leader\nGain resources that can be utilized to improve your traits as an inclusive leader\n\nThis workshop is designed for University of Michigan master’s students\, doctoral students\, and postdoctoral fellows. For faculty and staff\, please contact rackhampdeworkshops@umich.edu to see if we can accommodate your attendance.\nRegistration is required at https://myumi.ch/3QGmz.\nWe want to ensure full and equitable participation in our events. If an accommodation would promote your full participation in this event\, please follow the registration link to indicate your accommodation requirements. Please let us know as soon as possible in order to have adequate time\, preferably one week\, to arrange for your requested accommodations or an effective alternative.
UID:127283-21858811@events.umich.edu
URL:https://events.umich.edu/event/127283
CLASS:PUBLIC
STATUS:CONFIRMED
CATEGORIES:Diversity,Graduate Students
LOCATION:Off Campus Location
CONTACT:
END:VEVENT
END:VCALENDAR