BEGIN:VCALENDAR
VERSION:2.0
PRODID:-//UM//UM*Events//EN
CALSCALE:GREGORIAN
BEGIN:VTIMEZONE
TZID:America/Detroit
TZURL:http://tzurl.org/zoneinfo/America/Detroit
X-LIC-LOCATION:America/Detroit
BEGIN:DAYLIGHT
TZOFFSETFROM:-0500
TZOFFSETTO:-0400
TZNAME:EDT
DTSTART:20070311T020000
RRULE:FREQ=YEARLY;BYMONTH=3;BYDAY=2SU
END:DAYLIGHT
BEGIN:STANDARD
TZOFFSETFROM:-0400
TZOFFSETTO:-0500
TZNAME:EST
DTSTART:20071104T020000
RRULE:FREQ=YEARLY;BYMONTH=11;BYDAY=1SU
END:STANDARD
END:VTIMEZONE
BEGIN:VEVENT
DTSTAMP:20241106T113919
DTSTART;TZID=America/Detroit:20241114T130000
DTEND;TZID=America/Detroit:20241114T140000
SUMMARY:Presentation:Perinatal Mental Health Equity: Research and Policies Relevant to Social Work
DESCRIPTION:Perinatal mental health is gaining recognition as a key antecedent of adverse maternal and child outcomes as the United States experiences a maternal mortality and morbidity crisis. Recent policy efforts have attempted to mitigate adverse outcomes through legislation and extending access to care with postpartum coverage through Medicaid expansion. Even with progress\, perinatal mental health policy continues to grapple with a basic truth: The United States lacks an overarching health care system capable of meeting the mental health care needs of perinatal people and their families. Moreover\, the burden of undiagnosed and untreated perinatal mental health challenges remains greatest among racially minoritized populations\, such as Black\, Asian\, and multiracial people. A broader understanding of perinatal mental health is needed\, grounded in the tenets of reproductive justice. Drawing from the reproductive justice framework and the NAPSW code of ethics\, this talk will articulate specific policies to meet perinatal mental health challenges and promote thriving for birthing people and their families.\n\nFree and open to the public. \n**Due to an overwhelming response\, we are no longer offering Continuing Education credit to eligible attendees.** However\, we are still accepting RSVPs! Those who RSVPd early on and indicated they were interested in receiving CE credit will still be allowed to fulfill the requirements for CE credit\, but unfortunately\, we cannot continue to offer this option to further RSVPs. We hope to receive your RSVP so that you can attend. Please let us know if you have any questions.
UID:127967-21859984@events.umich.edu
URL:https://events.umich.edu/event/127967
CLASS:PUBLIC
STATUS:CONFIRMED
CATEGORIES:public health,Race,public policy,public health workers,policy,Mental Health,Inequality,seminar,women's health,social work,Adult Behavioral Health,school of social work,Reproductive Justice Framework,community health,Equity,Diversity Equity and Inclusion,community health care workers,Community,Family,Inclusion,Health Disparities,health care policy,health
LOCATION:Off Campus Location
CONTACT:
END:VEVENT
BEGIN:VEVENT
DTSTAMP:20241129T123147
DTSTART;TZID=America/Detroit:20241114T130000
DTEND;TZID=America/Detroit:20241114T143000
SUMMARY:Careers / Jobs:The Intelligence and Cybersecurity Diversity Fellowship Nov. Recruitment Roundtable
DESCRIPTION:Are you looking for a summer job? Are you interested in working for one of the largest Federal Government Agencies? Well\, look no further. The Intelligence and Cybersecurity Diversity Fellowship (ICDF) Program is an opportunity for current college students attending an institution of higher education\, including Historically Black Colleges and Universities (HBCUs) and Minority Serving Institutes (MSIs) who are majoring in Intelligence and/or Cybersecurity-related areas of study. In this program\, students may receive:• A paid fellowship• First-hand\, practical experience in Intelligence and Cybersecurity disciplines• Participation in high-priority challenge projects• Training in core and technical competencies• Advice and support from mentors• Networking opportunities• Tuition assistance (if available) If you’re interested in learning more about the ICDFProgram\, please join us for a recruitment roundtable on Thursday\, November 14th at 1:00 pm EDT.
UID:128479-21860962@events.umich.edu
URL:https://events.umich.edu/event/128479
CLASS:PUBLIC
STATUS:CONFIRMED
CATEGORIES:
LOCATION:
CONTACT:
END:VEVENT
BEGIN:VEVENT
DTSTAMP:20241129T123155
DTSTART;TZID=America/Detroit:20241114T130000
DTEND;TZID=America/Detroit:20241114T140000
SUMMARY:Careers / Jobs:The Pathways Ahead: EPA Hiring Webinar
DESCRIPTION:Looking for an internship? The Environmental Protection Agency is hiring!Join the U.S. Environmental Protection Agency (EPA) for a virtual hiring webinar on November 14th\, at 1 p.m. ET. You’ll hearfrom EPA executives (who started as interns at EPA!)\, hiring specialists\, and current interns at the event.RSVP on Handshake for the eventlink. ASL and CART services will be provided. This event will be recorded.Never applied for a federal job before? No problem! You will learnhow to navigate the federal job application process and unique hiring pathways for students and recent graduates. There will be a Q&amp\;A portion where you can ask our panel of hiring specialists questions about the federal hiring process.There has never been a more critical moment to join our team. From tackling the climate crisis to advancing environmental justice\, what happens here helps change our world.This event is open to the public. If you have any questions\, please contact the Careers Team by emailing careers@epa.gov.You can do so much impactful work at EPA. Be the one who protects human health and the environment. Be EPA. For more information about EPA\, visit epa.gov/careers.
UID:128797-21861639@events.umich.edu
URL:https://events.umich.edu/event/128797
CLASS:PUBLIC
STATUS:CONFIRMED
CATEGORIES:
LOCATION:
CONTACT:
END:VEVENT
END:VCALENDAR