BEGIN:VCALENDAR
VERSION:2.0
PRODID:-//UM//UM*Events//EN
CALSCALE:GREGORIAN
BEGIN:VTIMEZONE
TZID:America/Detroit
TZURL:http://tzurl.org/zoneinfo/America/Detroit
X-LIC-LOCATION:America/Detroit
BEGIN:DAYLIGHT
TZOFFSETFROM:-0500
TZOFFSETTO:-0400
TZNAME:EDT
DTSTART:20070311T020000
RRULE:FREQ=YEARLY;BYMONTH=3;BYDAY=2SU
END:DAYLIGHT
BEGIN:STANDARD
TZOFFSETFROM:-0400
TZOFFSETTO:-0500
TZNAME:EST
DTSTART:20071104T020000
RRULE:FREQ=YEARLY;BYMONTH=11;BYDAY=1SU
END:STANDARD
END:VTIMEZONE
BEGIN:VEVENT
DTSTAMP:20240501T123134
DTSTART;TZID=America/Detroit:20240416T140000
DTEND;TZID=America/Detroit:20240416T143000
SUMMARY:Careers / Jobs:DEI Panel with MoLo Solutions
DESCRIPTION:Join us virtually to learn more about MoLo Solutions\, our Employee Run Resource Groups\, and hear from our employees about their experience working with MoLo. During this time you will get a look inside MoLo Solutions' inclusive company culture and gain insight on our DE&amp\;I initiatives. You will have the opportunity to ask questions and hear from MoLoemployees yourself.
UID:121245-21846079@events.umich.edu
URL:https://events.umich.edu/event/121245
CLASS:PUBLIC
STATUS:CONFIRMED
CATEGORIES:
LOCATION:
CONTACT:
END:VEVENT
BEGIN:VEVENT
DTSTAMP:20240501T123123
DTSTART;TZID=America/Detroit:20240416T140000
DTEND;TZID=America/Detroit:20240416T150000
SUMMARY:Careers / Jobs:Indian Health Service - April Virtual Information Session
DESCRIPTION:Are you driven to have a positive impact on public health and interested in working in culturally and geographically diverse environments?  \n\nThe Indian Health Service Office of Environmental Health and Engineering’s Division of Sanitation Facilities Construction is hosting monthly Virtual Information Sessions for engineers.  Learn more about the program’s mission\, career opportunities and locations\, and tips on the federal application process. \n\nWe hope you are able to join us! \n
UID:120804-21845323@events.umich.edu
URL:https://events.umich.edu/event/120804
CLASS:PUBLIC
STATUS:CONFIRMED
CATEGORIES:
LOCATION:
CONTACT:
END:VEVENT
BEGIN:VEVENT
DTSTAMP:20240501T123114
DTSTART;TZID=America/Detroit:20240416T140000
DTEND;TZID=America/Detroit:20240416T150000
SUMMARY:Careers / Jobs:USDA Forest Service – Navigating USAJOBS Webinar
DESCRIPTION:The Forest Service is hosting webinars to help you through theapplication process. Join us and get answers to your questions.\n\nNote: You may be prompted to download the free Microsoft Teams application. All webinars will be available to watch on-demand after the date and time listed.\n\nNavigating USAJOBS – Tuesday\, April 16\, 3pm-4pm MT\n\nVisit theForest Service Jobs webpage\, fs.usda.gov/fsjobs\, to learn more about career opportunities\, benefits\, hiring events\, and resources to help withthe application process.\n\nWe look forward to working with you.
UID:119626-21843084@events.umich.edu
URL:https://events.umich.edu/event/119626
CLASS:PUBLIC
STATUS:CONFIRMED
CATEGORIES:
LOCATION:
CONTACT:
END:VEVENT
END:VCALENDAR