BEGIN:VCALENDAR
VERSION:2.0
PRODID:-//UM//UM*Events//EN
CALSCALE:GREGORIAN
BEGIN:VTIMEZONE
TZID:America/Detroit
TZURL:http://tzurl.org/zoneinfo/America/Detroit
X-LIC-LOCATION:America/Detroit
BEGIN:DAYLIGHT
TZOFFSETFROM:-0500
TZOFFSETTO:-0400
TZNAME:EDT
DTSTART:20070311T020000
RRULE:FREQ=YEARLY;BYMONTH=3;BYDAY=2SU
END:DAYLIGHT
BEGIN:STANDARD
TZOFFSETFROM:-0400
TZOFFSETTO:-0500
TZNAME:EST
DTSTART:20071104T020000
RRULE:FREQ=YEARLY;BYMONTH=11;BYDAY=1SU
END:STANDARD
END:VTIMEZONE
BEGIN:VEVENT
DTSTAMP:20240917T124250
DTSTART;TZID=America/Detroit:20241023T150000
DTEND;TZID=America/Detroit:20241023T160000
SUMMARY:Recreational / Games:Kreativwerkstatt
DESCRIPTION:Chat in German and express yourself creatively. Crafting\, coloring\, painting\, drawing\, knitting\, sewing\, crochet\, embroidery\, origami? You will combine speaking German\, any level welcome\, beginners included\, and creatively expressing yourself. You are encouraged to bring your own materials or (ongoing) projects\, but we will also provide some materials and prompts each week. Contact Laura Okkema (lokkema@umich.edu) or Iris Zapf-Garcia (iriszaga@umich.edu.) with questions.
UID:125318-21857336@events.umich.edu
URL:https://events.umich.edu/event/125318
CLASS:PUBLIC
STATUS:CONFIRMED
CATEGORIES:German,German Studies,Germanic Languages And Literatures
LOCATION:Modern Languages Building - 3308
CONTACT:
END:VEVENT
BEGIN:VEVENT
DTSTAMP:20241107T123157
DTSTART;TZID=America/Detroit:20241023T150000
DTEND;TZID=America/Detroit:20241023T160000
SUMMARY:Careers / Jobs:LBMC Virtual Firm Showcase
DESCRIPTION:Are you interested in learning more about opportunities at LBMC?&nbsp\;Join LBMC for a virtual firm showcase on October 23rd at 3pm CST.Our virtual LBMC Firm Showcase is designed to introduce college underclassmen to LBMC\, offer an inside look at a career in public accounting\, and prepare you for LBMC's interview process!
UID:127597-21859381@events.umich.edu
URL:https://events.umich.edu/event/127597
CLASS:PUBLIC
STATUS:CONFIRMED
CATEGORIES:
LOCATION:
CONTACT:
END:VEVENT
BEGIN:VEVENT
DTSTAMP:20241017T131501
DTSTART;TZID=America/Detroit:20241023T150000
DTEND;TZID=America/Detroit:20241023T160000
SUMMARY:Workshop / Seminar:Learning Seminar in Algebraic Combinatorics: Wonderful Compactification I
DESCRIPTION:To prove log convexity of certain sequences of numbers\, one wants to realize those numbers as intersection numbers of certain cohomology classes on some varieties. We will introduce one kind of such varieties called wonderful compactifications. \n\nThis construction compactifies the complement of hyperplane arrangements with nice boundary divisors. We will discuss two ways of constructing them\, via ‘manually adding normal directions’ and via blow-up.
UID:127984-21860001@events.umich.edu
URL:https://events.umich.edu/event/127984
CLASS:PUBLIC
STATUS:CONFIRMED
CATEGORIES:
LOCATION:East Hall - 4088
CONTACT:
END:VEVENT
END:VCALENDAR