BEGIN:VCALENDAR
VERSION:2.0
PRODID:-//UM//UM*Events//EN
CALSCALE:GREGORIAN
BEGIN:VTIMEZONE
TZID:America/Detroit
TZURL:http://tzurl.org/zoneinfo/America/Detroit
X-LIC-LOCATION:America/Detroit
BEGIN:DAYLIGHT
TZOFFSETFROM:-0500
TZOFFSETTO:-0400
TZNAME:EDT
DTSTART:20070311T020000
RRULE:FREQ=YEARLY;BYMONTH=3;BYDAY=2SU
END:DAYLIGHT
BEGIN:STANDARD
TZOFFSETFROM:-0400
TZOFFSETTO:-0500
TZNAME:EST
DTSTART:20071104T020000
RRULE:FREQ=YEARLY;BYMONTH=11;BYDAY=1SU
END:STANDARD
END:VTIMEZONE
BEGIN:VEVENT
DTSTAMP:20231205T144915
DTSTART;TZID=America/Detroit:20240414T090000
DTEND;TZID=America/Detroit:20240414T230000
SUMMARY:Exhibition:Orson Welles as Family Man: Son\, Husband\, Father
DESCRIPTION:This exhibit provides a unique glimpse into the actor/director Orson Welles’ private life. Unlike previous U-M Library exhibits that focused on the artist at work\, this display shows him in informal and familial environments\, revealing a depth and complexity of character that are often overshadowed by his fame and professional achievements. The photographs and documents displayed showcase a variety of emotional tones — warmth\, humor\, tenderness\, and passion. Candid and relaxed more than posed\, they are similar to most people's pictures in old family albums.\n\nCulled from the Orson Welles-Beatrice Welles materials that are part of the Mavericks & Makers collection within the U-M Library’s Special Collections Research Center\, each photo or letter tells a story of a connection Welles held dearly. The materials included are from two periods: the late 1920s and early 1930s\, when Welles was a teenager\, and the mid-1950s to early 1960s\, during the early years of his marriage to his third wife\, Paola Mori. \n\nIt should be noted that Welles’s personal life was messy at best. Other collections housed at U-M that include personal materials related to Welles document his first and second marriages\, including the Welles-Feder Collection and the Wilson-Welles Collection. The items on display here were saved by his third and final child\, Beatrice Welles\, and reflect her childhood memories of her parents.\n\nThe exhibit is available during Hatcher Gallery Exhibit Room hours (https://umlib.us/hatchergalleryexhibits).
UID:115811-21835646@events.umich.edu
URL:https://events.umich.edu/event/115811
CLASS:PUBLIC
STATUS:CONFIRMED
CATEGORIES:Exhibition,Free,Library
LOCATION:Hatcher Graduate Library - Gallery Exhibit Room (1st floor)
CONTACT:
END:VEVENT
BEGIN:VEVENT
DTSTAMP:20240414T120016
DTSTART;TZID=America/Detroit:20240414T090000
DTEND;TZID=America/Detroit:20240414T150000
SUMMARY:Exercise / Fitness:Wrestle Against Autism 
DESCRIPTION:This is the 16th annual Wrestle Against Autism tournamnet. This is a great opportunity to get some fun competition while helping raise money for a good cause.
UID:120894-21845520@events.umich.edu
URL:https://events.umich.edu/event/120894
CLASS:PUBLIC
STATUS:CONFIRMED
CATEGORIES:
LOCATION:Champaign County Fairground
CONTACT:
END:VEVENT
BEGIN:VEVENT
DTSTAMP:20240221T155241
DTSTART;TZID=America/Detroit:20240414T100000
DTEND;TZID=America/Detroit:20240414T160000
SUMMARY:Exhibition:Products from Pollution: Carbon Capture and Conversion
DESCRIPTION:Phasing out fossil fuels is a primary means to fight climate change\, but it alone is not enough. Even if all emissions ceased tomorrow\, atmospheric CO2 levels are already dangerously high and the climate would keep warming before it eventually stabilizes. We have to reduce or “capture” legacy CO2 to avert disaster. As the International Panel on Climate Change stated\, the *only* way we can meet our climate goal is to use carbon capture in our climate change fighting tool kit. \n\nMany of the products that we use every day are made with carbon. Treating legacy CO2 as a resource with economic value rather than a pollutant allows us to generate revenue while also fighting climate change. \n\nHowever\, not all uses or types of captured CO2 are equal in terms of environmental or economic benefits. This exhibit includes a video game that helps explain the pros and cons associated with different methods and applications of carbon capture. \n\nAdditionally\, it also provides examples of two types of carbon removal\, an interactive block activity\, and sample products made from captured CO2.
UID:119221-21842436@events.umich.edu
URL:https://events.umich.edu/event/119221
CLASS:PUBLIC
STATUS:CONFIRMED
CATEGORIES:carbon reduction,climate,Climate Change,Engineering,Environment,Sustainability
LOCATION:Matthaei Botanical Gardens
CONTACT:
END:VEVENT
END:VCALENDAR