BEGIN:VCALENDAR
VERSION:2.0
PRODID:-//UM//UM*Events//EN
CALSCALE:GREGORIAN
BEGIN:VTIMEZONE
TZID:America/Detroit
TZURL:http://tzurl.org/zoneinfo/America/Detroit
X-LIC-LOCATION:America/Detroit
BEGIN:DAYLIGHT
TZOFFSETFROM:-0500
TZOFFSETTO:-0400
TZNAME:EDT
DTSTART:20070311T020000
RRULE:FREQ=YEARLY;BYMONTH=3;BYDAY=2SU
END:DAYLIGHT
BEGIN:STANDARD
TZOFFSETFROM:-0400
TZOFFSETTO:-0500
TZNAME:EST
DTSTART:20071104T020000
RRULE:FREQ=YEARLY;BYMONTH=11;BYDAY=1SU
END:STANDARD
END:VTIMEZONE
BEGIN:VEVENT
DTSTAMP:20241129T123142
DTSTART;TZID=America/Detroit:20241114T140000
DTEND;TZID=America/Detroit:20241114T144500
SUMMARY:Careers / Jobs:From Service to Success: A Veteran’s Journey at PCC
DESCRIPTION:Join us for a special Veterans Panel where PCC employees who have transitioned from military service to civilian roles share their personal journeys. This discussion will highlight the unique strengths veterans bring to the workplace and the ways in which PCC fosters an environment that values their contributions. Whether you're a veteran or interested in how military skills translate to corporate success\, this is a conversation you won't want to miss.  
UID:128386-21860767@events.umich.edu
URL:https://events.umich.edu/event/128386
CLASS:PUBLIC
STATUS:CONFIRMED
CATEGORIES:
LOCATION:
CONTACT:
END:VEVENT
BEGIN:VEVENT
DTSTAMP:20241129T123206
DTSTART;TZID=America/Detroit:20241114T140000
DTEND;TZID=America/Detroit:20241114T150000
SUMMARY:Careers / Jobs:IHS Sanitation Facilities Construction Virtual Career Fair
DESCRIPTION:We are excited to inform you that we will be hosting a Sanitation Facilities Construction Virtual Career Fair Event\, on Thursday\, November 14\, 2024 at 2:00 pm (ET) - 3:00 pm (ET). This presents a great opportunity for us to engage with talented candidates who are eager to learn more about our organization and potential careeropportunities. Thank you and we look forward to meeting with you! Thank you. SFC Hiring Team
UID:128904-21861878@events.umich.edu
URL:https://events.umich.edu/event/128904
CLASS:PUBLIC
STATUS:CONFIRMED
CATEGORIES:
LOCATION:
CONTACT:
END:VEVENT
BEGIN:VEVENT
DTSTAMP:20241111T140358
DTSTART;TZID=America/Detroit:20241114T150000
DTEND;TZID=America/Detroit:20241114T160000
SUMMARY:Workshop / Seminar:Clustering of Microtubule-based Motor Proteins: The Biological Roles and Mechanical Effects
DESCRIPTION:Mentor: Kristen Verhey
UID:129019-21862023@events.umich.edu
URL:https://events.umich.edu/event/129019
CLASS:PUBLIC
STATUS:CONFIRMED
CATEGORIES:Basic Science,Biology,Biosciences,Bsbsigns,Dissertation Defense,Life Science,Natural Sciences,Research
LOCATION:Medical Science Unit II - 3697
CONTACT:
END:VEVENT
END:VCALENDAR