BEGIN:VCALENDAR
VERSION:2.0
PRODID:-//UM//UM*Events//EN
CALSCALE:GREGORIAN
BEGIN:VTIMEZONE
TZID:America/Detroit
TZURL:http://tzurl.org/zoneinfo/America/Detroit
X-LIC-LOCATION:America/Detroit
BEGIN:DAYLIGHT
TZOFFSETFROM:-0500
TZOFFSETTO:-0400
TZNAME:EDT
DTSTART:20070311T020000
RRULE:FREQ=YEARLY;BYMONTH=3;BYDAY=2SU
END:DAYLIGHT
BEGIN:STANDARD
TZOFFSETFROM:-0400
TZOFFSETTO:-0500
TZNAME:EST
DTSTART:20071104T020000
RRULE:FREQ=YEARLY;BYMONTH=11;BYDAY=1SU
END:STANDARD
END:VTIMEZONE
BEGIN:VEVENT
DTSTAMP:20240501T123112
DTSTART;TZID=America/Detroit:20240416T160000
DTEND;TZID=America/Detroit:20240416T180000
SUMMARY:Careers / Jobs:Chrysalis Health Wings: OPTimize your Practice with Director of Therapist Success
DESCRIPTION:We are thrilled to invite you to our inaugural Wings program\,an exclusive initiative designed to support your professional development. The program will be led by our esteemed clinical providers\, including Adriana Santana\, MSW\, LCSW (Statewide Clinical Director)\, Tara Kellogg\,LMFT (State Director of Clinical Supervision and published author)\, Rebeca Gonzalez (Director of Therapist Success)\, and our Talent Acquisition team. Together we have over 100 years of Behavioral Healthcare clinical expertise to share with you. \n\nHere's a glimpse of what WINGS has in store for you: \n· Trauma Informed Care and Evidence-Based Practices \n· Adverse Childhood Experiences (ACEs) Practices\n· Licensure and Clinical Supervision Guidance\n· Importance of Clinician Self-Care and Boundaries \n· Optimizing your Clinical Practice & Therapy Experience\n\nWho we are looking for: \n- Students in their Last year of a Master’s Degree studying a Master’s of Psychology\, Social Work\, or Marriage & Family interested in Therapy Positions as part of our OPT & DJJ Therapist Development Career Path\n- Students in their last year of a bachelors degree studying a Bachelors in Psychology\, or Social Work interested in Case Management Positions as part of our Targeted Case Management Career Path (TCM)\n\n*Preferencegiven to Candidates with a Master’s degree from an accredited university or college in Psychology\, Social Work\, Marriage and Family Therapy\, Mental Health Counseling\, or related field. who are seeking to become Registered Interns in Florida and looking to launch their practice and receiveclinical supervision towards a license\n\n*We will review students who have degrees or majors in the following: Rehabilitation Counseling\, Human Services\, Forensic Psychology\, Community Counseling\, Psychology\, Youth Counseling\, Human Development\, Behavioral Science\, Art Therapy\, & Psychiatric Rehabilitation. In order for these curriculums to qualify transcripts must include at least four class codes that contain content from the following areas: Human Growth & Development\, Diagnosis and treatment of Psychology\, Human Sexuality\, Counseling Theories and Techniques\, Group Theories and Practice\, Dynamic of Marriage and Family Systems\, Individual Evaluation and Assessment\, Research and Program Evaluation\, Personality Theories\, Social and Cultural Foundations\, Counseling in Community Settings\, and Substance Use Disorders.
UID:119448-21842781@events.umich.edu
URL:https://events.umich.edu/event/119448
CLASS:PUBLIC
STATUS:CONFIRMED
CATEGORIES:
LOCATION:
CONTACT:
END:VEVENT
BEGIN:VEVENT
DTSTAMP:20240416T152038
DTSTART;TZID=America/Detroit:20240416T160000
DTEND;TZID=America/Detroit:20240416T170000
SUMMARY:Conference / Symposium:Coaching Corner Winter 2024
DESCRIPTION:Coaching Corner workshops are for students connected with Services for Students with Disabilities (SSD). They are hosted by the staff of Academic Support & Access Partnerships (ASAP) that work within SSD. The workshops are on various topics\, including but not limited to: executive functioning skills\, scholarships\, and other disability-related topics. 
UID:117051-21838623@events.umich.edu
URL:https://events.umich.edu/event/117051
CLASS:PUBLIC
STATUS:CONFIRMED
CATEGORIES:Sessions
LOCATION:
CONTACT:
END:VEVENT
BEGIN:VEVENT
DTSTAMP:20240415T171500
DTSTART;TZID=America/Detroit:20240416T160000
DTEND;TZID=America/Detroit:20240416T190000
SUMMARY:Community Service:Creating Comfort Blanket Party
DESCRIPTION:Wolverines for Life is partnering with the Donate Life Coalition of Michigan and the Michigan Donor Family Council to create no-sew fleece blankets for donor families as they grieve the loss of their loved one. These blankets will be donated to MDFC to be distributed to hospitals across the state in honor of families giving the ultimate Gift of Life.\n\nNo experience necessary. We’ll provide instructions before and at the event. Food will also be provided.
UID:121496-21846609@events.umich.edu
URL:https://events.umich.edu/event/121496
CLASS:PUBLIC
STATUS:CONFIRMED
CATEGORIES:Community Service,Food,Free,Health & Wellness,Medicine,Nursing,Pharmacy,Pre Med,Pre-Health,Public Health,service,Social Impact,Volunteer
LOCATION:Michigan League - Pendleton Ballroom
CONTACT:
END:VEVENT
END:VCALENDAR