BEGIN:VCALENDAR
VERSION:2.0
PRODID:-//UM//UM*Events//EN
CALSCALE:GREGORIAN
BEGIN:VTIMEZONE
TZID:America/Detroit
TZURL:http://tzurl.org/zoneinfo/America/Detroit
X-LIC-LOCATION:America/Detroit
BEGIN:DAYLIGHT
TZOFFSETFROM:-0500
TZOFFSETTO:-0400
TZNAME:EDT
DTSTART:20070311T020000
RRULE:FREQ=YEARLY;BYMONTH=3;BYDAY=2SU
END:DAYLIGHT
BEGIN:STANDARD
TZOFFSETFROM:-0400
TZOFFSETTO:-0500
TZNAME:EST
DTSTART:20071104T020000
RRULE:FREQ=YEARLY;BYMONTH=11;BYDAY=1SU
END:STANDARD
END:VTIMEZONE
BEGIN:VEVENT
DTSTAMP:20241107T123131
DTSTART;TZID=America/Detroit:20241023T150000
DTEND;TZID=America/Detroit:20241023T160000
SUMMARY:Careers / Jobs:Virtual Info Session for Future Teachers
DESCRIPTION:For Prospective Residency\, STEM Fellowship\, and Literacy Fellowship applicants to learn about Memphis Teacher Residency (MTR) mission\, history\, and strategy. Attendees will receive an overview of the residency and summer programs\, application process\, and financial benefits.We will get to take virtual tours of the housing that's provided and the MTR offices and hear from a current teacher resident! There will be giveaways and time to ask any questions you may have! We can't wait to see you there!&nbsp\;
UID:124424-21853018@events.umich.edu
URL:https://events.umich.edu/event/124424
CLASS:PUBLIC
STATUS:CONFIRMED
CATEGORIES:
LOCATION:
CONTACT:
END:VEVENT
BEGIN:VEVENT
DTSTAMP:20241008T153411
DTSTART;TZID=America/Detroit:20241023T153000
DTEND;TZID=America/Detroit:20241023T163000
SUMMARY:Lecture / Discussion:Art is the Highest Form of Hope
DESCRIPTION:Join us on October 23 at 3:30 pm in the Keene Theater for “Art is the Highest Form of Hope: Sixty Years of Teaching\, Studio Practice\, Activism and Life\,” a special lecture by artist Ann Savageau. \n\nLearn how her decades of experience as an artist and educator shaped her belief in the transformative power of art. Following the talk\, you are invited to a reception in the RC Art Gallery to view Savageau’s powerful exhibition Guardians: Spirits of Protection. \n\nDon’t miss this unique opportunity to engage with an artist who has dedicated her life to creativity and social impact! 🎨
UID:127547-21859304@events.umich.edu
URL:https://events.umich.edu/event/127547
CLASS:PUBLIC
STATUS:CONFIRMED
CATEGORIES:Activism,art,artists,artists and curators,arts,arts at michigan,Food,Free,Interdisciplinary,Social Impact,social justice,theater,theatre
LOCATION:East Quadrangle - Keene Theater
CONTACT:
END:VEVENT
BEGIN:VEVENT
DTSTAMP:20241016T135335
DTSTART;TZID=America/Detroit:20241023T153000
DTEND;TZID=America/Detroit:20241023T163000
SUMMARY:Social / Informal Gathering:IOE Coffee Chats
DESCRIPTION:Come join us for some coffee and snacks\, catch up with friends\, or simply take a break from your busy schedule. We’d love to see you there! Hosted by IOE INFORMS and HFES.
UID:127927-21859935@events.umich.edu
URL:https://events.umich.edu/event/127927
CLASS:PUBLIC
STATUS:CONFIRMED
CATEGORIES:Free,Industrial And Operations Engineering,Michigan Engineering,Undergraduate Students
LOCATION:Industrial and Operations Engineering Building - G869
CONTACT:
END:VEVENT
END:VCALENDAR