BEGIN:VCALENDAR
VERSION:2.0
PRODID:-//UM//UM*Events//EN
CALSCALE:GREGORIAN
BEGIN:VTIMEZONE
TZID:America/Detroit
TZURL:http://tzurl.org/zoneinfo/America/Detroit
X-LIC-LOCATION:America/Detroit
BEGIN:DAYLIGHT
TZOFFSETFROM:-0500
TZOFFSETTO:-0400
TZNAME:EDT
DTSTART:20070311T020000
RRULE:FREQ=YEARLY;BYMONTH=3;BYDAY=2SU
END:DAYLIGHT
BEGIN:STANDARD
TZOFFSETFROM:-0400
TZOFFSETTO:-0500
TZNAME:EST
DTSTART:20071104T020000
RRULE:FREQ=YEARLY;BYMONTH=11;BYDAY=1SU
END:STANDARD
END:VTIMEZONE
BEGIN:VEVENT
DTSTAMP:20240312T090044
DTSTART;TZID=America/Detroit:20240416T160000
DTEND;TZID=America/Detroit:20240416T172000
SUMMARY:Workshop / Seminar:How to apply for a math research postdoc
DESCRIPTION:Considering applying for a research-focused postdoc position in math? Dick Canary---our department's chair of postdoc hiring---will lead an info session on the application process\, offer advice for applicants\, and answer your questions. Light refreshments will be served.
UID:120049-21843986@events.umich.edu
URL:https://events.umich.edu/event/120049
CLASS:PUBLIC
STATUS:CONFIRMED
CATEGORIES:Mathematics
LOCATION:East Hall - Common Room
CONTACT:
END:VEVENT
BEGIN:VEVENT
DTSTAMP:20230725T162131
DTSTART;TZID=America/Detroit:20240416T160000
DTEND;TZID=America/Detroit:20240416T171500
SUMMARY:Workshop / Seminar:Jeff Martell Seminar
DESCRIPTION:Title & Abstract TBD
UID:109305-21821370@events.umich.edu
URL:https://events.umich.edu/event/109305
CLASS:PUBLIC
STATUS:CONFIRMED
CATEGORIES:Chemical Biology,Chemistry,Science
LOCATION:Chemistry Dow Lab - 1640
CONTACT:
END:VEVENT
BEGIN:VEVENT
DTSTAMP:20240412T115921
DTSTART;TZID=America/Detroit:20240416T160000
DTEND;TZID=America/Detroit:20240416T170000
SUMMARY:Lecture / Discussion:Math Undergraduate Seminar: Modular Curves and Moduli Spaces
DESCRIPTION:For motivation\, we discuss elliptic curves and equivalent characterizations. We then discuss modular curves and their use in studying points on elliptic curves. After briefly touching on the modularity theorem\, we turn to moduli spaces as a way of studying more general genus g curves. If time permits\, we'll touch on moduli stacks and\, more generally\, algebraic stacks.
UID:121388-21846489@events.umich.edu
URL:https://events.umich.edu/event/121388
CLASS:PUBLIC
STATUS:CONFIRMED
CATEGORIES:Mathematics,Talk,Undergraduate Students
LOCATION:East Hall - B734
CONTACT:
END:VEVENT
END:VCALENDAR