BEGIN:VCALENDAR
VERSION:2.0
PRODID:-//UM//UM*Events//EN
CALSCALE:GREGORIAN
BEGIN:VTIMEZONE
TZID:America/Detroit
TZURL:http://tzurl.org/zoneinfo/America/Detroit
X-LIC-LOCATION:America/Detroit
BEGIN:DAYLIGHT
TZOFFSETFROM:-0500
TZOFFSETTO:-0400
TZNAME:EDT
DTSTART:20070311T020000
RRULE:FREQ=YEARLY;BYMONTH=3;BYDAY=2SU
END:DAYLIGHT
BEGIN:STANDARD
TZOFFSETFROM:-0400
TZOFFSETTO:-0500
TZNAME:EST
DTSTART:20071104T020000
RRULE:FREQ=YEARLY;BYMONTH=11;BYDAY=1SU
END:STANDARD
END:VTIMEZONE
BEGIN:VEVENT
DTSTAMP:20241107T123219
DTSTART;TZID=America/Detroit:20241023T153000
DTEND;TZID=America/Detroit:20241023T161500
SUMMARY:Careers / Jobs:Pathways Into Teaching-Marshall Teacher Residency
DESCRIPTION:The Pathways Into Teaching workshop is an overview of the various pathways into teaching\, including Master's programs\, Intern Programs and Teacher Residencies. This workshop is perfect for anyone considering a career in education and will be facilitated by representative from the Marshall Teacher Residency Program.The Marshall Teacher Residency is a one-year\, accelerated teacher preparation program providing hands-on clinical practice\, personalized mentoring\, in-classroom coaching\, and a collaborative community. In just 12 months\, become a credentialed teacher and receive priority hiring at more than 20 California districts and public charter networks! We provide affordable tuition and a living stipend\, with state grants and other financial aid options to cover your tuition.  As one of the most comprehensive residencies for aspiring teachers in the nation\, we provide a pathway to:\nSingle Subject Teaching\nMultiple Subjects Teaching\nEducation Specialist Instruction\nLearn more about the program and credential options here. Designed in partnership with experts from Stanford University\, and born out of Summit Public Schools\, we are based in the San Francisco Bay Area\, and partner with schools throughout California.
UID:127981-21859998@events.umich.edu
URL:https://events.umich.edu/event/127981
CLASS:PUBLIC
STATUS:CONFIRMED
CATEGORIES:
LOCATION:
CONTACT:
END:VEVENT
BEGIN:VEVENT
DTSTAMP:20241107T123148
DTSTART;TZID=America/Detroit:20241023T160000
DTEND;TZID=America/Detroit:20241023T170000
SUMMARY:Careers / Jobs:A Day in the Life: Technology at GM Financial
DESCRIPTION:GM Financial is set to change the auto finance industry andis leading the path of embarking on tech modernization – we have a startup mindset\, and preserve our small company culture\, in a public companyenvironment with financial stability and intense growth over a decade-plus history. We are data junkies and trust in data and insights to advanceour business objectives. We take our goal of zero emission\, zero collision\, zero congestion\, and zero friction very seriously. We believe as an auto finance market leader we are in the driver's seat to lead us in the GM EV mission to change the world. Join this panel discussion to learn more about our fintech culture within a Blue-Chip company where we are changing the way we use technology to support our customers\, dealers and business. 
UID:127031-21858318@events.umich.edu
URL:https://events.umich.edu/event/127031
CLASS:PUBLIC
STATUS:CONFIRMED
CATEGORIES:
LOCATION:
CONTACT:
END:VEVENT
BEGIN:VEVENT
DTSTAMP:20241016T024419
DTSTART;TZID=America/Detroit:20241023T160000
DTEND;TZID=America/Detroit:20241023T170000
SUMMARY:Workshop / Seminar:Algebraic Geometry Seminar: Tautological classes\, perverse filtrations\, and moduli of one-dimensional sheaves
DESCRIPTION:Tautological classes have been instrumental in the cohomological study of moduli of bundles and sheaves since the 1980s. A natural construction using these classes\, called the Chern filtration\, has played a crucial role in recent proofs of the P=W conjecture\, where it is identified with the perverse filtration on moduli of Higgs bundles induced by the Hitchin fibration — a phenomenon now known as “P=C”. In this talk\, I will discuss an analog of this phenomenon for moduli of 1-dimensional sheaves on del Pezzo surfaces. I will survey recent progress\, highlight key differences from the P=W conjecture\, and explain some implications to enumerative geometry. Based on a series of papers joint with Y. Kononov\, W. Lim\, M. Moreira\, J. Shen\, F. Si\, and F. Zhang.
UID:124958-21854139@events.umich.edu
URL:https://events.umich.edu/event/124958
CLASS:PUBLIC
STATUS:CONFIRMED
CATEGORIES:Mathematics
LOCATION:East Hall - 4096
CONTACT:
END:VEVENT
END:VCALENDAR