BEGIN:VCALENDAR
VERSION:2.0
PRODID:-//UM//UM*Events//EN
CALSCALE:GREGORIAN
BEGIN:VTIMEZONE
TZID:America/Detroit
TZURL:http://tzurl.org/zoneinfo/America/Detroit
X-LIC-LOCATION:America/Detroit
BEGIN:DAYLIGHT
TZOFFSETFROM:-0500
TZOFFSETTO:-0400
TZNAME:EDT
DTSTART:20070311T020000
RRULE:FREQ=YEARLY;BYMONTH=3;BYDAY=2SU
END:DAYLIGHT
BEGIN:STANDARD
TZOFFSETFROM:-0400
TZOFFSETTO:-0500
TZNAME:EST
DTSTART:20071104T020000
RRULE:FREQ=YEARLY;BYMONTH=11;BYDAY=1SU
END:STANDARD
END:VTIMEZONE
BEGIN:VEVENT
DTSTAMP:20240312T111913
DTSTART;TZID=America/Detroit:20240416T160000
DTEND;TZID=America/Detroit:20240416T170000
SUMMARY:Workshop / Seminar:Panel Q&A: How to apply for tenure-track jobs in math
DESCRIPTION:\"What is the process for applying for research-focused tenure-track positions in math?\"  \"How do I prepare a strong application file?\" If you're considering applying\, bring your questions to our panel of UM Faculty in pure and applied math. Our panelists---Lydia Bieri\, Nir Gadish\, Zaher Hani\, and Ralf Spatzier---have recent experience on the UM tenure-line hiring committee\, or on the tenure-track job market. Light refreshments will be served.\n\n(Organized by Jenny Wilson)
UID:119331-21842576@events.umich.edu
URL:https://events.umich.edu/event/119331
CLASS:PUBLIC
STATUS:CONFIRMED
CATEGORIES:Mathematics
LOCATION:East Hall - 1360
CONTACT:
END:VEVENT
BEGIN:VEVENT
DTSTAMP:20240223T154554
DTSTART;TZID=America/Detroit:20240416T160000
DTEND;TZID=America/Detroit:20240416T170000
SUMMARY:Lecture / Discussion:Pluripotent stem cells to model and treat lung disease
DESCRIPTION:Director\nCenter for Regenerative Medicine (CReM)\nBoston University and Boston Medical Center
UID:119319-21842563@events.umich.edu
URL:https://events.umich.edu/event/119319
CLASS:PUBLIC
STATUS:CONFIRMED
CATEGORIES:Basic Science,Undergraduate Students,seminar,Science,Research,Rackham,Public Health,Postdoctoral Research Fellows,Medicine,Life Science,Lecture,Interdisciplinary,In Person,human genetics,Graduate Students,Graduate School,Free,Engineering,Education,Ecology,conference,Biosciences,biomedical engineering,biomedical,Biology,Biointerfaces,AEM Featured
LOCATION:Off Campus Location
CONTACT:
END:VEVENT
BEGIN:VEVENT
DTSTAMP:20240416T152038
DTSTART;TZID=America/Detroit:20240416T160000
DTEND;TZID=America/Detroit:20240416T173000
SUMMARY:Workshop / Seminar:SACNAS Work Hard' Play Hard
DESCRIPTION:Join us for dedicated space to work in the Office of Graduate Studies (OGPS) Lounge from 4-5:30pm. Afterwards\, we'll migrate to the lounge for food\, fun\, and games!
UID:121294-21846352@events.umich.edu
URL:https://events.umich.edu/event/121294
CLASS:PUBLIC
STATUS:CONFIRMED
CATEGORIES:Sessions
LOCATION:OGPS Lounge
CONTACT:
END:VEVENT
END:VCALENDAR