BEGIN:VCALENDAR
VERSION:2.0
PRODID:-//UM//UM*Events//EN
CALSCALE:GREGORIAN
BEGIN:VTIMEZONE
TZID:America/Detroit
TZURL:http://tzurl.org/zoneinfo/America/Detroit
X-LIC-LOCATION:America/Detroit
BEGIN:DAYLIGHT
TZOFFSETFROM:-0500
TZOFFSETTO:-0400
TZNAME:EDT
DTSTART:20070311T020000
RRULE:FREQ=YEARLY;BYMONTH=3;BYDAY=2SU
END:DAYLIGHT
BEGIN:STANDARD
TZOFFSETFROM:-0400
TZOFFSETTO:-0500
TZNAME:EST
DTSTART:20071104T020000
RRULE:FREQ=YEARLY;BYMONTH=11;BYDAY=1SU
END:STANDARD
END:VTIMEZONE
BEGIN:VEVENT
DTSTAMP:20241018T124029
DTSTART;TZID=America/Detroit:20241114T150000
DTEND;TZID=America/Detroit:20241114T153000
SUMMARY:Workshop / Seminar:Tech Talk: Troubleshooting & You
DESCRIPTION:Join us for some expert guidance on DIY troubleshooting. Our Tech Help expert will teach you how to recognize problems and how to find answers to some common technical issues. We will focus primarily on computer troubleshooting (Windows\, Mac\, and Linux)\, but techniques and approaches would also be applicable to other kinds of devices such as smartphones\, smart watches\, or gaming consoles.\n\nBYOD: mobile computing device (optional)\n\nWho: Open to all\nWhen: Thursdays at 3 p.m. (lasting 20-30 minutes\, with option for Q&A and personal consulting to follow)\nWhere: Michigan Union | Ground Floor\n\nIt would be great if you registered to let us know you’re coming\, but drop-ins are also welcome!
UID:128044-21860088@events.umich.edu
URL:https://events.umich.edu/event/128044
CLASS:PUBLIC
STATUS:CONFIRMED
CATEGORIES:Free,In Person,Tech Shop,technology,workshop
LOCATION:Michigan Union - G-312
CONTACT:
END:VEVENT
BEGIN:VEVENT
DTSTAMP:20241129T123116
DTSTART;TZID=America/Detroit:20241114T153000
DTEND;TZID=America/Detroit:20241114T163000
SUMMARY:Careers / Jobs: MEDITECH Career Panel: Women in Tech (Virtual)
DESCRIPTION:CLIENT TRAINER ROLES AT MEDITECH!Join our Career Panel to learn more about the many hybrid opportunities at MEDITECH\, our culture\, and benefits - and network with members of our team. We're looking forward to meeting you! Sign up via Handshake\, or email jobs@meditech.com to receive joining info for the event! #MeaningfulCareers #MEDITECHCareersCheck us out on the MEDITECH Handshake page &amp\; MEDITECH LInkedIN to learn more about our locations in Georgia\, Massachusetts\, and Minnesota!
UID:128198-21860426@events.umich.edu
URL:https://events.umich.edu/event/128198
CLASS:PUBLIC
STATUS:CONFIRMED
CATEGORIES:
LOCATION:
CONTACT:
END:VEVENT
BEGIN:VEVENT
DTSTAMP:20241104T124502
DTSTART;TZID=America/Detroit:20241114T153000
DTEND;TZID=America/Detroit:20241114T162000
SUMMARY:Lecture / Discussion:The Department of Astronomy 2024-2025 Colloquium Series Presents:
DESCRIPTION:\"XRISM – A New Window into the X-ray Universe\"\n\nAt 23:42 UTC on September 6th\, 2023\, the X-ray Imaging and Spectroscopy Mission (XRISM) lifted off from Tanegashima Space Center in Japan\, ushering in a new era of high-energy astrophysics. XRISM\, an international JAXA/NASA collaboration including participation from ESA\, is an advanced X-ray observatory capable of carrying out a science program that will address some of the most important questions in astrophysics in the 2020s. XRISM is essentially a rebuild of the Hitomi (Astro-H) spacecraft that was lost due to an operational mishap early in the mission in 2016. Resolve\, the primary instrument on XRISM\, is a high-resolution\, non-dispersive X-ray spectrometer operating between 0.3-12 keV\, providing high-resolution (~5 eV) spectroscopic capabilities in this critical energy band with a response peaking around the ubiquitous 6.4 keV Fe K-alpha line. A wide-field imager\, Xtend\, will offer simultaneous coverage over nearly a 40’ square field of view\, with ~1’ spatial resolution. XRISM will study all manner of astrophysical objects\, including galaxies and clusters\, AGN\, X-ray binaries\, supernova remnants\, transient phenomena\, stars\, and the interstellar medium. In this talk\, I will highlight some of the scientific topics that XRISM will address\, in addition to providing a general status update on the mission. I will discuss the synergies between high-resolution X-ray spectroscopy and observations at other wavelengths\, including optical\, radio\, and IR\, and summarize the General Observer program\, where funding is available for observers based at U.S. institutions.
UID:128680-21861485@events.umich.edu
URL:https://events.umich.edu/event/128680
CLASS:PUBLIC
STATUS:CONFIRMED
CATEGORIES:astronomy,astrophysics
LOCATION:West Hall - 411
CONTACT:
END:VEVENT
END:VCALENDAR