BEGIN:VCALENDAR
VERSION:2.0
PRODID:-//UM//UM*Events//EN
CALSCALE:GREGORIAN
BEGIN:VTIMEZONE
TZID:America/Detroit
TZURL:http://tzurl.org/zoneinfo/America/Detroit
X-LIC-LOCATION:America/Detroit
BEGIN:DAYLIGHT
TZOFFSETFROM:-0500
TZOFFSETTO:-0400
TZNAME:EDT
DTSTART:20070311T020000
RRULE:FREQ=YEARLY;BYMONTH=3;BYDAY=2SU
END:DAYLIGHT
BEGIN:STANDARD
TZOFFSETFROM:-0400
TZOFFSETTO:-0500
TZNAME:EST
DTSTART:20071104T020000
RRULE:FREQ=YEARLY;BYMONTH=11;BYDAY=1SU
END:STANDARD
END:VTIMEZONE
BEGIN:VEVENT
DTSTAMP:20241021T165837
DTSTART;TZID=America/Detroit:20241023T160000
DTEND;TZID=America/Detroit:20241023T180000
SUMMARY:Presentation:Have Funding - Will Travel
DESCRIPTION:Come join us for a funding opportunity expo for all U-M students! Explore a variety of fellowships\, scholarships\, and grants for your international experience.\n   \nPlease RSVP at https://myumi.ch/EPnG7\n   \nOffices from across U-M will be showcasing a variety of funding opportunities available to students and alumni interested in studying\, interning\, researching\, and working abroad. This event is a perfect chance to learn how to make international experiences more affordable and get all your questions answered. You'll have the opportunity to connect with and seek advice from the following teams: \n\n - II Fellowships Advisors\n - Program Alumni\n - Financial Aid and LSA Scholarships Office\n - Additional on-campus offices\n\nBe sure to RSVP for more details and reminders! You can drop by anytime during the opportunity fair event hours.\n\nU-M Offices Participating*\n*Attending in-person\, tabling\, or providing materials\n\n - Center for Global and Intercultural Study\n - Center for Global Health Equity\n - Center for Latin American and Caribbean Studies\n - Global REACH\, Michigan Medicine\n - International Center\n - International Programs in Engineering\n - LSA Barger Leadership Institute\n - LSA Opportunity Hub\n - LSA Scholarships\n - Masters in International and Regional Studies\n - Office of Financial Aid\n - Office of Global Affairs\, Michigan Nursing\n - Office of Global Public Health\, School of Public Health\n - Office of National Scholarships and Fellowships\n - Office of the Provost Global Engagement Team\n - Weiser Center for Europe and Eurasia\n   \nIf there is anything we can do to make this event accessible to you\, please contact us at iifellowships@umich.edu. Please be aware that advance notice is necessary as some accommodations may require more time for the university to arrange.
UID:124768-21853763@events.umich.edu
URL:https://events.umich.edu/event/124768
CLASS:PUBLIC
STATUS:CONFIRMED
CATEGORIES:International Education,international institute,Internship,Languages,Professional Development,Scholarships,Study Abroad,International
LOCATION:Weiser Hall - 10th Floor
CONTACT:
END:VEVENT
BEGIN:VEVENT
DTSTAMP:20241107T123217
DTSTART;TZID=America/Detroit:20241023T160000
DTEND;TZID=America/Detroit:20241023T170000
SUMMARY:Careers / Jobs:NCAL KAISER PERMANENTE - PSYCH. DOCTORAL INTERNSHIP TRAINING PROGRAM - INFO. SESSION
DESCRIPTION:Kaiser Permanente’s Northern California Mental Health Training Program would like to invite you to join us and a panel of experts at one of our upcoming Psychology Doctoral Internship Virtual Information Sessions. The session will provide you with a high-level overview of KaiserPermanente\, details around the program and position\, and an opportunityto ask questions. We look forward to seeing you!
UID:127955-21859971@events.umich.edu
URL:https://events.umich.edu/event/127955
CLASS:PUBLIC
STATUS:CONFIRMED
CATEGORIES:
LOCATION:
CONTACT:
END:VEVENT
BEGIN:VEVENT
DTSTAMP:20241021T013224
DTSTART;TZID=America/Detroit:20241023T160000
DTEND;TZID=America/Detroit:20241023T180000
SUMMARY:Workshop / Seminar:Student AIM Seminar
DESCRIPTION:Internship/Fellowship Panel:\nMath/AIM graduate students who have participated in internships or fellowships were invited to share their experiences\, discuss the application processes\, and answer questions from the audience. This is a great opportunity especially for graduate student attendees to gain insight into securing internships and fellowships.\n\nCasual Networking Mixer:\nGraduate students\, postdocs\, and faculty\, especially those working in Applied Math are invited to a casual networking mixer after the internship/fellowship panel. Foods and drinks will be provided.
UID:128095-21860177@events.umich.edu
URL:https://events.umich.edu/event/128095
CLASS:PUBLIC
STATUS:CONFIRMED
CATEGORIES:Networking,Mathematics,Internships,Fellowships,Applied Mathematics
LOCATION:East Hall - B737
CONTACT:
END:VEVENT
END:VCALENDAR