BEGIN:VCALENDAR
VERSION:2.0
PRODID:-//UM//UM*Events//EN
CALSCALE:GREGORIAN
BEGIN:VTIMEZONE
TZID:America/Detroit
TZURL:http://tzurl.org/zoneinfo/America/Detroit
X-LIC-LOCATION:America/Detroit
BEGIN:DAYLIGHT
TZOFFSETFROM:-0500
TZOFFSETTO:-0400
TZNAME:EDT
DTSTART:20070311T020000
RRULE:FREQ=YEARLY;BYMONTH=3;BYDAY=2SU
END:DAYLIGHT
BEGIN:STANDARD
TZOFFSETFROM:-0400
TZOFFSETTO:-0500
TZNAME:EST
DTSTART:20071104T020000
RRULE:FREQ=YEARLY;BYMONTH=11;BYDAY=1SU
END:STANDARD
END:VTIMEZONE
BEGIN:VEVENT
DTSTAMP:20241111T144115
DTSTART;TZID=America/Detroit:20241114T160000
DTEND;TZID=America/Detroit:20241114T180000
SUMMARY:Workshop / Seminar:[Figma Workshop 01] Introduction to Styles: Typography & Colors
DESCRIPTION:In this first workshop session\, we learn the basics of colors and typography\, and by the end you’ll have a useable fully functional styles set up in Figma that you can use in any project.\n\nAll FLUX workshops ensure you walk away with something you can use for your own projects.\n\n———\nFLUX stands for Figma Learning for User Experience. We are a group of students passionate about user experience design and Figma.\n\nOur mission is to create events and activities that support the learning of Figma and UX for students of all levels of expertise and backgrounds across the University of Michigan.
UID:129022-21862052@events.umich.edu
URL:https://events.umich.edu/event/129022
CLASS:PUBLIC
STATUS:CONFIRMED
CATEGORIES:Information And Technology,User Experience Design
LOCATION:North Quad - 2245
CONTACT:
END:VEVENT
BEGIN:VEVENT
DTSTAMP:20240808T104925
DTSTART;TZID=America/Detroit:20241114T160000
DTEND;TZID=America/Detroit:20241114T173000
SUMMARY:Lecture / Discussion:34th Annual Davis\, Markert\, Nickerson Lecture on Academic and Intellectual Freedom
DESCRIPTION:SPEAKER: JUDITH BUTLER\nNovember 14\, 2024\n4:00-5:30 P.M.\n100 Hutchins Hall\n(Zoom link coming soon)\n\nThe annual Davis\, Markert\, Nickerson Lecture on Academic and Intellectual Freedom is named for three U-M faculty members—Chandler Davis\, Clement Markert\, and Mark Nickerson—who in 1954 were called to testify before the House Un-American Activities Committee. All invoked constitutional rights and refused to answer questions about their political associations. The three were suspended from the University with subsequent hearings and committee actions resulting in the reinstatement of Markert\, an assistant professor who eventually gained tenure\, and the dismissal of Davis\, an instructor\, and Nickerson\, a tenured associate professor.
UID:124006-21852277@events.umich.edu
URL:https://events.umich.edu/event/124006
CLASS:PUBLIC
STATUS:CONFIRMED
CATEGORIES:academic freedom,conference,Discussion,Faculty Governance,Social Impact
LOCATION:Hutchins Hall - 100
CONTACT:
END:VEVENT
BEGIN:VEVENT
DTSTAMP:20241129T123149
DTSTART;TZID=America/Detroit:20241114T160000
DTEND;TZID=America/Detroit:20241114T170000
SUMMARY:Careers / Jobs:Bridging the gap: Supporting veterans\, service members & familiesin the workplace
DESCRIPTION:Inclusion at RSM Webcast Series: Bridging the gap: Supporting military veterans\, active service members and their families in the workplace For active military members\, veterans and their families\, transitioning into or balancing civilian careers can present challenges and opportunities. This session invites students\, activeservice members\, veterans and their families to explore how workplaces can be inclusive and supportive of those who serve. We’ll dive into the unique strengths that military experience brings—such as adaptability\, leadership and discipline—and discuss practical strategies for navigatingthe transition\, building career pathways\, and fostering a workplace culture that recognizes and supports military service.  
UID:128616-21861368@events.umich.edu
URL:https://events.umich.edu/event/128616
CLASS:PUBLIC
STATUS:CONFIRMED
CATEGORIES:
LOCATION:
CONTACT:
END:VEVENT
END:VCALENDAR