BEGIN:VCALENDAR
VERSION:2.0
PRODID:-//UM//UM*Events//EN
CALSCALE:GREGORIAN
BEGIN:VTIMEZONE
TZID:America/Detroit
TZURL:http://tzurl.org/zoneinfo/America/Detroit
X-LIC-LOCATION:America/Detroit
BEGIN:DAYLIGHT
TZOFFSETFROM:-0500
TZOFFSETTO:-0400
TZNAME:EDT
DTSTART:20070311T020000
RRULE:FREQ=YEARLY;BYMONTH=3;BYDAY=2SU
END:DAYLIGHT
BEGIN:STANDARD
TZOFFSETFROM:-0400
TZOFFSETTO:-0500
TZNAME:EST
DTSTART:20071104T020000
RRULE:FREQ=YEARLY;BYMONTH=11;BYDAY=1SU
END:STANDARD
END:VTIMEZONE
BEGIN:VEVENT
DTSTAMP:20240313T111243
DTSTART;TZID=America/Detroit:20240416T163000
DTEND;TZID=America/Detroit:20240416T183000
SUMMARY:Reception / Open House:2024 Frankel Center Annual Book Party
DESCRIPTION:Join our annual celebration of recent publications by Frankel Center Faculty and Fellows. This year we are honoring: \n\nAdi Saleem\nDeborah Dash Moore\nCatherine M. Soussloff\nMikhail Krutikov\nJeffrey Abt\nJindrich Toman\nAdam Lowenstein\nRichard I. Cohen and Mirjam Rajner\nMarina Mayorski and Maya Barzilai\nLouis Kaplan\n\nThe University of Michigan College of Literature\, Science and the Arts greatly values inclusion and access for all. We are pleased to provide reasonable accommodations to enable full participation in this event. Please contact js-event-coord@umich.edu to request disability accommodations or with any questions/concerns. Please provide advance notice to ensure sufficient time to meet requested accommodations.
UID:120113-21844080@events.umich.edu
URL:https://events.umich.edu/event/120113
CLASS:PUBLIC
STATUS:CONFIRMED
CATEGORIES:Books,Visual Arts,Sociology,Social Sciences,Religious,literature,LGBT,jewish studies,International,Interdisciplinary,Exhibition,Contemporary Literature,book discussion
LOCATION:202 S. Thayer - 2022
CONTACT:
END:VEVENT
BEGIN:VEVENT
DTSTAMP:20240416T162021
DTSTART;TZID=America/Detroit:20240416T164500
DTEND;TZID=America/Detroit:20240416T191500
SUMMARY:Workshop / Seminar:Michigan Men at SAPAC
DESCRIPTION:
UID:121490-21846605@events.umich.edu
URL:https://events.umich.edu/event/121490
CLASS:PUBLIC
STATUS:CONFIRMED
CATEGORIES:Sessions
LOCATION:4th floor of the union, SAPAC shared space
CONTACT:
END:VEVENT
BEGIN:VEVENT
DTSTAMP:20240401T181700
DTSTART;TZID=America/Detroit:20240416T170000
DTEND;TZID=America/Detroit:20240416T183000
SUMMARY:Performance:Euphonium & Tuba Ensemble
DESCRIPTION:The U-M Euphonium & Tuba Ensemble\, featuring students from the studio of Professor David Zerkel\, performs a recital.
UID:121035-21845729@events.umich.edu
URL:https://events.umich.edu/event/121035
CLASS:PUBLIC
STATUS:CONFIRMED
CATEGORIES:Free,Music,North Campus
LOCATION:Walgreen Drama Center - Stamps Auditorium
CONTACT:
END:VEVENT
END:VCALENDAR