BEGIN:VCALENDAR
VERSION:2.0
PRODID:-//UM//UM*Events//EN
CALSCALE:GREGORIAN
BEGIN:VTIMEZONE
TZID:America/Detroit
TZURL:http://tzurl.org/zoneinfo/America/Detroit
X-LIC-LOCATION:America/Detroit
BEGIN:DAYLIGHT
TZOFFSETFROM:-0500
TZOFFSETTO:-0400
TZNAME:EDT
DTSTART:20070311T020000
RRULE:FREQ=YEARLY;BYMONTH=3;BYDAY=2SU
END:DAYLIGHT
BEGIN:STANDARD
TZOFFSETFROM:-0400
TZOFFSETTO:-0500
TZNAME:EST
DTSTART:20071104T020000
RRULE:FREQ=YEARLY;BYMONTH=11;BYDAY=1SU
END:STANDARD
END:VTIMEZONE
BEGIN:VEVENT
DTSTAMP:20241107T123138
DTSTART;TZID=America/Detroit:20241023T160000
DTEND;TZID=America/Detroit:20241023T164500
SUMMARY:Careers / Jobs:USA - Campus - EY Careers in Assurance: Audit
DESCRIPTION:How can a career in building trust build a better working world? Our Audit teammates understand the factors that drive business performance\, assess risk\, and apply critical thinking. In the process\, they become connected\, responsive\, and insightful professionals...ready to take on bigger challenges. Can you see that growth in your future? Join us for this session to learn just where you'll fit.
UID:126152-21856603@events.umich.edu
URL:https://events.umich.edu/event/126152
CLASS:PUBLIC
STATUS:CONFIRMED
CATEGORIES:
LOCATION:
CONTACT:
END:VEVENT
BEGIN:VEVENT
DTSTAMP:20241022T101527
DTSTART;TZID=America/Detroit:20241023T160000
DTEND;TZID=America/Detroit:20241023T173000
SUMMARY:Lecture / Discussion:Voting Access and Civic Engagement: Careers in Public Service & Law
DESCRIPTION:Interested in playing a vital role in the democratic process?\n\nWant to learn more about election law and how Michigan’s Department of State strives to ensure voting is safe and secure?\n\nEver considered being an election inspector or poll watcher?\n\nJoin Michigan Deputy Secretary of State Aghogho Edevbie\, a double Wolverine\, on October 23rd at 4 PM to discuss your election questions and learn about his path toward law and journey to public service.\n\nRegister for this event in Sessions: https://sessions.studentlife.umich.edu/track/event/session/85168
UID:127651-21859434@events.umich.edu
URL:https://events.umich.edu/event/127651
CLASS:PUBLIC
STATUS:CONFIRMED
CATEGORIES:Law,Pre-Law
LOCATION:Tisch Hall - 1014 (History Department)
CONTACT:
END:VEVENT
BEGIN:VEVENT
DTSTAMP:20241023T152044
DTSTART;TZID=America/Detroit:20241023T160000
DTEND;TZID=America/Detroit:20241023T173000
SUMMARY:Workshop / Seminar:Voting Access and Civic Engagement: Careers in Public Service & Law with Special Guest Michigan Deputy Secretary of State Aghogho Edevbie
DESCRIPTION:Interested in playing a vital role in the democratic process?\nWant to learn more about election law and how Michigan’s Department of State strives to ensure voting is safe and secure? \nEver considered being an election inspector or poll watcher?Join Michigan Deputy Secretary of State Aghogho Edevbie\, a double Wolverine\, on October 23rd at 4 PM to discuss your election questions and learn about his path toward law and journey to public service\n\n
UID:127656-21859437@events.umich.edu
URL:https://events.umich.edu/event/127656
CLASS:PUBLIC
STATUS:CONFIRMED
CATEGORIES:Sessions
LOCATION:
CONTACT:
END:VEVENT
END:VCALENDAR