BEGIN:VCALENDAR
VERSION:2.0
PRODID:-//UM//UM*Events//EN
CALSCALE:GREGORIAN
BEGIN:VTIMEZONE
TZID:America/Detroit
TZURL:http://tzurl.org/zoneinfo/America/Detroit
X-LIC-LOCATION:America/Detroit
BEGIN:DAYLIGHT
TZOFFSETFROM:-0500
TZOFFSETTO:-0400
TZNAME:EDT
DTSTART:20070311T020000
RRULE:FREQ=YEARLY;BYMONTH=3;BYDAY=2SU
END:DAYLIGHT
BEGIN:STANDARD
TZOFFSETFROM:-0400
TZOFFSETTO:-0500
TZNAME:EST
DTSTART:20071104T020000
RRULE:FREQ=YEARLY;BYMONTH=11;BYDAY=1SU
END:STANDARD
END:VTIMEZONE
BEGIN:VEVENT
DTSTAMP:20241114T101509
DTSTART;TZID=America/Detroit:20241114T160000
DTEND;TZID=America/Detroit:20241114T170000
SUMMARY:Workshop / Seminar:DE Seminar: Existence of Rotating Stars with Variable Entropy
DESCRIPTION:Rotating stars can be modeled by steady solutions to the Euler-Poisson equations. An extensive literature has established the existence of rotating stars for given differentially rotating angular velocity profiles. However\, all of the existing results require the angular velocity to depend on the distance to the rotation axis\, but not on the distance to the equatorial plane. Incidentally\, all of these solutions have constant entropy within the star. In this talk\, I will present a recent result which is the first that allows a general rotation profile\, without restrictions. It is also the first result that allows genuinely changing entropy within the star. The variation of entropy causes the previous methods used to construct steady solutions inapplicable. We discover a div-curl reformulation of the problem and perform analysis on the resulting elliptic-hyperbolic system. This is joint work with Juhi Jang and Walter Strauss.
UID:128310-21860637@events.umich.edu
URL:https://events.umich.edu/event/128310
CLASS:PUBLIC
STATUS:CONFIRMED
CATEGORIES:Mathematics
LOCATION:East Hall - 4088
CONTACT:
END:VEVENT
BEGIN:VEVENT
DTSTAMP:20241129T123158
DTSTART;TZID=America/Detroit:20241114T160000
DTEND;TZID=America/Detroit:20241114T170000
SUMMARY:Careers / Jobs:Discover a Career in Merchandising at The TJX Companies!
DESCRIPTION:Have you ever been interested in being a part of a Fortune 100 retailer supporting the heart of the business? If so\,&nbsp\;The TJX Companies\, Inc.\, the parent company of TJ Maxx\, Marshalls\, HomeGoods\, HomeSense\, and Sierra are looking for&nbsp\;enthusiastic and committed individuals from a broad range of backgrounds and experiences to join our Merchandising team&nbsp\;as we believe it is important thatour workforce reflect the diversity of our customers and the communities we serve.&nbsp\;Merchandising is the heart of our business. Our Buying and Planning &amp\; Allocation teams work together to drive sales and profit for TJX. They create the “WOW” you find in our stores!Ifyou have an entrepreneurial spirit and are passionate about blending youranalytical and creative&nbsp\;mindset to drive a business\, we are currently recruiting Sophomores and Juniors for our&nbsp\;Merchandising Internship Program&nbsp\;for Summer 2025.Please see below&nbsp\;to review our opportunity. Should you choose to apply\, we will be reviewing your resume and be in touch with any next steps.CLICK HERE TO APPLY TODAY!&nbsp\;
UID:128801-21861643@events.umich.edu
URL:https://events.umich.edu/event/128801
CLASS:PUBLIC
STATUS:CONFIRMED
CATEGORIES:
LOCATION:
CONTACT:
END:VEVENT
BEGIN:VEVENT
DTSTAMP:20241106T113653
DTSTART;TZID=America/Detroit:20241114T160000
DTEND;TZID=America/Detroit:20241114T180000
SUMMARY:Social / Informal Gathering:DIY Door Decor in Stockwell
DESCRIPTION:Stockwell Residents are invited to the Rosa Parks Multicultural Lounge for some fun crafting with the Stockwell MLCA! Make DIY felt pennants to decorate your door\, enjoy snacks\, and vibe to some music in the background. This event is a great way to bond with your roommates and fellow residents in a creative\, relaxing atmosphere.
UID:128714-21861548@events.umich.edu
URL:https://events.umich.edu/event/128714
CLASS:PUBLIC
STATUS:CONFIRMED
CATEGORIES:Art,Crafts,Food,Free Food,Music,Social
LOCATION:Stockwell Hall - Rosa Parks Multicultural Lounge
CONTACT:
END:VEVENT
END:VCALENDAR