BEGIN:VCALENDAR
VERSION:2.0
PRODID:-//UM//UM*Events//EN
CALSCALE:GREGORIAN
BEGIN:VTIMEZONE
TZID:America/Detroit
TZURL:http://tzurl.org/zoneinfo/America/Detroit
X-LIC-LOCATION:America/Detroit
BEGIN:DAYLIGHT
TZOFFSETFROM:-0500
TZOFFSETTO:-0400
TZNAME:EDT
DTSTART:20070311T020000
RRULE:FREQ=YEARLY;BYMONTH=3;BYDAY=2SU
END:DAYLIGHT
BEGIN:STANDARD
TZOFFSETFROM:-0400
TZOFFSETTO:-0500
TZNAME:EST
DTSTART:20071104T020000
RRULE:FREQ=YEARLY;BYMONTH=11;BYDAY=1SU
END:STANDARD
END:VTIMEZONE
BEGIN:VEVENT
DTSTAMP:20240327T190307
DTSTART;TZID=America/Detroit:20240416T170000
DTEND;TZID=America/Detroit:20240416T191500
SUMMARY:Ceremony / Service:Lavender Graduation
DESCRIPTION:Lavender Graduation—or LavGrad—celebrates and honors LGBTQ+ graduates and allies at the University of Michigan. Established by Ronni Sanlo in 1995\, the inaugural LavGrad at the University of Michigan was also the first graduation celebration of its kind\, and the celebration has since spread to schools across the United States.\n\n- REGISTER as a member of the Lavender Class by Apr. 1\n- NOMINATE a graduate for a Spectrum Center Award by Mar. 24\n\nDetails\, registrations\, nominations\, and more: spectrumcenter.umich.edu/lavgrad\n\n\nU-M PRIDE MONTH\nPride Month is presented by Spectrum Center and co-sponsored by the Office of Multi-Ethnic Student Affairs (MESA) and Rackham Graduate School. Find more U-M Pride Month events at spectrumcenter.umich.edu/pride-month.
UID:115233-21834225@events.umich.edu
URL:https://events.umich.edu/event/115233
CLASS:PUBLIC
STATUS:CONFIRMED
CATEGORIES:Commencement,Diversity Equity and Inclusion
LOCATION:Michigan Union - Rogel Ballroom
CONTACT:
END:VEVENT
BEGIN:VEVENT
DTSTAMP:20240501T123117
DTSTART;TZID=America/Detroit:20240416T170000
DTEND;TZID=America/Detroit:20240416T180000
SUMMARY:Careers / Jobs:Respiratory Care Virtual Hiring Event
DESCRIPTION:RSVP today for the Respiratory Care Virtual Hiring Event to learn how you can answer your calling to care with Duke Health as a respiratory therapist. During the virtual event\, you’ll explore respiratory therapy opportunities\, discover Duke benefits designed to support you\, and hear from Duke Health respiratory therapists about how they’ve advanced their careers with us. You’ll also have the chance to connect with a recruiter for questions\, and if you choose\, you can schedule a virtual interview in the days following the event.\n\nEvent Time: 5 - 6 p.m. EST  |  Location: Virtual (Zoom)  |  Hiring for: Experienced and new graduate respiratory therapists
UID:120165-21844173@events.umich.edu
URL:https://events.umich.edu/event/120165
CLASS:PUBLIC
STATUS:CONFIRMED
CATEGORIES:
LOCATION:
CONTACT:
END:VEVENT
BEGIN:VEVENT
DTSTAMP:20240416T171351
DTSTART;TZID=America/Detroit:20240416T170000
DTEND;TZID=America/Detroit:20240416T180000
SUMMARY:Well-being:Reusable Tote Bag Decorating Event
DESCRIPTION:This event is to celebrate Earth day and also encourage the reduction of single-use plastics. Students can come in and decorate a tote bag to keep as well as have the opportunity to sign on to a pledge to Break Free From Plastic.\n\nTote bags are first come first serve!
UID:121497-21846665@events.umich.edu
URL:https://events.umich.edu/event/121497
CLASS:PUBLIC
STATUS:CONFIRMED
CATEGORIES:Environment,environmental,Free,In Person,Michigan Dining,Sustainability,Well-being
LOCATION:
CONTACT:
END:VEVENT
END:VCALENDAR