BEGIN:VCALENDAR
VERSION:2.0
PRODID:-//UM//UM*Events//EN
CALSCALE:GREGORIAN
BEGIN:VTIMEZONE
TZID:America/Detroit
TZURL:http://tzurl.org/zoneinfo/America/Detroit
X-LIC-LOCATION:America/Detroit
BEGIN:DAYLIGHT
TZOFFSETFROM:-0500
TZOFFSETTO:-0400
TZNAME:EDT
DTSTART:20070311T020000
RRULE:FREQ=YEARLY;BYMONTH=3;BYDAY=2SU
END:DAYLIGHT
BEGIN:STANDARD
TZOFFSETFROM:-0400
TZOFFSETTO:-0500
TZNAME:EST
DTSTART:20071104T020000
RRULE:FREQ=YEARLY;BYMONTH=11;BYDAY=1SU
END:STANDARD
END:VTIMEZONE
BEGIN:VEVENT
DTSTAMP:20241107T123213
DTSTART;TZID=America/Detroit:20241023T160000
DTEND;TZID=America/Detroit:20241023T170000
SUMMARY:Careers / Jobs:William Blair's IB Insights - Virtual information session (Oct. 23rd 2024)
DESCRIPTION:Build a Solid Foundation with William BlairAt William Blair we believe that investing in the growth and success of our employees is critical to thesuccess and growth of our clients - and the industry at large.If you are currently a student graduating between December 2026 - June 2027 and want to learn howWilliam Blair’s programs can help jumpstart your career in investment banking\, we invite you to joinus for an Information Session on October 23\, 2024 at 4:00 pm CT.Learn what it means to be part of a culture of collaboration and accountability\, where you areempowered to choose your own path. Fill out the below registration form to receive your confirmation email and the virtual session link. 
UID:127942-21859958@events.umich.edu
URL:https://events.umich.edu/event/127942
CLASS:PUBLIC
STATUS:CONFIRMED
CATEGORIES:
LOCATION:
CONTACT:
END:VEVENT
BEGIN:VEVENT
DTSTAMP:20240930T181724
DTSTART;TZID=America/Detroit:20241023T163000
DTEND;TZID=America/Detroit:20241023T183000
SUMMARY:Performance:Voice Studio Recital
DESCRIPTION:Students from the Department of Voice & Opera perform a recital.
UID:127175-21858620@events.umich.edu
URL:https://events.umich.edu/event/127175
CLASS:PUBLIC
STATUS:CONFIRMED
CATEGORIES:Free,Music,North Campus
LOCATION:Earl V. Moore Building - Britton Recital Hall
CONTACT:
END:VEVENT
BEGIN:VEVENT
DTSTAMP:20241107T123133
DTSTART;TZID=America/Detroit:20241023T170000
DTEND;TZID=America/Detroit:20241023T174500
SUMMARY:Careers / Jobs:Discover Your Place at City Year
DESCRIPTION:Discover if a year of service in the classroom supporting student growth is right for you. Join this 45-minute-long virtual info session and Q&amp\;A with a currently serving AmeriCorps Member to learn aboutCity Year and the transferable skills you will gain working with us. CityYear hosts sessions monthly. 
UID:125160-21854484@events.umich.edu
URL:https://events.umich.edu/event/125160
CLASS:PUBLIC
STATUS:CONFIRMED
CATEGORIES:
LOCATION:
CONTACT:
END:VEVENT
END:VCALENDAR