BEGIN:VCALENDAR
VERSION:2.0
PRODID:-//UM//UM*Events//EN
CALSCALE:GREGORIAN
BEGIN:VTIMEZONE
TZID:America/Detroit
TZURL:http://tzurl.org/zoneinfo/America/Detroit
X-LIC-LOCATION:America/Detroit
BEGIN:DAYLIGHT
TZOFFSETFROM:-0500
TZOFFSETTO:-0400
TZNAME:EDT
DTSTART:20070311T020000
RRULE:FREQ=YEARLY;BYMONTH=3;BYDAY=2SU
END:DAYLIGHT
BEGIN:STANDARD
TZOFFSETFROM:-0400
TZOFFSETTO:-0500
TZNAME:EST
DTSTART:20071104T020000
RRULE:FREQ=YEARLY;BYMONTH=11;BYDAY=1SU
END:STANDARD
END:VTIMEZONE
BEGIN:VEVENT
DTSTAMP:20241111T095143
DTSTART;TZID=America/Detroit:20241114T160000
DTEND;TZID=America/Detroit:20241114T170000
SUMMARY:Workshop / Seminar:EEB Thursday Seminar Series - Neogene history of the Amazon and the role Andean uplift and marine incursions
DESCRIPTION:This event is part of our ongoing Thursday Seminar Series.\n\nAbout this seminar: The Amazon hosts one of the largest and richest rainforests in the world and has a history going back to the beginning of the Cenozoic (66 Ma). Species richness was mainly driven by climate and geological forces in combination with edaphic and biotic factors. Here I will review the Neogene history and past species composition in the Amazon in the light of Andean uplift\, plate-mantle interaction\, climate and environmental change\, and marine incursions.
UID:125778-21856096@events.umich.edu
URL:https://events.umich.edu/event/125778
CLASS:PUBLIC
STATUS:CONFIRMED
CATEGORIES:Free,department of ecology and evolutionary biology,Discussion,Ecology,Ecology & Biology,Ecology And Evolutionary Biology,eeb,Environment,environmental,evolution,evolutionary biology,Lecture,Natural Sciences,Research,Research Museums Center,Science,seminar,Talk,Workshop,zoology,Biology
LOCATION:Biological Sciences Building - 1060
CONTACT:
END:VEVENT
BEGIN:VEVENT
DTSTAMP:20241105T115906
DTSTART;TZID=America/Detroit:20241114T160000
DTEND;TZID=America/Detroit:20241114T180000
SUMMARY:Social / Informal Gathering:GO BLUE Book Exchange Book Swap
DESCRIPTION:Talk about books with other book lovers while enjoying free cider and donuts! Whether you have a well-loved book that you would like to share with others\, want to discuss different authors\, or just want to trade for something new\, please join us!\n\nSponsored by student Jack Lado\, as a class project\, and U-M Library.
UID:128750-21861583@events.umich.edu
URL:https://events.umich.edu/event/128750
CLASS:PUBLIC
STATUS:CONFIRMED
CATEGORIES:Books,Free,Library
LOCATION:Hatcher Graduate Library - Gallery, 1st Floor
CONTACT:
END:VEVENT
BEGIN:VEVENT
DTSTAMP:20241129T183119
DTSTART;TZID=America/Detroit:20241114T160000
DTEND;TZID=America/Detroit:20241114T170000
SUMMARY:Careers / Jobs:Info Session: Amgen Undergrad Finance Internship Summer 2025
DESCRIPTION:Info Session: Amgen Undergrad Finance Internship Summer 2025 Please join the Amgen corporate finance team for a virtual presentation to learn more about our undergraduate finance internship and biotechnology company. Our summer internship gives students the opportunity to own business-critical projects\, participate in a case competition with fellow interns\, network with company executives\,and much more. Please see event details below. We look forward to meetingyou! Info Session: Amgen Corporate Finance Internship Summer 2025Where: via Teams linkWhen: Thursday\, Nov. 14th at 4:00-5:00pm PSTTo apply or to learn more about the internship\, search Job ID #R-195767 at careers.amgen.com. Amgen is one of the world’s leading biotechnology companies. With a foundation of strong values\, Amgen uses science and innovation to transform insights into medicines for patients with serious illnesses. Our mission is to serve patients and we embody this in every initiative\, goal and task. When you join our team\, you’ll make a positive impact in the world.
UID:128396-21860777@events.umich.edu
URL:https://events.umich.edu/event/128396
CLASS:PUBLIC
STATUS:CONFIRMED
CATEGORIES:
LOCATION:
CONTACT:
END:VEVENT
END:VCALENDAR