BEGIN:VCALENDAR
VERSION:2.0
PRODID:-//UM//UM*Events//EN
CALSCALE:GREGORIAN
BEGIN:VTIMEZONE
TZID:America/Detroit
TZURL:http://tzurl.org/zoneinfo/America/Detroit
X-LIC-LOCATION:America/Detroit
BEGIN:DAYLIGHT
TZOFFSETFROM:-0500
TZOFFSETTO:-0400
TZNAME:EDT
DTSTART:20070311T020000
RRULE:FREQ=YEARLY;BYMONTH=3;BYDAY=2SU
END:DAYLIGHT
BEGIN:STANDARD
TZOFFSETFROM:-0400
TZOFFSETTO:-0500
TZNAME:EST
DTSTART:20071104T020000
RRULE:FREQ=YEARLY;BYMONTH=11;BYDAY=1SU
END:STANDARD
END:VTIMEZONE
BEGIN:VEVENT
DTSTAMP:20240201T085258
DTSTART;TZID=America/Detroit:20240416T170500
DTEND;TZID=America/Detroit:20240416T180500
SUMMARY:Social / Informal Gathering:German Convo on the Go
DESCRIPTION:Meet on Tuesdays at 5:05 p.m. sharp at Burton Tower for a 1-hour walk and talk with German Lecturer\, Mary Gell (magell@umich.edu). This event happens 'ice or rain.' Please dress appropriately. The walk itself may move indoors\, but you should plan to meet Mary outdoors.
UID:118236-21840694@events.umich.edu
URL:https://events.umich.edu/event/118236
CLASS:PUBLIC
STATUS:CONFIRMED
CATEGORIES:German,German Studies,Germanic Languages And Literatures
LOCATION:Burton Memorial Tower - Meet outside
CONTACT:
END:VEVENT
BEGIN:VEVENT
DTSTAMP:20240415T141057
DTSTART;TZID=America/Detroit:20240416T173000
DTEND;TZID=America/Detroit:20240416T190000
SUMMARY:Presentation:Lab of Geometry LoG(M) Poster Session
DESCRIPTION:Come learn about the research outcomes of this semester’s UM Lab of Geometry - LoG(M) (course MATH 440). Our featured projects are the following:\n\n-	Modeling the integrable spinning tops\n-	Calculations of exponential sums and Kloosterman sums\n-	Statistics of the symmetric group character tables\n-	Rank vs. bias in polynomials of high degree\n-	Probability distributions in nonlinear spin systems\n\nDetails presented by our lab’s research students!\n\nContact: Nir Gadish
UID:121361-21846453@events.umich.edu
URL:https://events.umich.edu/event/121361
CLASS:PUBLIC
STATUS:CONFIRMED
CATEGORIES:Mathematics
LOCATION:East Hall - Lower Atrium
CONTACT:
END:VEVENT
BEGIN:VEVENT
DTSTAMP:20240501T123125
DTSTART;TZID=America/Detroit:20240416T173000
DTEND;TZID=America/Detroit:20240416T203000
SUMMARY:Careers / Jobs:Sentara Rehab/Therapy Mix and Mingle Hiring Event
DESCRIPTION:Sentara is hosting an In-Person Mix and Mingle Hiring Event\, for those who are interested in opportunities with Outpatient Rehab.  Learn about our attractive benefits meet with Recruiters and Hiring Managers for the following positions:  Occupational Therapist\, Speech Language Pathologist\, &amp\; Physical Therapist \n\nApril 16\, 2024 - 5:30 PM - 8:30 PM \n\nRSVP to attend:  Monica Rogers mxpeltie@sentara.com\n
UID:121162-21845909@events.umich.edu
URL:https://events.umich.edu/event/121162
CLASS:PUBLIC
STATUS:CONFIRMED
CATEGORIES:
LOCATION:Hampton, Virginia, United States
CONTACT:
END:VEVENT
END:VCALENDAR