BEGIN:VCALENDAR
VERSION:2.0
PRODID:-//UM//UM*Events//EN
CALSCALE:GREGORIAN
BEGIN:VTIMEZONE
TZID:America/Detroit
TZURL:http://tzurl.org/zoneinfo/America/Detroit
X-LIC-LOCATION:America/Detroit
BEGIN:DAYLIGHT
TZOFFSETFROM:-0500
TZOFFSETTO:-0400
TZNAME:EDT
DTSTART:20070311T020000
RRULE:FREQ=YEARLY;BYMONTH=3;BYDAY=2SU
END:DAYLIGHT
BEGIN:STANDARD
TZOFFSETFROM:-0400
TZOFFSETTO:-0500
TZNAME:EST
DTSTART:20071104T020000
RRULE:FREQ=YEARLY;BYMONTH=11;BYDAY=1SU
END:STANDARD
END:VTIMEZONE
BEGIN:VEVENT
DTSTAMP:20241129T123135
DTSTART;TZID=America/Detroit:20241114T160000
DTEND;TZID=America/Detroit:20241114T164500
SUMMARY:Careers / Jobs:Learn about an AmeriCorps Year of Service with the GO Tutor Corps!
DESCRIPTION:Curious about AmeriCorps and how it might fit in with your career goals? Come learn more about a year of service with the GO Tutor Corps!
UID:128210-21860438@events.umich.edu
URL:https://events.umich.edu/event/128210
CLASS:PUBLIC
STATUS:CONFIRMED
CATEGORIES:
LOCATION:
CONTACT:
END:VEVENT
BEGIN:VEVENT
DTSTAMP:20241129T123117
DTSTART;TZID=America/Detroit:20241114T160000
DTEND;TZID=America/Detroit:20241114T180000
SUMMARY:Careers / Jobs:Miami-Dade County Public Schools Connect Cafe\, November 14th
DESCRIPTION:Take your coffee break with our recruitment team via live chat to learn about our positions at Miami-Dade County Public Schools!Join us every 2nd &amp\; 4th Thursday of the month from 4-6pm! Be sure to register here: https://app.brazenconnect.com/a/miami_dade_county_public_schools/s/Xdbb3/0JBLr
UID:126167-21856618@events.umich.edu
URL:https://events.umich.edu/event/126167
CLASS:PUBLIC
STATUS:CONFIRMED
CATEGORIES:
LOCATION:
CONTACT:
END:VEVENT
BEGIN:VEVENT
DTSTAMP:20241129T123150
DTSTART;TZID=America/Detroit:20241114T160000
DTEND;TZID=America/Detroit:20241114T170000
SUMMARY:Careers / Jobs:Office of Governor Gretchen Whitmer - Info Session for Internship Program (In-Person)
DESCRIPTION:If you are interested in interning for the Office of Governor Whitmer\, please join us on Thursday\, November 14 from 4:00 PM - 5:00 PM at the Maize &amp\; Blue Auditorium (located on the 1st floor of the Student Activities Building).Staff and recruiters from the Governor’s office will be visiting campus to provide an overview of their internship program for both Spring 2025 and Summer 2025. If you are in the Public Service Intern Program or pursuing professional opportunities in government\, this is the event for you! Please come prepared with some questions toask the speakers as there will be Q&amp\;A for students who attend.  
UID:128876-21861726@events.umich.edu
URL:https://events.umich.edu/event/128876
CLASS:PUBLIC
STATUS:CONFIRMED
CATEGORIES:
LOCATION:Student Activities Building, Maize and Blue Auditorium, 515 E Jefferson St, Ann Arbor, MI, United States
CONTACT:
END:VEVENT
END:VCALENDAR