BEGIN:VCALENDAR
VERSION:2.0
PRODID:-//UM//UM*Events//EN
CALSCALE:GREGORIAN
BEGIN:VTIMEZONE
TZID:America/Detroit
TZURL:http://tzurl.org/zoneinfo/America/Detroit
X-LIC-LOCATION:America/Detroit
BEGIN:DAYLIGHT
TZOFFSETFROM:-0500
TZOFFSETTO:-0400
TZNAME:EDT
DTSTART:20070311T020000
RRULE:FREQ=YEARLY;BYMONTH=3;BYDAY=2SU
END:DAYLIGHT
BEGIN:STANDARD
TZOFFSETFROM:-0400
TZOFFSETTO:-0500
TZNAME:EST
DTSTART:20071104T020000
RRULE:FREQ=YEARLY;BYMONTH=11;BYDAY=1SU
END:STANDARD
END:VTIMEZONE
BEGIN:VEVENT
DTSTAMP:20240318T091511
DTSTART;TZID=America/Detroit:20240416T180000
DTEND;TZID=America/Detroit:20240416T200000
SUMMARY:Other:Block Printing Workshop
DESCRIPTION:Looking to learn more about Pacific symbols? Want to create a meaningful wall hanging for your room? Join us for a block printing workshop where you can learn about CHamoru patterns and create your own take-home wall print! All supplies will be provided! RSVP required (https://forms.gle/Ch1mhFC9bGAGH8qF7)\n\nASIAN AMERICAN & PACIFIC ISLANDER HERITAGE MONTH\nAA&PI Heritage Month is presented by MESA's AA&PI Heritage Month Planning Committee. Find more events at mesa.umich.edu/asian-american-pacific-islander-heritage-month.
UID:120232-21844439@events.umich.edu
URL:https://events.umich.edu/event/120232
CLASS:PUBLIC
STATUS:CONFIRMED
CATEGORIES:Asian Pacific Islander American Heritage Month,Diversity Equity and Inclusion
LOCATION:Mason Hall - Room 3411
CONTACT:
END:VEVENT
BEGIN:VEVENT
DTSTAMP:20240120T191251
DTSTART;TZID=America/Detroit:20240416T180000
DTEND;TZID=America/Detroit:20240416T230000
SUMMARY:Recreational / Games:Board Game Night With Michigan Games and Cards!
DESCRIPTION:Michigan Games and Cards is a casual club that meets to play board games\, card games\, and more at weekly game nights. We also host events like Tournament Tuesdays\, murder mystery parties\, and all-nighters! The club meets for game nights EVERY Tuesday and Friday on the 3rd floor of Mason Hall starting at 6 PM. Meetings are free and drop-in style\, and we strive to be a welcoming and safe environment for all Michigan students to play games at.
UID:117597-21839768@events.umich.edu
URL:https://events.umich.edu/event/117597
CLASS:PUBLIC
STATUS:CONFIRMED
CATEGORIES:Free,Games,In Person,Social,Student Org,Well-being
LOCATION:Mason Hall - 3427
CONTACT:
END:VEVENT
BEGIN:VEVENT
DTSTAMP:20240416T180015
DTSTART;TZID=America/Detroit:20240416T180000
DTEND;TZID=America/Detroit:20240416T230000
SUMMARY:Other:Board Game Night With Michigan Games and Cards!
DESCRIPTION:Michigan Games and Cards is a casual club that meets to play board games\, card games\, and more at weekly game nights. We also host events like Tournament Tuesdays\, murder mystery parties\, and all-nighters! The club meets for game nights EVERY Tuesday and Friday on the 3rd floor of Mason Hall starting at 6 PM. Meetings are free and drop-in style\, and we strive to be a welcoming and safe environment for all Michigan students to play games at. 
UID:119086-21842166@events.umich.edu
URL:https://events.umich.edu/event/119086
CLASS:PUBLIC
STATUS:CONFIRMED
CATEGORIES:
LOCATION:3427 Mason Hall
CONTACT:
END:VEVENT
END:VCALENDAR