BEGIN:VCALENDAR
VERSION:2.0
PRODID:-//UM//UM*Events//EN
CALSCALE:GREGORIAN
BEGIN:VTIMEZONE
TZID:America/Detroit
TZURL:http://tzurl.org/zoneinfo/America/Detroit
X-LIC-LOCATION:America/Detroit
BEGIN:DAYLIGHT
TZOFFSETFROM:-0500
TZOFFSETTO:-0400
TZNAME:EDT
DTSTART:20070311T020000
RRULE:FREQ=YEARLY;BYMONTH=3;BYDAY=2SU
END:DAYLIGHT
BEGIN:STANDARD
TZOFFSETFROM:-0400
TZOFFSETTO:-0500
TZNAME:EST
DTSTART:20071104T020000
RRULE:FREQ=YEARLY;BYMONTH=11;BYDAY=1SU
END:STANDARD
END:VTIMEZONE
BEGIN:VEVENT
DTSTAMP:20241018T172045
DTSTART;TZID=America/Detroit:20241023T173000
DTEND;TZID=America/Detroit:20241023T193000
SUMMARY:Workshop / Seminar:WISE Nights In
DESCRIPTION:Our WISE Mentors & Ambassadors are planning a series of social events for women in STEM at UM called WISE Nights In! Join us for free food\, fun activities\, and a chance to make connections with other STEM students.
UID:126597-21860111@events.umich.edu
URL:https://events.umich.edu/event/126597
CLASS:PUBLIC
STATUS:CONFIRMED
CATEGORIES:Women In Science And Engineering,Women In Stem,Women In Science,Women In Engineering,Undergraduate Students,Undergraduate,Transfer Students,The College Of Literature\, Science\, And The Arts,Sessions,Michigan Engineering,Graduate Students,Graduate and Professional Students,Graduate,College Of Engineering
LOCATION:Undergraduate Science Building - 3236
CONTACT:
END:VEVENT
BEGIN:VEVENT
DTSTAMP:20240910T104200
DTSTART;TZID=America/Detroit:20241023T180000
DTEND;TZID=America/Detroit:20241023T190000
SUMMARY:Social / Informal Gathering:Deutschtisch im Max Kade Haus
DESCRIPTION:Deutschtisch is a weekly event in the North Quad dining hall for Max Kade residents and visitors from outside of Max Kade Haus to speak German during a meal.
UID:126107-21856530@events.umich.edu
URL:https://events.umich.edu/event/126107
CLASS:PUBLIC
STATUS:CONFIRMED
CATEGORIES:Germanic Languages And Literatures,Max Kade
LOCATION:North Quad - Dining Hall
CONTACT:
END:VEVENT
BEGIN:VEVENT
DTSTAMP:20241023T172044
DTSTART;TZID=America/Detroit:20241023T180000
DTEND;TZID=America/Detroit:20241023T200000
SUMMARY:Workshop / Seminar:Harambee
DESCRIPTION:
UID:126988-21858226@events.umich.edu
URL:https://events.umich.edu/event/126988
CLASS:PUBLIC
STATUS:CONFIRMED
CATEGORIES:Sessions
LOCATION:Student Activities Building - 1st Floor
CONTACT:
END:VEVENT
END:VCALENDAR