BEGIN:VCALENDAR
VERSION:2.0
PRODID:-//UM//UM*Events//EN
CALSCALE:GREGORIAN
BEGIN:VTIMEZONE
TZID:America/Detroit
TZURL:http://tzurl.org/zoneinfo/America/Detroit
X-LIC-LOCATION:America/Detroit
BEGIN:DAYLIGHT
TZOFFSETFROM:-0500
TZOFFSETTO:-0400
TZNAME:EDT
DTSTART:20070311T020000
RRULE:FREQ=YEARLY;BYMONTH=3;BYDAY=2SU
END:DAYLIGHT
BEGIN:STANDARD
TZOFFSETFROM:-0400
TZOFFSETTO:-0500
TZNAME:EST
DTSTART:20071104T020000
RRULE:FREQ=YEARLY;BYMONTH=11;BYDAY=1SU
END:STANDARD
END:VTIMEZONE
BEGIN:VEVENT
DTSTAMP:20241011T081807
DTSTART;TZID=America/Detroit:20241114T160000
DTEND;TZID=America/Detroit:20241114T170000
SUMMARY:Careers / Jobs:Quiet The Inner Critic: No Internship\, No Worries!
DESCRIPTION:Are you worried about finding a summer internship? Feeling stressed with everything you have going on?\n\nYou are not alone—these concerns are common among students\, even this early in the academic year!\n\nJoin Advisors from the Engineering Career Resource Center and the College of Engineering CAPS office to learn strategies for coping with stress and self-doubt\, as well as discovering how you can stay focused and navigate your continued job search. There's plenty of time to find valuable opportunities\, and we're here to help!\n\nJoin at the following Zoom Link: https://umich.zoom.us/j/93691826960\n\nRegistration in Engineering Careers\, by 12twenty is encouraged but not required.
UID:127695-21859495@events.umich.edu
URL:https://events.umich.edu/event/127695
CLASS:PUBLIC
STATUS:CONFIRMED
CATEGORIES:Career,Workshop,Undergraduate Students,Michigan Engineering,Graduate Students
LOCATION:Off Campus Location
CONTACT:
END:VEVENT
BEGIN:VEVENT
DTSTAMP:20241101T160654
DTSTART;TZID=America/Detroit:20241114T160000
DTEND;TZID=America/Detroit:20241114T190000
SUMMARY:Lecture / Discussion:Quotas and the President: Jewish Inclusion and Exclusion at UM in the 1920s
DESCRIPTION:When new University of Michigan president C.C. Little arrived in Ann Arbor in 1925\, American universities were in the midst of a great transition\, revamping their admission systems to limit the number of Jewish students on their campuses. Professor Karla Goldman will discuss the status of Jewish students at Michigan during this period and how President Little\, well known as a eugenicist\, actually resisted some of the racist and antisemitic assumptions of his time. His tenure illustrates the long and complicated history of inclusion and exclusion at U-M and in American higher education.\n\nKarla Goldman is the Sol Drachler Professor of Social Work and Professor of Judaic Studies at the University of Michigan where she also directs the Jewish Communal Leadership Program. Her research focuses on the history of American Jewish experience with special attention to history of varied Jewish communities and the evolving roles and identities of American Jewish women. She previously taught at Hebrew Union College-Jewish Institute of Religion in Cincinnati and served as historian in residence at the Jewish Women’s Archive in Boston. She is the author of Beyond the Synagogue Gallery: Finding a Place for Women in American Judaism (Harvard University Press\, 2000).
UID:128628-21861384@events.umich.edu
URL:https://events.umich.edu/event/128628
CLASS:PUBLIC
STATUS:CONFIRMED
CATEGORIES:Jewish Studies,lecture,Making Michigan,Museum,museums,social justice,U-m History,university of michigan history,inclusion,history,free,educational,Education,bentley library,bentley historical library
LOCATION:Detroit Observatory
CONTACT:
END:VEVENT
BEGIN:VEVENT
DTSTAMP:20241129T123113
DTSTART;TZID=America/Detroit:20241114T160000
DTEND;TZID=America/Detroit:20241114T170000
SUMMARY:Careers / Jobs:Recruiter Q&A
DESCRIPTION:Please join Bank of America for a Recruiter Q&amp\;A. This is for our US students that are interested in intern or first year analystopportunities. This webinar is for students to ask questions from UR recruiters during the recruitment cycle. Once you register\, if you are eligible\, a link will be sent out closer to the event to join the webinar.
UID:124442-21853036@events.umich.edu
URL:https://events.umich.edu/event/124442
CLASS:PUBLIC
STATUS:CONFIRMED
CATEGORIES:
LOCATION:
CONTACT:
END:VEVENT
END:VCALENDAR