BEGIN:VCALENDAR
VERSION:2.0
PRODID:-//UM//UM*Events//EN
CALSCALE:GREGORIAN
BEGIN:VTIMEZONE
TZID:America/Detroit
TZURL:http://tzurl.org/zoneinfo/America/Detroit
X-LIC-LOCATION:America/Detroit
BEGIN:DAYLIGHT
TZOFFSETFROM:-0500
TZOFFSETTO:-0400
TZNAME:EDT
DTSTART:20070311T020000
RRULE:FREQ=YEARLY;BYMONTH=3;BYDAY=2SU
END:DAYLIGHT
BEGIN:STANDARD
TZOFFSETFROM:-0400
TZOFFSETTO:-0500
TZNAME:EST
DTSTART:20071104T020000
RRULE:FREQ=YEARLY;BYMONTH=11;BYDAY=1SU
END:STANDARD
END:VTIMEZONE
BEGIN:VEVENT
DTSTAMP:20240404T155910
DTSTART;TZID=America/Detroit:20240416T180000
DTEND;TZID=America/Detroit:20240416T190000
SUMMARY:Livestream / Virtual:LSA Transfer Information Session
DESCRIPTION:Join the LSA Transfer Recruitment Team for our weekly virtual sessions where we will discuss LSA requirements\, transfer credit\, pre-transfer academic advising\, LSA opportunities and other transfer tidbits. Each session includes a Q & A featuring the Transfer Student Ambassadors. \n\nRegistration is required. Register using link to the right.
UID:95004-21845900@events.umich.edu
URL:https://events.umich.edu/event/95004
CLASS:PUBLIC
STATUS:CONFIRMED
CATEGORIES:Transfer Students
LOCATION:Off Campus Location
CONTACT:
END:VEVENT
BEGIN:VEVENT
DTSTAMP:20240416T180014
DTSTART;TZID=America/Detroit:20240416T180000
DTEND;TZID=America/Detroit:20240416T190000
SUMMARY:Meeting:Scientific Computing Student Club General Meeting
DESCRIPTION:This is the last meeting of the winter semester. This meeting will include any regular business\, such as project proposals\, and a showing of a scientific computing movie (tbd which one). We will be serving Zingermans for dinner. We hope you can make it! Please rsvp so we can order the correct amount of food.
UID:121334-21846427@events.umich.edu
URL:https://events.umich.edu/event/121334
CLASS:PUBLIC
STATUS:CONFIRMED
CATEGORIES:
LOCATION:EWRE 136
CONTACT:
END:VEVENT
BEGIN:VEVENT
DTSTAMP:20240416T180014
DTSTART;TZID=America/Detroit:20240416T180000
DTEND;TZID=America/Detroit:20240416T200000
SUMMARY:Social / Informal Gathering:STUDY SESSION
DESCRIPTION:Come join LISWA for a study session! We’ll be providing coffee and other snacks. This is a great opportunity to come together and work on final assignments! Feel free to bring a friend\, bring some headphones\, and any work you wanna get done!
UID:121383-21846483@events.umich.edu
URL:https://events.umich.edu/event/121383
CLASS:PUBLIC
STATUS:CONFIRMED
CATEGORIES:
LOCATION:School of Social Work RM 3816
CONTACT:
END:VEVENT
END:VCALENDAR