BEGIN:VCALENDAR
VERSION:2.0
PRODID:-//UM//UM*Events//EN
CALSCALE:GREGORIAN
BEGIN:VTIMEZONE
TZID:America/Detroit
TZURL:http://tzurl.org/zoneinfo/America/Detroit
X-LIC-LOCATION:America/Detroit
BEGIN:DAYLIGHT
TZOFFSETFROM:-0500
TZOFFSETTO:-0400
TZNAME:EDT
DTSTART:20070311T020000
RRULE:FREQ=YEARLY;BYMONTH=3;BYDAY=2SU
END:DAYLIGHT
BEGIN:STANDARD
TZOFFSETFROM:-0400
TZOFFSETTO:-0500
TZNAME:EST
DTSTART:20071104T020000
RRULE:FREQ=YEARLY;BYMONTH=11;BYDAY=1SU
END:STANDARD
END:VTIMEZONE
BEGIN:VEVENT
DTSTAMP:20241015T101355
DTSTART;TZID=America/Detroit:20241023T180000
DTEND;TZID=America/Detroit:20241023T200000
SUMMARY:Fair / Festival:Harambee! A Harvest Festival
DESCRIPTION:Join us for an evening of food\, music\, line dancing with an instructor\, games\, pumpkin painting\, and success and wellness resources!
UID:127288-21858817@events.umich.edu
URL:https://events.umich.edu/event/127288
CLASS:PUBLIC
STATUS:CONFIRMED
CATEGORIES:Diversity Equity and Inclusion,Networking,Inclusion
LOCATION:Student Activities Building - 1st Floor
CONTACT:
END:VEVENT
BEGIN:VEVENT
DTSTAMP:20241107T123133
DTSTART;TZID=America/Detroit:20241023T180000
DTEND;TZID=America/Detroit:20241023T190000
SUMMARY:Careers / Jobs:Keurig Dr Pepper - Sales\, Selling and Analytics Career Panel
DESCRIPTION:Join us for an exciting virtual Keurig Dr Pepper Sales\, Selling\, and Analytics Career Panel on October 23rd from 6:00 PM to 7:00 PMCT! This event is a must-attend for students and recent graduates interested in exploring dynamic careers within the Consumer Packaged Goods (CPG) industry\, specifically within sales and analytics.During this session\, you'll gain valuable insights into Keurig Dr Pepper's role as a leading beverage company and discover how you can be part of our success story. Our panel of experienced professionals\, including former interns who have transitioned into full-time roles\, will share their personal career journeys\, provide an overview of the company\, and discuss the exciting opportunities available in our 2025 Summer Commercial Sales Analyst Internship program.What to Expect:\n\nCompany Overview: Learn about Keurig Dr Pepper’s mission\, values\, and growth within the CPG industry.\n\nPanel Discussion: Hear directly from KDP professionals about the realities of working in sales and analytics\, and how these roles drive the success of our brand.\n\nInternship Insights: Get an in-depth look at our 2025 Summer Commercial Sales Analyst Internship program\, designed to jumpstart your career in sales and analytics.\n\nQ&amp\;A Session: Have your questions answered by our panelists\, including tips on how to stand out in the competitive job market.\nWho Should Attend:\nStudents and recent graduates pursuing degrees in business\, analytics\, marketing\, or related fields.\nAnyone interested in learning more about career opportunities within the sales and analytics sectors of the CPG industry.\nIndividuals eager to hear real-world experiences from professionals who have successfully navigated their career paths at Keurig Dr Pepper.\nDon’t miss this unique opportunity to connect with industry leaders and explore a future with Keurig Dr Pepper. Register today and take the first step towards a rewarding career!
UID:125162-21854486@events.umich.edu
URL:https://events.umich.edu/event/125162
CLASS:PUBLIC
STATUS:CONFIRMED
CATEGORIES:
LOCATION:
CONTACT:
END:VEVENT
BEGIN:VEVENT
DTSTAMP:20240903T093206
DTSTART;TZID=America/Detroit:20241023T180000
DTEND;TZID=America/Detroit:20241023T190000
SUMMARY:Workshop / Seminar:Michigan Computer Graphics - General Meeting
DESCRIPTION:At Michigan Computer Graphics (MCG)\, our goal is to offer all interested campus members a unique platform to explore\, learn\, discuss\, and engage with the various disciplines of computer graphics (CG). You'll have the opportunity to collaborate on exciting projects\, develop creative skills\, and expand your network within the industry and beyond.\n\nThis is MCG's weekly general meeting. Join us for a variety of content and events\, including introductory presentations\, hands-on projects\, and guest speakers!\n\nhttps://michigancg.org/
UID:125520-21855256@events.umich.edu
URL:https://events.umich.edu/event/125520
CLASS:PUBLIC
STATUS:CONFIRMED
CATEGORIES:Visual Arts,Engineering,Electrical Engineering and Computer Science,Art
LOCATION:Electrical Engineering and Computer Science Building - 1005
CONTACT:
END:VEVENT
END:VCALENDAR