BEGIN:VCALENDAR
VERSION:2.0
PRODID:-//UM//UM*Events//EN
CALSCALE:GREGORIAN
BEGIN:VTIMEZONE
TZID:America/Detroit
TZURL:http://tzurl.org/zoneinfo/America/Detroit
X-LIC-LOCATION:America/Detroit
BEGIN:DAYLIGHT
TZOFFSETFROM:-0500
TZOFFSETTO:-0400
TZNAME:EDT
DTSTART:20070311T020000
RRULE:FREQ=YEARLY;BYMONTH=3;BYDAY=2SU
END:DAYLIGHT
BEGIN:STANDARD
TZOFFSETFROM:-0400
TZOFFSETTO:-0500
TZNAME:EST
DTSTART:20071104T020000
RRULE:FREQ=YEARLY;BYMONTH=11;BYDAY=1SU
END:STANDARD
END:VTIMEZONE
BEGIN:VEVENT
DTSTAMP:20240416T180009
DTSTART;TZID=America/Detroit:20240416T183000
DTEND;TZID=America/Detroit:20240416T213000
SUMMARY:Other:Casino Class
DESCRIPTION:LOCATION: the Phoenix Center at 220 S. Main St.PRICES: $10 for students\, included in monthly pass.Come join us for Casino! No partner necessary! Please bring dance shoes or socks.6:30pm - 7:30pm : Lv 1 & 2 (aka beginners)7:30pm - 8:30pm : Social dancing (No partner necessary! All levels welcome!)8:30pm - 9:30pm : Lv 3 & 4 (Please ask one of the instructors to be placed in this level!)We hope to see you then! 
UID:120305-21844545@events.umich.edu
URL:https://events.umich.edu/event/120305
CLASS:PUBLIC
STATUS:CONFIRMED
CATEGORIES:
LOCATION:Phoenix Center
CONTACT:
END:VEVENT
BEGIN:VEVENT
DTSTAMP:20240411T115721
DTSTART;TZID=America/Detroit:20240416T183000
DTEND;TZID=America/Detroit:20240416T200000
SUMMARY:Lecture / Discussion:Fast Food for Thought: 5-minute lightning talk event with 10 UM faculty
DESCRIPTION:Join Food Literacy for All's annual \"Fast Food for Thought\" where 10 interdisciplinary UM faculty and staff each give a 5-minute talk related to food and/or agriculture. The lightning talks will be held on Tuesday\, April 16th\, from 6:30-8:00pm in Lorch Hall (Room 140). \n\nFeatured speakers: Dr. Alyssa Paredes (LSA Anthropology)\, Dr. Benjamin Goldstein (School for Environment and Sustainability)\, Lunia Evodie Oriol (Taubman College of Architecture and Urban Planning)\, Dr. Parijat Chakrabarti (Erb Institute)\, Dr. Jennifer Garner (School of Public Health)\, Dr. Lisa Young (LSA Anthropology)\, Juli McLoone (Library Special Collections)\, Keith Soster (MDining and Maize & Blue Cupboard)\, Dr. Benédicte Boisseron (LSA Afroamerican & African Studies)\, dawn weleski (Student Life Sustainability)
UID:120679-21845129@events.umich.edu
URL:https://events.umich.edu/event/120679
CLASS:PUBLIC
STATUS:CONFIRMED
CATEGORIES:american culture,Talk,sustainable food systems,Sustainability,Social Justice,Nutrition,Interdisciplinary,Food Systems,Food Literacy For All,food and the environment
LOCATION:Lorch Hall - 140
CONTACT:
END:VEVENT
BEGIN:VEVENT
DTSTAMP:20240416T182027
DTSTART;TZID=America/Detroit:20240416T183000
DTEND;TZID=America/Detroit:20240416T193000
SUMMARY:Workshop / Seminar:Voices of the Cupboard Dinner
DESCRIPTION:Join student facilitators from the Maize and Blue Cupboard for dinner at South Quad to build community\, share feedback\, and guide future programming. 
UID:104062-21845711@events.umich.edu
URL:https://events.umich.edu/event/104062
CLASS:PUBLIC
STATUS:CONFIRMED
CATEGORIES:Sessions
LOCATION:South Quad Dining Hall
CONTACT:
END:VEVENT
END:VCALENDAR