BEGIN:VCALENDAR
VERSION:2.0
PRODID:-//UM//UM*Events//EN
CALSCALE:GREGORIAN
BEGIN:VTIMEZONE
TZID:America/Detroit
TZURL:http://tzurl.org/zoneinfo/America/Detroit
X-LIC-LOCATION:America/Detroit
BEGIN:DAYLIGHT
TZOFFSETFROM:-0500
TZOFFSETTO:-0400
TZNAME:EDT
DTSTART:20070311T020000
RRULE:FREQ=YEARLY;BYMONTH=3;BYDAY=2SU
END:DAYLIGHT
BEGIN:STANDARD
TZOFFSETFROM:-0400
TZOFFSETTO:-0500
TZNAME:EST
DTSTART:20071104T020000
RRULE:FREQ=YEARLY;BYMONTH=11;BYDAY=1SU
END:STANDARD
END:VTIMEZONE
BEGIN:VEVENT
DTSTAMP:20241101T145156
DTSTART;TZID=America/Detroit:20241114T160000
DTEND;TZID=America/Detroit:20241114T183000
SUMMARY:Reception / Open House:Waste Reduction Goal Town Hall
DESCRIPTION:With the existing waste reduction goal sunsetting in 2025\, the Office of Campus Sustainability has been leading a workstream to review and recommend expanded waste reduction goals. These targets will more accurately reflect our waste reduction strategy\, which supports a circular economy in conjunction with zero waste efforts\, while considering the embodied equity\, environmental justice\, and carbon neutrality impacts of materials management. Come join a town hall to learn about the proposed new goals and discuss metrics\, implementation strategies. \n\nWe will also be hosting a clothing swap so please bring your gently-used clothing to rehome and a bag for carrying away some new\, pre-loved favorites!\n\nStop by for the whole event\, just a few minutes\, or anything in between!
UID:126964-21858186@events.umich.edu
URL:https://events.umich.edu/event/126964
CLASS:PUBLIC
STATUS:CONFIRMED
CATEGORIES:Sustainability,Environment
LOCATION:Michigan League - Vandenberg Room
CONTACT:
END:VEVENT
BEGIN:VEVENT
DTSTAMP:20241028T102642
DTSTART;TZID=America/Detroit:20241114T160000
DTEND;TZID=America/Detroit:20241114T173000
SUMMARY:Lecture / Discussion:What Happened? The 2024 Elections
DESCRIPTION:Join us for a panel discussion featuring:\nVincent Hutchings\, Hanes Walton Jr. Collegiate Professor of Political Science and Afroamerican and African Studies and Research Professor\, ISR Center for Political Studies\nMara Ostfeld\, Research Associate Professor\, Gerald R. Ford School of Public Policy and Faculty Associate\, ISR Center for Political Studies\nJosh Pasek\, Professor of Communication and Media and Faculty Associate\, ISR Center for Political Studies\nNicholas Valentino\, Donald R. Kinder Collegiate Professor of Political Science and Research Professor\, ISR Center for Political Studies\n\nPanelists will discuss the outcomes of the 2024 US elections\, exploring key trends\, voter behavior\, and the implications for the future of American politics. \n\nLight refreshments will be served.
UID:128368-21860737@events.umich.edu
URL:https://events.umich.edu/event/128368
CLASS:PUBLIC
STATUS:CONFIRMED
CATEGORIES:political science,Politics,Political Communication,Elections,Election,Democracy,Communication And Media,Center For Political Studies
LOCATION:Institute For Social Research - 1430
CONTACT:
END:VEVENT
BEGIN:VEVENT
DTSTAMP:20241129T123154
DTSTART;TZID=America/Detroit:20241114T170000
DTEND;TZID=America/Detroit:20241114T180000
SUMMARY:Careers / Jobs:Capital Teaching Residency Webinar
DESCRIPTION:Interested in pursuing a pathway to teaching with KIPP DC? Want to make an impact in Washington\, D.C.? We are looking for residents who will have a Bachelor’s degree by June 2025\, all majors and career changers are accepted! Sign up to attend a webinar to learn more about the hiring process for the Capital Teaching Residency (CTR) program on Thursday\, November 14 from 5:00 - 5:45pm ET. RSVP and we will send you a calendar invite with instructions for how to access the information session.
UID:128795-21861637@events.umich.edu
URL:https://events.umich.edu/event/128795
CLASS:PUBLIC
STATUS:CONFIRMED
CATEGORIES:
LOCATION:
CONTACT:
END:VEVENT
END:VCALENDAR