BEGIN:VCALENDAR
VERSION:2.0
PRODID:-//UM//UM*Events//EN
CALSCALE:GREGORIAN
BEGIN:VTIMEZONE
TZID:America/Detroit
TZURL:http://tzurl.org/zoneinfo/America/Detroit
X-LIC-LOCATION:America/Detroit
BEGIN:DAYLIGHT
TZOFFSETFROM:-0500
TZOFFSETTO:-0400
TZNAME:EDT
DTSTART:20070311T020000
RRULE:FREQ=YEARLY;BYMONTH=3;BYDAY=2SU
END:DAYLIGHT
BEGIN:STANDARD
TZOFFSETFROM:-0400
TZOFFSETTO:-0500
TZNAME:EST
DTSTART:20071104T020000
RRULE:FREQ=YEARLY;BYMONTH=11;BYDAY=1SU
END:STANDARD
END:VTIMEZONE
BEGIN:VEVENT
DTSTAMP:20240121T200932
DTSTART;TZID=America/Detroit:20240416T190000
DTEND;TZID=America/Detroit:20240416T200000
SUMMARY:Social / Informal Gathering:Guided Music Meditation
DESCRIPTION:✨Join us for a musical evening of sacred sound meditation✨\n\nIn addition to this musical experience\, we offer discussion about relevant topics related to yoga lifestyle and mental resilience\, mantra meditation\, reading circles\, and much more!\n\nWe have so many exciting insights and events to share! We also have vegetarian snacks!\n\nWe meet every Tuesday 7:00-8:00 PM at East Quad Room 1511\n\nWe are open to the student populous and public! Hope to see you there!
UID:117255-21839042@events.umich.edu
URL:https://events.umich.edu/event/117255
CLASS:PUBLIC
STATUS:CONFIRMED
CATEGORIES:Concert,Discussion,In Person,Meal,Mindfulness,Music,Social,Student Org,Well-being
LOCATION:East Quadrangle - 1511
CONTACT:
END:VEVENT
BEGIN:VEVENT
DTSTAMP:20240325T181702
DTSTART;TZID=America/Detroit:20240416T190000
DTEND;TZID=America/Detroit:20240416T200000
SUMMARY:Performance:Kevin Fenske\, euphonium
DESCRIPTION:Graduate student Kevin Fenske performs a recital.
UID:120540-21844879@events.umich.edu
URL:https://events.umich.edu/event/120540
CLASS:PUBLIC
STATUS:CONFIRMED
CATEGORIES:Free,Music,North Campus
LOCATION:Walgreen Drama Center - Stamps Auditorium
CONTACT:
END:VEVENT
BEGIN:VEVENT
DTSTAMP:20240501T183131
DTSTART;TZID=America/Detroit:20240416T190000
DTEND;TZID=America/Detroit:20240416T200000
SUMMARY:Careers / Jobs:Leaders for Impact: Promoting Intersectionality and Social Justicein Urban Education
DESCRIPTION:On Tuesday\, April 16th from 7-8pm EST\, join City Teaching Alliance as we present: Leaders for Impact: Promoting Intersectionality and Social Justice in Urban Education. This workshop explores how intersectingidentities and social categories such as race\, gender\, socioeconomic status\, and more can impact educational experiences and outcomes. \n\nThe presentation highlights strategies for recognizing and addressing these complex intersections to create more inclusive and equitable learning environments. It emphasizes the importance of acknowledging the unique challengesfaced by students with multiple marginalized identities and provides actionable insights for educators to tailor their approaches accordingly. \n\nAttendees will gain a deeper understanding of intersectionality's role in urban education and learn practical techniques for fostering social justice\, inclusivity\, and positive educational outcomes for all students.\n\nCan't make it live? Register for a recording! \n\nWe hope to see you there!\n
UID:121346-21846439@events.umich.edu
URL:https://events.umich.edu/event/121346
CLASS:PUBLIC
STATUS:CONFIRMED
CATEGORIES:
LOCATION:
CONTACT:
END:VEVENT
END:VCALENDAR