BEGIN:VCALENDAR
VERSION:2.0
PRODID:-//UM//UM*Events//EN
CALSCALE:GREGORIAN
BEGIN:VTIMEZONE
TZID:America/Detroit
TZURL:http://tzurl.org/zoneinfo/America/Detroit
X-LIC-LOCATION:America/Detroit
BEGIN:DAYLIGHT
TZOFFSETFROM:-0500
TZOFFSETTO:-0400
TZNAME:EDT
DTSTART:20070311T020000
RRULE:FREQ=YEARLY;BYMONTH=3;BYDAY=2SU
END:DAYLIGHT
BEGIN:STANDARD
TZOFFSETFROM:-0400
TZOFFSETTO:-0500
TZNAME:EST
DTSTART:20071104T020000
RRULE:FREQ=YEARLY;BYMONTH=11;BYDAY=1SU
END:STANDARD
END:VTIMEZONE
BEGIN:VEVENT
DTSTAMP:20240927T141135
DTSTART;TZID=America/Detroit:20241023T180000
DTEND;TZID=America/Detroit:20241023T200000
SUMMARY:Social / Informal Gathering:Science Café:  Disinformation\, Social Media\, and Elections
DESCRIPTION:Where do you get your news? How do \"fake news\" and social media affect your perspectives? New U-M research and scholarship can help us understand the widespread impact of disinformation and bias in our current ecosystem of social media and content sources. Please join Ariel Hasell from the Communication and Media department\, and Barbara McQuade of the U-M Law School\, for a discussion about truth\, trust\, government\, and how we can be effective and critical technology users and consumers. Professor McQuade has recently published the book: Attack from Within: How Disinformation is Sabotaging America\, and books will be available for sale.\nScience Cafés provide an opportunity for audiences to discuss current research topics with experts in an informal setting.\n\nPlease note special schedule:\nHors d’oeuvres at 6:00P.M.\nThe program begins at 6:30P.M.\nSeating is limited—come early.\n\nUMMNH would like to thank Conor O’Neill’s for 15+ years of support for our Science Cafés. Their continued commitment brings U-M faculty into the Ann Arbor community to discuss current research topics.
UID:127076-21858365@events.umich.edu
URL:https://events.umich.edu/event/127076
CLASS:PUBLIC
STATUS:CONFIRMED
CATEGORIES:natural history museum
LOCATION:Off Campus Location
CONTACT:
END:VEVENT
BEGIN:VEVENT
DTSTAMP:20260115T110339
DTSTART;TZID=America/Detroit:20241023T180000
DTEND;TZID=America/Detroit:20241023T193000
SUMMARY:Meeting:Stuttering Support Group
DESCRIPTION:This Stuttering Support Group is open to any teens and adults who stutter. It provides a safe space to connect\, share experiences\, and navigate challenges with one another.\n\nDate: Fourth Wednesday of every month\nTime: 6:00p.m.–7:30p.m.\nLocation: 3rd Floor Freespace\, Ann Arbor District Library - Downtown\n\nAttendees can also join virtually if they prefer. Please email cwsbrains@umich.edu to request the link to join.\n\n*This group meets on the 4th Wednesday of every month at the same time and place.*\n\nHosted by the Ann Arbor Stuttering Awareness and Research Club (A2STAR) in collaboration with the U-M Speech Neurophysiology Lab. The group is facilitated by students from the University of Michigan who stutter.
UID:121370-21857317@events.umich.edu
URL:https://events.umich.edu/event/121370
CLASS:PUBLIC
STATUS:CONFIRMED
CATEGORIES:Inclusion,Well-being,Virtual,Undergraduate Students,Student Org,Social,In Person,Graduate Students,Graduate and Professional Students,Free,Diversity Equity and Inclusion,Disability
LOCATION:Off Campus Location - 3rd Floor Freespace
CONTACT:
END:VEVENT
BEGIN:VEVENT
DTSTAMP:20241107T123140
DTSTART;TZID=America/Detroit:20241023T180000
DTEND;TZID=America/Detroit:20241023T190000
SUMMARY:Careers / Jobs:Triangle Insights Group Info Session | University of Michigan PhD
DESCRIPTION:Join us to learn about a career in life sciences consultingand understand how we blend scientific expertise and business acumen to guide pharmaceutical and biotechnology companies through complex challengeswhile providing them with strategic insights within the evolving world ofhealthcare. There will be a short presentation followed byan open Q&amp\;A session. This event is targeted toward PhD students seeking a 2025 full-time or internship role.
UID:126309-21856867@events.umich.edu
URL:https://events.umich.edu/event/126309
CLASS:PUBLIC
STATUS:CONFIRMED
CATEGORIES:
LOCATION:
CONTACT:
END:VEVENT
END:VCALENDAR