BEGIN:VCALENDAR
VERSION:2.0
PRODID:-//UM//UM*Events//EN
CALSCALE:GREGORIAN
BEGIN:VTIMEZONE
TZID:America/Detroit
TZURL:http://tzurl.org/zoneinfo/America/Detroit
X-LIC-LOCATION:America/Detroit
BEGIN:DAYLIGHT
TZOFFSETFROM:-0500
TZOFFSETTO:-0400
TZNAME:EDT
DTSTART:20070311T020000
RRULE:FREQ=YEARLY;BYMONTH=3;BYDAY=2SU
END:DAYLIGHT
BEGIN:STANDARD
TZOFFSETFROM:-0400
TZOFFSETTO:-0500
TZNAME:EST
DTSTART:20071104T020000
RRULE:FREQ=YEARLY;BYMONTH=11;BYDAY=1SU
END:STANDARD
END:VTIMEZONE
BEGIN:VEVENT
DTSTAMP:20241111T093833
DTSTART;TZID=America/Detroit:20241114T173000
DTEND;TZID=America/Detroit:20241114T183000
SUMMARY:Presentation:Dinner for Democracy: Education Policy
DESCRIPTION:Note: this is a virtual event open to students on all three University of Michigan campuses.\n\nPublic schools are run and funded by the government. The federal\, state\, and local governments all play a role in shaping education policy\, but which areas of government influence different areas of policy in our schools? \n\nJoin Turn Up Turnout for a nonpartisan\, educational presentation on Education Policy to find out. GIFT CARD for participants. *Please note that gift cards will not be sent immediately and will take a few weeks to process.*\n\n Register here: https://sessions.studentlife.umich.edu/track/event/session/81566
UID:129000-21862002@events.umich.edu
URL:https://events.umich.edu/event/129000
CLASS:PUBLIC
STATUS:CONFIRMED
CATEGORIES:Discussion,Virtual,Government,Free,Democratic Engagement,Democracy,Civic Engagement
LOCATION:Off Campus Location
CONTACT:
END:VEVENT
BEGIN:VEVENT
DTSTAMP:20241114T102039
DTSTART;TZID=America/Detroit:20241114T173000
DTEND;TZID=America/Detroit:20241114T190000
SUMMARY:Workshop / Seminar:F24 OS Info Night
DESCRIPTION:
UID:126970-21858195@events.umich.edu
URL:https://events.umich.edu/event/126970
CLASS:PUBLIC
STATUS:CONFIRMED
CATEGORIES:Sessions
LOCATION:CCCB 0420
CONTACT:
END:VEVENT
BEGIN:VEVENT
DTSTAMP:20240925T150227
DTSTART;TZID=America/Detroit:20241114T173000
DTEND;TZID=America/Detroit:20241114T190000
SUMMARY:Presentation:Organizational Studies Info Night
DESCRIPTION:OS is an interdisciplinary major based in the social sciences where students customize their own education. Enjoy a small community of dedicated and ambitious students with access to top-notch faculty and an engaged alumni network. \n\nAt Info Night\, you'll hear from the Program Director\, Major Advisor\, Current OS students\, and OS alumni. Topics covered include curriculum\, admissions\, and career/graduate study options. \n\nRegister now: https://myumi.ch/M65gx
UID:126967-21858191@events.umich.edu
URL:https://events.umich.edu/event/126967
CLASS:PUBLIC
STATUS:CONFIRMED
CATEGORIES:Majors,Undergraduate
LOCATION:Central Campus Classroom Building - 0420
CONTACT:
END:VEVENT
END:VCALENDAR