BEGIN:VCALENDAR
VERSION:2.0
PRODID:-//UM//UM*Events//EN
CALSCALE:GREGORIAN
BEGIN:VTIMEZONE
TZID:America/Detroit
TZURL:http://tzurl.org/zoneinfo/America/Detroit
X-LIC-LOCATION:America/Detroit
BEGIN:DAYLIGHT
TZOFFSETFROM:-0500
TZOFFSETTO:-0400
TZNAME:EDT
DTSTART:20070311T020000
RRULE:FREQ=YEARLY;BYMONTH=3;BYDAY=2SU
END:DAYLIGHT
BEGIN:STANDARD
TZOFFSETFROM:-0400
TZOFFSETTO:-0500
TZNAME:EST
DTSTART:20071104T020000
RRULE:FREQ=YEARLY;BYMONTH=11;BYDAY=1SU
END:STANDARD
END:VTIMEZONE
BEGIN:VEVENT
DTSTAMP:20240416T181528
DTSTART;TZID=America/Detroit:20240416T190000
SUMMARY:Sporting Event:Softball vs Michigan State
DESCRIPTION:Softball vs Michigan State
UID:120663-21845106@events.umich.edu
URL:https://events.umich.edu/event/120663
CLASS:PUBLIC
STATUS:CONFIRMED
CATEGORIES:Athletics,Athletics - Softball
LOCATION:Alumni Field
CONTACT:
END:VEVENT
BEGIN:VEVENT
DTSTAMP:20240416T192020
DTSTART;TZID=America/Detroit:20240416T200000
DTEND;TZID=America/Detroit:20240416T220000
SUMMARY:Workshop / Seminar:IGR/RC Players 4/16/2024 (CommonGround)
DESCRIPTION:
UID:121374-21846472@events.umich.edu
URL:https://events.umich.edu/event/121374
CLASS:PUBLIC
STATUS:CONFIRMED
CATEGORIES:Sessions
LOCATION:
CONTACT:
END:VEVENT
BEGIN:VEVENT
DTSTAMP:20231026T102334
DTSTART;TZID=America/Detroit:20240416T200000
SUMMARY:Performance:Suzanne Vega
DESCRIPTION:An intimate evening with a pioneer of alternative songwriting\n\nWidely regarded as one of the foremost songwriters of her generation\, Suzanne Vega emerged as a leading figure of the folk revival of the early 1980s when\, accompanying herself on acoustic guitar\, she sang what has been called contemporary folk or neo-folk songs of her own creation in Greenwich Village clubs. Her first gig came at age 12 with PeteSince the release of her self-titled\, critically acclaimed 1985 debut album\, she has been known for performances that convey deep emotion\, with NPR Music noting that she “has been making vital\, inventive music” throughout the course of her decades-long career. This is the first time we’ve hosted Suzanne in person since the pandemic\, and it should be a fabulous show!\n\nPlease visit https://mutotix.umich.edu/4470/4471 for more detail.
UID:114400-21832835@events.umich.edu
URL:https://events.umich.edu/event/114400
CLASS:PUBLIC
STATUS:CONFIRMED
CATEGORIES:Ark,Mutotix
LOCATION:ARK Reserved + Gold Circle
CONTACT:
END:VEVENT
END:VCALENDAR