BEGIN:VCALENDAR
VERSION:2.0
PRODID:-//UM//UM*Events//EN
CALSCALE:GREGORIAN
BEGIN:VTIMEZONE
TZID:America/Detroit
TZURL:http://tzurl.org/zoneinfo/America/Detroit
X-LIC-LOCATION:America/Detroit
BEGIN:DAYLIGHT
TZOFFSETFROM:-0500
TZOFFSETTO:-0400
TZNAME:EDT
DTSTART:20070311T020000
RRULE:FREQ=YEARLY;BYMONTH=3;BYDAY=2SU
END:DAYLIGHT
BEGIN:STANDARD
TZOFFSETFROM:-0400
TZOFFSETTO:-0500
TZNAME:EST
DTSTART:20071104T020000
RRULE:FREQ=YEARLY;BYMONTH=11;BYDAY=1SU
END:STANDARD
END:VTIMEZONE
BEGIN:VEVENT
DTSTAMP:20241014T141102
DTSTART;TZID=America/Detroit:20241023T180000
DTEND;TZID=America/Detroit:20241023T193000
SUMMARY:Workshop / Seminar:Volunteers Needed to Audit Polling Locations for Accessibility for Voters with Disabilities in Washtenaw County!
DESCRIPTION:The UMSSW is partnering with Detroit Disability Power (DDP) to expand their access audits of polling locations to Washtenaw County!\nFaculty\, Staff\, and students - join us as a volunteer to ensure that polling locations are accessible to voters with disabilities!  \nVolunteers must attend one of the two following trainings to be eligible to help. Register at the links below:\n\n- October 18th\, 12-2 pm\, in-person\, School of Social Work Building\, Rm 1840\, 1080 South University Avenue\, Ann Arbor\, MI 48109:\nRSVP:  https://ssw.umich.edu/assets/rsvp-request/index.php?page=register&id=W827\n\nOR\n\n-October 23rd\, 6-7:30 pm\, via Zoom. Zoom link will be sent upon registration.\nRSVP: https://ssw.umich.edu/assets/rsvp-request/index.php?page=register&id=W840\n\nVolunteering will occur on Elections Day\, Tuesday\, Nov 05th!\n\nAttend the trainings to sign-up for your preferred volunteer date and to receive your polling location assignments.\nSchool of Social Work students can receive field credit for volunteering with approval of their field instructors. \nOther students: please check with your school or class instructor to receive volunteering or course credit.\n\nRead about DDP's access audits during the 2022 elections as featured in the news:\n\nWDET Article: \nhttps://wdet.org/2023/10/11/detroit-polling-locations-largely-not-accessible-to-disabled-voters-audit-finds/\n\nACLU Michigan: \nhttps://www.aclumich.org/en/news/disability-rights-and-voting-access\n\nPBS Detroit: \nhttps://www.pbs.org/newshour/nation/in-michigan-new-bills-seek-to-expand-voting-rights
UID:127768-21859729@events.umich.edu
URL:https://events.umich.edu/event/127768
CLASS:PUBLIC
STATUS:CONFIRMED
CATEGORIES:Workshop,Civic Engagement,Democratic Engagement,Politics,Social Justice,Social Sciences,Volunteer
LOCATION:
CONTACT:
END:VEVENT
BEGIN:VEVENT
DTSTAMP:20241023T180007
DTSTART;TZID=America/Detroit:20241023T183000
DTEND;TZID=America/Detroit:20241023T201500
SUMMARY:Other:Karate Practice
DESCRIPTION:\"True karate is this: that in daily life one's mind and body be trained and developed in a spirit of humility\, and that in critical times\, one be devoted utterly to the cause of justice.\"\n--Gichin Funakoshi- Founder of Shotokan Karate Fall 2024 Practice Schedule Wednesday 6:30pm - 8:15pm  @  Gretchen's House\, 1580 Dhu Varren Rd Sunday 2:30pm - 4:30pm  @  B225 Medium Multi-purpose Room\, Intramural Sports Building (please complete the liability waiver prior to your first Sunday practice)    Exceptions -- Sunday 9/1 practice 2-4pm\; no practice on 10/13 & 12/1New members are always welcome. No previous experience is necessary. Just come to any practice. You may watch a practice or actually participate when you come. If you want to participate\, wear loose fitting clothes\, trim your nails\, and no jewelry.
UID:125372-21854875@events.umich.edu
URL:https://events.umich.edu/event/125372
CLASS:PUBLIC
STATUS:CONFIRMED
CATEGORIES:
LOCATION:Gretchen&#039;s House
CONTACT:
END:VEVENT
BEGIN:VEVENT
DTSTAMP:20250305T091806
DTSTART;TZID=America/Detroit:20241023T183000
DTEND;TZID=America/Detroit:20241023T200000
SUMMARY:Lecture / Discussion:Katie Barnes: How Did We Get Here? Queer and Trans Athletes in Sports
DESCRIPTION:Join us for an interview-style talkback and Q&A with ESPN sports journalist Katie Barnes\, who will discuss their work covering transgender student athletes and their recent book\, \"Fair Play: How Sports Shape the Gender Debates.\" Katie will also draw on historical context to help make meaning of anti-trans legislation that impacts the experiences of student athletes around the world.\n\nABOUT KATIE\nKatie Barnes (they/them) is an award-winning journalist and author. Their first book\, Fair Play: How Sports Shape the Gender Debates chronicles the relationship between sports and gender while focusing on transgender athletes and the movement to keep them out of girls’ and women’s sports. Fair Play received starred reviews from Booklist and Kirkus\, a positive review from the Washington Post\, and was named a “Must-Read Book of 2023\" by Time Magazine.\n\nAs a narrative feature writer at ESPN\, Katie's writing has focused on a number of topics ranging across sports\, but they have a particular concentration on gender.  Since joining ESPN\, Katie has written almost exclusively about women\, LGBTQ athletes\, and pop culture. Most of their writing explores big ideas\, from how law and policy affects transgender athletes to how the intersection of race\, sexuality\, and gender expression affects the marketability of WNBA athletes to what makes “Bring It On” such an iconic sports movie. As a journalist and cultural commentator\, Katie has been interviewed by MSNBC\, CNN\, NPR\, WNYC\, multiple ESPN platforms\, and numerous podcasts about these topics. They were honored for their work by NLGJA – The Association of LGBTQ Journalists as the 2017 Journalist of the Year.\n\nNOTE: NO CAMPAIGNING OR CAMPAIGN ATTIRE\nUMMA\, our venue for this event\, is separately hosting the satellite office of the Ann Arbor City Clerk. As an official polling location\, and in accordance with Michigan state law\, campaigning and campaign attire is prohibited within 100 feet of the museum.\n\nLGBT HISTORY MONTH\nLGBT History Month is presented by Spectrum Center\, and events are presented by units across campus. Find more LGBT History Month events at spectrumcenter.umich.edu/lgbt-history-month.
UID:126525-21857258@events.umich.edu
URL:https://events.umich.edu/event/126525
CLASS:PUBLIC
STATUS:CONFIRMED
CATEGORIES:lgbt,LGBTQ History Month,lgbtq,Lgbt History Month,Books,Athletics,Diversity Equity and Inclusion
LOCATION:Museum of Art - Helmut Stern Auditorium
CONTACT:
END:VEVENT
END:VCALENDAR