BEGIN:VCALENDAR
VERSION:2.0
PRODID:-//UM//UM*Events//EN
CALSCALE:GREGORIAN
BEGIN:VTIMEZONE
TZID:America/Detroit
TZURL:http://tzurl.org/zoneinfo/America/Detroit
X-LIC-LOCATION:America/Detroit
BEGIN:DAYLIGHT
TZOFFSETFROM:-0500
TZOFFSETTO:-0400
TZNAME:EDT
DTSTART:20070311T020000
RRULE:FREQ=YEARLY;BYMONTH=3;BYDAY=2SU
END:DAYLIGHT
BEGIN:STANDARD
TZOFFSETFROM:-0400
TZOFFSETTO:-0500
TZNAME:EST
DTSTART:20071104T020000
RRULE:FREQ=YEARLY;BYMONTH=11;BYDAY=1SU
END:STANDARD
END:VTIMEZONE
BEGIN:VEVENT
DTSTAMP:20240411T181623
DTSTART;TZID=America/Detroit:20240416T200000
DTEND;TZID=America/Detroit:20240416T220000
SUMMARY:Performance:University Philharmonia Orchestra
DESCRIPTION:The UPO gives the first performance of a Bruckner symphony by a U-M orchestra in over two decades. Bruckner's farewell to life and music is one of the most moving works in the repertoire\, paired in this program with Leopold Stokowski's opulent arrangement of Debussy's *The Engulfed Cathedral*.\n\nJayce Ogren\, conductor\n\nPROGRAM\n\nDebussy\, arr. Stokowski\, *La cathédrale engloutie*                                                        \n\nBruckner\, Symphony #9
UID:108756-21820356@events.umich.edu
URL:https://events.umich.edu/event/108756
CLASS:PUBLIC
STATUS:CONFIRMED
CATEGORIES:Concert,Free,Music
LOCATION:Hill Auditorium
CONTACT:
END:VEVENT
BEGIN:VEVENT
DTSTAMP:20240501T120006
DTSTART;TZID=America/Detroit:20240417T000000
DTEND;TZID=America/Detroit:20240417T235959
SUMMARY:Social / Informal Gathering:IdeaHub Check-In
DESCRIPTION:Please check-in when visiting the IdeaHub.
UID:120861-21845473@events.umich.edu
URL:https://events.umich.edu/event/120861
CLASS:PUBLIC
STATUS:CONFIRMED
CATEGORIES:
LOCATION:IdeaHub
CONTACT:
END:VEVENT
BEGIN:VEVENT
DTSTAMP:20240401T083109
DTSTART;TZID=America/Detroit:20240417T000000
DTEND;TZID=America/Detroit:20240417T235900
SUMMARY:Recreational / Games:LSA@Play: Where's Maizie? Campus Challenge
DESCRIPTION:How well do you know campus? Each day from April 15-18 we will post a picture of Maizie the squirrel somewhere on central campus and include a clue. Guess where Maizie is that day for a chance to win an item from the LSA swag store!\n\nHow to Play:\n\n1. Each day\, check LSA’s Instagram account: UMichLSA for the Where’s Maizie? post of the day.\n2. Submit your guess via the Instagram Story by the end of the day.\n3. The previous day’s location will be revealed when the next clue is posted. \n\nA prize will be awarded for the correct guess on each post!\nNote: Correct duplicate guesses will be entered into a random drawing for the prize.\n\n__________\nFor LSA undergrads only.\n\nLSA@Play is a series of events to welcome and support LSA students. Gatherings and activities offer opportunities for students to prioritize self-care\, inclusivity\, and community. Plus\, get free food and LSA swag!\n\nVisit the LSA@Play webpage: lsa.umich.edu/play for more details\, sign-up to receive text/email updates\, and check for additional events being added soon!\n\nAccessibility: Please let us know how we can ensure an event is inclusive to you. If you have accommodations or access needs that can we help facilitate\, please email lsaatplay@umich.edu. Advance notice is necessary for some accommodations to be fully implemented\, but we will always attempt to remove those barriers.\n\n* While supplies last. One swag item per student\, must be present with MCard to receive.
UID:120990-21845643@events.umich.edu
URL:https://events.umich.edu/event/120990
CLASS:PUBLIC
STATUS:CONFIRMED
CATEGORIES:Games,Inclusion
LOCATION:Off Campus Location - https://www.instagram.com/umichlsa/
CONTACT:
END:VEVENT
END:VCALENDAR