BEGIN:VCALENDAR
VERSION:2.0
PRODID:-//UM//UM*Events//EN
CALSCALE:GREGORIAN
BEGIN:VTIMEZONE
TZID:America/Detroit
TZURL:http://tzurl.org/zoneinfo/America/Detroit
X-LIC-LOCATION:America/Detroit
BEGIN:DAYLIGHT
TZOFFSETFROM:-0500
TZOFFSETTO:-0400
TZNAME:EDT
DTSTART:20070311T020000
RRULE:FREQ=YEARLY;BYMONTH=3;BYDAY=2SU
END:DAYLIGHT
BEGIN:STANDARD
TZOFFSETFROM:-0400
TZOFFSETTO:-0500
TZNAME:EST
DTSTART:20071104T020000
RRULE:FREQ=YEARLY;BYMONTH=11;BYDAY=1SU
END:STANDARD
END:VTIMEZONE
BEGIN:VEVENT
DTSTAMP:20241023T180018
DTSTART;TZID=America/Detroit:20241023T183000
DTEND;TZID=America/Detroit:20241023T193000
SUMMARY:Meeting:Music Meditation Session + Free Dinner!
DESCRIPTION:Join us every Wednesday in East Quad 1511 from 6:30-7:30 for a fun evening of meditation with live musical accompaniment\, breathing exercises\, insightful discussions\, and a free vegetarian dinner! Open to anyone\, regardless of meditation experience! If you're looking for a place to relax and destress in the middle of your busy week\, this club is for you! 
UID:128082-21860156@events.umich.edu
URL:https://events.umich.edu/event/128082
CLASS:PUBLIC
STATUS:CONFIRMED
CATEGORIES:
LOCATION:East Quad 1511
CONTACT:
END:VEVENT
BEGIN:VEVENT
DTSTAMP:20241008T101250
DTSTART;TZID=America/Detroit:20241023T183000
DTEND;TZID=America/Detroit:20241023T203000
SUMMARY:Other:Poetry Reading with Zafer Şenocak\, 2024 Max Kade Writer-in-Residence
DESCRIPTION:This will be a bilingual Poetry Reading in Turkish and English from Zafer Şenocak's latest book\, *First Light* (Zephyr Press\, 2024) \n\nZafer Şenocak is a prolific Turkish-German poet\, novelist\, essayist and public intellectual\, who has published more than 30 books over the past 40 years. Born in Turkey\, Şenocak moved to Germany as a child\, and has lived in Berlin as a freelance writer since 1989. He has written widely on issues of diversity in Germany\, migration and exile\, the Turkish diaspora\, and the small distances and great fears of a globalizing Europe. Historical questions of mixed and broken identities are key to his novels\, which utilize nonlinear modes of storytelling to emphasize the fragmented nature of memory. His writing includes poetry and novels in both German and Turkish\, and he is a frequent contributor to nationwide German newspapers\, like Tageszeitung\, Tagesspiegel and Die Welt. Şenocak’s work has been translated into English\, Spanish\, Italian\, French\, and Czech. \n\nŞenocak has been a writer in residence at UC Berkeley\, M.I.T.\, Oberlin College\, Dartmouth College\, and the University of Arizona. He is currently in residence at the University of Michigan during the Fall 2024 term. A volume of his German-language poems appeared in English translation as *Door Languages* in 2008 (trans. Elizabeth Oehlkers-Wright\, Zephyr Press). And his essay collection \"Atlas of a Tropical Germany\" was edited and translated by Prof. Leslie A. Adelson in 2000 (Nebraska Press). Most recently\, his Turkish-language poetry has been translated into English by UM Professor Kristin Dickinson\, which appeared in a bilingual edition with Zephyr Press in 2024 under the title\, *First Light*.\n\nZafer's visit is sponsored by the Department of Germanic Languages and Literatures and the Max Kade Foundation.
UID:127385-21858965@events.umich.edu
URL:https://events.umich.edu/event/127385
CLASS:PUBLIC
STATUS:CONFIRMED
CATEGORIES:Books,Europe,German,German Studies,Germanic Languages And Literatures,Germany,Language,Max Kade,Poetry,Translation,World Literature
LOCATION:Off Campus Location
CONTACT:
END:VEVENT
BEGIN:VEVENT
DTSTAMP:20241023T180011
DTSTART;TZID=America/Detroit:20241023T183000
DTEND;TZID=America/Detroit:20241023T213000
SUMMARY:Exercise / Fitness:Swing Ann Arbor: Weekly Beginner Lesson + Social Dance
DESCRIPTION:Swing Ann Arbor hosts a beginner drop-in lesson and social dance every Wednesday! No partner or experience needed. You do not need to be student of the University of Michigan to attend. Just bring yourself and some comfy shoes! WHEN:\nJoin us Wednesdays from 6:30-7:30pm for a free beginner drop-in lesson\, followed by a social dance from 7:30-9:30pm!  COST:\nAdmission to beginner drop-in lesson: FREE!\nAdmission to social dance: $5 or FREE if you take the beginner drop-in lesson/are an SAA member Photo Credit: Samantha Kunz Photography
UID:126197-21856668@events.umich.edu
URL:https://events.umich.edu/event/126197
CLASS:PUBLIC
STATUS:CONFIRMED
CATEGORIES:
LOCATION:Vandenberg Room (2nd floor)
CONTACT:
END:VEVENT
END:VCALENDAR