BEGIN:VCALENDAR
VERSION:2.0
PRODID:-//UM//UM*Events//EN
CALSCALE:GREGORIAN
BEGIN:VTIMEZONE
TZID:America/Detroit
TZURL:http://tzurl.org/zoneinfo/America/Detroit
X-LIC-LOCATION:America/Detroit
BEGIN:DAYLIGHT
TZOFFSETFROM:-0500
TZOFFSETTO:-0400
TZNAME:EDT
DTSTART:20070311T020000
RRULE:FREQ=YEARLY;BYMONTH=3;BYDAY=2SU
END:DAYLIGHT
BEGIN:STANDARD
TZOFFSETFROM:-0400
TZOFFSETTO:-0500
TZNAME:EST
DTSTART:20071104T020000
RRULE:FREQ=YEARLY;BYMONTH=11;BYDAY=1SU
END:STANDARD
END:VTIMEZONE
BEGIN:VEVENT
DTSTAMP:20241129T123159
DTSTART;TZID=America/Detroit:20241114T180000
DTEND;TZID=America/Detroit:20241114T190000
SUMMARY:Careers / Jobs:A&M Restructuring l Women in Restructuring Virtual Presentation
DESCRIPTION:Alvarez &amp\; Marsal (A&amp\;M) is excited to invite you to our Women in Restructuring Virtual Presentation! This session is to celebrate our core value of Inclusive Diversity and the growth of our women talent across our offices! We also will discuss our open consulting restructuring internship opportunities for 2026. This event is open to all studentrepresentation.   About A&amp\;M Restructuring: Privately-held since 1983\, Alvarez &amp\; Marsal (“A&amp\;M”) is a leading global professional services firm that delivers performance improvement\, turnaround management\, and business advisory services to organizations seeking to transform operations\, catapult growth and accelerate results through decisive action.   For over 40 years A&amp\;M has been a trusted advisor to our Turnaround and Restructuring clients. Our team works on some of the most complex and interesting projects available. If you're interested in restructuring consulting and looking fora new challenge\, a fast-paced team environment and an inclusive culture\, check out our presentation!  #Likewhatyoudo #lovewhoyoudoitwith 
UID:128890-21861864@events.umich.edu
URL:https://events.umich.edu/event/128890
CLASS:PUBLIC
STATUS:CONFIRMED
CATEGORIES:
LOCATION:
CONTACT:
END:VEVENT
BEGIN:VEVENT
DTSTAMP:20241113T000025
DTSTART;TZID=America/Detroit:20241114T180000
DTEND;TZID=America/Detroit:20241114T190000
SUMMARY:Lecture / Discussion:Apologetics: Challenge your thinking (over pizza!) with Ratio Christi Thursdays.
DESCRIPTION:Hi all\,We are excited to invite you to Ratio Christi Meeting this Thursday 11/14 from 6-7 pm! The question for this week is: \"How do Christianity and Buddhism  differ?\" Our meeting will be held at the Study Center at 611 1/2 E. William St. Ann Arbor. This is a safe space for inquiring about religion and faith. Your perspectives are valued in fostering a thoughtful understanding of these subjects. All are welcome!! There will be pizza! If you are interested in learning more about us\, you can join the Ratio Christi Maize page for updates and discussions: Ratio Christi Maize page. We're also active on Instagram: Ratio Christi Instagram page. We are excited to see you all soon and please feel free to reach out with any questions! Sincerely\,Ratio Christi Team 😊
UID:128954-21861946@events.umich.edu
URL:https://events.umich.edu/event/128954
CLASS:PUBLIC
STATUS:CONFIRMED
CATEGORIES:
LOCATION:Study Center 
CONTACT:
END:VEVENT
BEGIN:VEVENT
DTSTAMP:20241106T112025
DTSTART;TZID=America/Detroit:20241114T180000
DTEND;TZID=America/Detroit:20241114T200000
SUMMARY:Social / Informal Gathering:Eat and Embrace: A Stockwell Colombian Cooking Night
DESCRIPTION:Join the DPEs\, to watch a film celebrating Colombian culture while also learning how to make one of the iconic dishes from the film! All are welcome!
UID:128728-21861565@events.umich.edu
URL:https://events.umich.edu/event/128728
CLASS:PUBLIC
STATUS:CONFIRMED
CATEGORIES:Community,Culture,Diversity Peer Educators,Food,free,Free Food,Movie
LOCATION:Stockwell Hall - Rosa Parks Minority Culture Lounge
CONTACT:
END:VEVENT
END:VCALENDAR