BEGIN:VCALENDAR
VERSION:2.0
PRODID:-//UM//UM*Events//EN
CALSCALE:GREGORIAN
BEGIN:VTIMEZONE
TZID:America/Detroit
TZURL:http://tzurl.org/zoneinfo/America/Detroit
X-LIC-LOCATION:America/Detroit
BEGIN:DAYLIGHT
TZOFFSETFROM:-0500
TZOFFSETTO:-0400
TZNAME:EDT
DTSTART:20070311T020000
RRULE:FREQ=YEARLY;BYMONTH=3;BYDAY=2SU
END:DAYLIGHT
BEGIN:STANDARD
TZOFFSETFROM:-0400
TZOFFSETTO:-0500
TZNAME:EST
DTSTART:20071104T020000
RRULE:FREQ=YEARLY;BYMONTH=11;BYDAY=1SU
END:STANDARD
END:VTIMEZONE
BEGIN:VEVENT
DTSTAMP:20241004T131656
DTSTART;TZID=America/Detroit:20241023T183000
DTEND;TZID=America/Detroit:20241023T200000
SUMMARY:Other:Tacos n' Trivia
DESCRIPTION:Ready for a journey across different centuries\, places\, and disciplines? Join the public humanities interns for an evening full of fun and excitement! Test and expand your knowledge as we throw you questions about the iconic moments of the humanities world. Food is provided\, and we have prizes waiting for you\, so be prepared\, teams! Everyone is welcome -- come for the trivia\, stay for our shared enthusiasm for the humanities!\n\n\nRegistration is required for food ordering purposes. Register on Sessions at https://myumi.ch/G4x31.
UID:127414-21859014@events.umich.edu
URL:https://events.umich.edu/event/127414
CLASS:PUBLIC
STATUS:CONFIRMED
CATEGORIES:Undergraduate Students,Sessions,Humanities
LOCATION:South Thayer Building
CONTACT:
END:VEVENT
BEGIN:VEVENT
DTSTAMP:20241003T104327
DTSTART;TZID=America/Detroit:20241023T190000
DTEND;TZID=America/Detroit:20241023T203000
SUMMARY:Lecture / Discussion:Arab and Muslim Americans and the U.S. Presidential Election: Uncommitted or Unrequited?
DESCRIPTION:Muslim Americans are deeply concerned about the Gaza crisis\, for some it is prioritized over other issues. Despite being integrated into American society\, they also care about the economy\, climate change\, healthcare\, and immigration. Viewing themselves as part of the global Muslim community\, they are affected by the over 40\,000 deaths in Gaza\, mostly women and children\, due to the belief that harm to one part of the \"ummah\" affects all. This connection\, often just one degree removed from individuals in Gaza\, complicates their stance in the presidential election.\n\nWe will discuss these issues with Dr. Youssef Chouhoud\, an Assistant Professor of Political Science affiliated with the Reiff Center for Human Rights and Conflict Resolution at Christopher Newport University.
UID:127197-21858644@events.umich.edu
URL:https://events.umich.edu/event/127197
CLASS:PUBLIC
STATUS:CONFIRMED
CATEGORIES:politics,American Culture,Amas,Arab,Arab And Muslim American Studies,arabic,Discussion,Muslim,Political Science
LOCATION:Michigan League - Kalamazoo Room
CONTACT:
END:VEVENT
BEGIN:VEVENT
DTSTAMP:20241017T094503
DTSTART;TZID=America/Detroit:20241023T190000
DTEND;TZID=America/Detroit:20241023T210000
SUMMARY:Exhibition:Canvas of Identity
DESCRIPTION:\"Canvas of Identity\" is not just an art exhibition but a celebration of culture and diversity. We are excited to invite you to participate. Our event aims to bring together students and the community to explore and showcase themes of identity and cultural heritage through various forms of artistic expression. This is an incredible opportunity for artists\, poets\, musicians\, photographers\, and dancers to express their individuality and cultural heritage. It's a moment to shine and connect with others passionate about celebrating identity and diversity through art.\n\nSponsored by La Casa\, with support from MESA.
UID:127962-21859978@events.umich.edu
URL:https://events.umich.edu/event/127962
CLASS:PUBLIC
STATUS:CONFIRMED
CATEGORIES:Art,Diversity Equity and Inclusion,Exhibition,Latine Heritage Month,Latinx Heritage Month
LOCATION:Michigan League - Ballroom
CONTACT:
END:VEVENT
END:VCALENDAR