BEGIN:VCALENDAR
VERSION:2.0
PRODID:-//UM//UM*Events//EN
CALSCALE:GREGORIAN
BEGIN:VTIMEZONE
TZID:America/Detroit
TZURL:http://tzurl.org/zoneinfo/America/Detroit
X-LIC-LOCATION:America/Detroit
BEGIN:DAYLIGHT
TZOFFSETFROM:-0500
TZOFFSETTO:-0400
TZNAME:EDT
DTSTART:20070311T020000
RRULE:FREQ=YEARLY;BYMONTH=3;BYDAY=2SU
END:DAYLIGHT
BEGIN:STANDARD
TZOFFSETFROM:-0400
TZOFFSETTO:-0500
TZNAME:EST
DTSTART:20071104T020000
RRULE:FREQ=YEARLY;BYMONTH=11;BYDAY=1SU
END:STANDARD
END:VTIMEZONE
BEGIN:VEVENT
DTSTAMP:20241129T123149
DTSTART;TZID=America/Detroit:20241114T180000
DTEND;TZID=America/Detroit:20241114T193000
SUMMARY:Careers / Jobs:Explore Macquarie @ University of Michigan
DESCRIPTION:Come to our information session and discover how at Macquarie\, you’re empowered to shape a career that is fulfilling and creates value — whether that’s investing in essential infrastructure\, driving technological innovation\, giving back to our communities or expanding your expertise into new areas. Hear from our employees and alumni who will bepresenting and answering questions about Macquarie.We invite you to explore the upcoming internship for Summer 2026. All years and majors are welcome to attend -- it will be most valuable for students graduating inDecember 2026/Spring 2027 or later.
UID:128612-21861364@events.umich.edu
URL:https://events.umich.edu/event/128612
CLASS:PUBLIC
STATUS:CONFIRMED
CATEGORIES:
LOCATION:
CONTACT:
END:VEVENT
BEGIN:VEVENT
DTSTAMP:20241129T123117
DTSTART;TZID=America/Detroit:20241114T180000
DTEND;TZID=America/Detroit:20241114T190000
SUMMARY:Careers / Jobs:How to Launch a Career in the Federal Government | Virtual Info Sessions
DESCRIPTION:Are you a student or recent graduate passionate about making a difference? Join us this fall for our virtual information sessions hosted by the Partnership for Public Service! Our Call to Serve team is excited to guide you through the pathways to impactful careers in the federal government. The Partnership’s Call to Serve team will share: \nEntry-level government opportunities\, including internship and fellowship programs.\nPractical tips to navigate the federal hiring process.\nTools for effectively searching government jobs.\nThis is a unique chance to gain valuable insights and set yourself on a path to make a meaningful impact in the federal government. Don’t miss out—spaces are limited\, so secure your spot today by signing up here.  Participants are required to sign up on our website\, do not sign up via Handshake! 
UID:126282-21856840@events.umich.edu
URL:https://events.umich.edu/event/126282
CLASS:PUBLIC
STATUS:CONFIRMED
CATEGORIES:
LOCATION:
CONTACT:
END:VEVENT
BEGIN:VEVENT
DTSTAMP:20241129T123158
DTSTART;TZID=America/Detroit:20241114T180000
DTEND;TZID=America/Detroit:20241114T190000
SUMMARY:Careers / Jobs:Law Panel Marine Corps Attorney Q&A
DESCRIPTION:Interested on what it's like to be an attorney &amp\; Marine?  We will host a virtual law panel with three Marine Corps attorneys on Thursday\, 14 Nov at 6pm EST.  During this event students and other participants will hear from young lawyers who are currently serving as Marine Corps Officers practicing law. The panelist will share their stories and share information about career paths as aMarine Corps attorney. Attendees will also have an opportunity to have questions answered.  
UID:128802-21861644@events.umich.edu
URL:https://events.umich.edu/event/128802
CLASS:PUBLIC
STATUS:CONFIRMED
CATEGORIES:
LOCATION:
CONTACT:
END:VEVENT
END:VCALENDAR