BEGIN:VCALENDAR
VERSION:2.0
PRODID:-//UM//UM*Events//EN
CALSCALE:GREGORIAN
BEGIN:VTIMEZONE
TZID:America/Detroit
TZURL:http://tzurl.org/zoneinfo/America/Detroit
X-LIC-LOCATION:America/Detroit
BEGIN:DAYLIGHT
TZOFFSETFROM:-0500
TZOFFSETTO:-0400
TZNAME:EDT
DTSTART:20070311T020000
RRULE:FREQ=YEARLY;BYMONTH=3;BYDAY=2SU
END:DAYLIGHT
BEGIN:STANDARD
TZOFFSETFROM:-0400
TZOFFSETTO:-0500
TZNAME:EST
DTSTART:20071104T020000
RRULE:FREQ=YEARLY;BYMONTH=11;BYDAY=1SU
END:STANDARD
END:VTIMEZONE
BEGIN:VEVENT
DTSTAMP:20241023T180019
DTSTART;TZID=America/Detroit:20241023T190000
DTEND;TZID=America/Detroit:20241023T200000
SUMMARY:Social / Informal Gathering:Japanese \"Onigiri\" Rice-Ball Making 
DESCRIPTION:Join the Japanese Language Circle for special programming: learn how to make a convenience-store style Japanese rice-ball\, or \"onigiri\"\, that will stay fresh for a while! Instructions will be in English and Japanese\, and all levels of learners are welcome!Rice\, wrapping material\, and Furikake (typically fish and seaweed based seasoning) will be provided. If you wish to fill your rice-ball with something else\, feel free to bring your own filling. You can eat or take home your onigiri. Join the JLC discord here (https://discord.gg/UgA7hbdN)
UID:128128-21860208@events.umich.edu
URL:https://events.umich.edu/event/128128
CLASS:PUBLIC
STATUS:CONFIRMED
CATEGORIES:
LOCATION:South Thayer Building (STB) 2022
CONTACT:
END:VEVENT
BEGIN:VEVENT
DTSTAMP:20241023T135709
DTSTART;TZID=America/Detroit:20241023T190000
DTEND;TZID=America/Detroit:20241023T203000
SUMMARY:Livestream / Virtual:Pass the Mic
DESCRIPTION:A virtual open mic event featuring student writers from all 3 U-M campuses!\nU-M undergraduates can sign up to perform by emailing the Hopwood Program at hopwoodprogram@umich.edu.\nU-M students\, faculty\, and staff are all welcome at tinyurl.com/passthemic24
UID:128266-21860523@events.umich.edu
URL:https://events.umich.edu/event/128266
CLASS:PUBLIC
STATUS:CONFIRMED
CATEGORIES:Literature,Writing,Undergraduate Students,Reading,Poetry,Department Of English Language And Literature,Creative Writing,Books
LOCATION:Off Campus Location
CONTACT:
END:VEVENT
BEGIN:VEVENT
DTSTAMP:20240826T121909
DTSTART;TZID=America/Detroit:20241023T190000
DTEND;TZID=America/Detroit:20241023T200000
SUMMARY:Class / Instruction:Q+A (Queer and Affirming)
DESCRIPTION:We'll gather for discussion\, Bible or book studies\, and discover the intersection of faith and identity. This group is for the LGBTQIA2S+ community and allies.
UID:124924-21854077@events.umich.edu
URL:https://events.umich.edu/event/124924
CLASS:PUBLIC
STATUS:CONFIRMED
CATEGORIES:Lgbt,Social,Religious
LOCATION:Off Campus Location - Pine Room
CONTACT:
END:VEVENT
END:VCALENDAR